BEGIN:VCALENDAR
VERSION:2.0
PRODID:-//tamraghtlife.com - ECPv6.15.20//NONSGML v1.0//EN
CALSCALE:GREGORIAN
METHOD:PUBLISH
X-WR-CALNAME:tamraghtlife.com
X-ORIGINAL-URL:https://tamraghtlife.com
X-WR-CALDESC:Events for tamraghtlife.com
REFRESH-INTERVAL;VALUE=DURATION:PT1H
X-Robots-Tag:noindex
X-PUBLISHED-TTL:PT1H
BEGIN:VTIMEZONE
TZID:Africa/Casablanca
BEGIN:DAYLIGHT
TZOFFSETFROM:+0100
TZOFFSETTO:+0000
TZNAME:+00
DTSTART:20250223T020000
END:DAYLIGHT
BEGIN:STANDARD
TZOFFSETFROM:+0000
TZOFFSETTO:+0100
TZNAME:+01
DTSTART:20250406T020000
END:STANDARD
BEGIN:DAYLIGHT
TZOFFSETFROM:+0100
TZOFFSETTO:+0000
TZNAME:+00
DTSTART:20260215T020000
END:DAYLIGHT
BEGIN:STANDARD
TZOFFSETFROM:+0000
TZOFFSETTO:+0100
TZNAME:+01
DTSTART:20260322T020000
END:STANDARD
BEGIN:DAYLIGHT
TZOFFSETFROM:+0100
TZOFFSETTO:+0000
TZNAME:+00
DTSTART:20270207T020000
END:DAYLIGHT
BEGIN:STANDARD
TZOFFSETFROM:+0000
TZOFFSETTO:+0100
TZNAME:+01
DTSTART:20270314T020000
END:STANDARD
END:VTIMEZONE
BEGIN:VEVENT
DTSTART;TZID=Africa/Casablanca:20260417T200000
DTEND;TZID=Africa/Casablanca:20260418T010000
DTSTAMP:20260422T093620
CREATED:20260415T080425Z
LAST-MODIFIED:20260415T105038Z
UID:10086905-1776456000-1776474000@tamraghtlife.com
SUMMARY:🌴 🔥 ☀️ Palm party × YENSÜ & REDOE📍Taghazout
DESCRIPTION:FRIDAY\, April 17th — Beach party mode: ON 🌊🔥📍 @hyattregencytaghazout Beach Club🕒 8:00 PM – 1:00 AM \nCocktail of the day offered before 10PM 🍸Happy Hour 8:00 PM – 9:00 PM (2 = 3 on drinks) \n8PM – 10PM: REDOE10PM – 1AM: YENSÜ\n+ amazing dance shows 💃🏽 \nJoin us under the moonlight for a night you won’t forget 🌙Come early to experience the full journey \n\n🎟️ Tickets\nTamraght Life now has a limited online ticket allocation for this event \n€21.75 — Book online & guarantee your entry ⬇️Includes secure booking fee \n200 MAD — On the doorVery limited & subject to capacity (cash only) \n\n🍾 Table bookings with bottle (from 1500 dhs)📞 +212 766 642 934 \nAdults only — 21+ (ID required) \n#palmparty #taghazout #taghazoutbay #partytaghazout
URL:https://tamraghtlife.com/event/%f0%9f%8c%b4-%f0%9f%94%a5-%e2%98%80%ef%b8%8f-palm-party-x-yensu-redoe%f0%9f%93%8dtaghazout/
LOCATION:Hyatt Regency Taghazout\, Station touristique de Taghazout Bay km 17 route d'Essaouira BP 294\, Taghazout\, 80750
CATEGORIES:☀️ Tamraght Life,🎉 Party,🤙🏾 Taghazout Life
ATTACH;FMTTYPE=image/png:https://tamraghtlife.com/wp-content/uploads/2026/04/Untitled-1-2.png
ORGANIZER;CN="Palm Party events":MAILTO:Palmpartynights@gmail.com
END:VEVENT
BEGIN:VEVENT
DTSTART;TZID=Africa/Casablanca:20260418T080000
DTEND;TZID=Africa/Casablanca:20260418T090000
DTSTAMP:20260422T093620
CREATED:20260106T135637Z
LAST-MODIFIED:20260329T165428Z
UID:10066586-1776499200-1776502800@tamraghtlife.com
SUMMARY:🏋️‍♀️ 💪 Limitless Coaching Womens Fitness | Full Body
DESCRIPTION:💪 Full Body with DanniiJoin us for an empowering women’s fitness session focused on building strength\, tone and confidence from head to toe.This class is designed for all levels — whether you’re just starting your fitness journey or ready to challenge yourself. \n💫 What to expect:A dynamic full-body workout targeting arms\, core\, legs and glutes. Blending strength training\, mobility and fun energy.A supportive and motivating atmosphere to help you feel strong\, confident and connected as a community 💪Music\, movement and that post-class endorphin glow ✨ \n🎒 What to bring: \n• Comfortable workout clothes• Water bottle \n📍 Where:Location: Nassim Gym\, TamraghtCost: 100mad drop in price \nFor memberships\, offers & to join the ladies WhatsApp group email coachedbydannii@gmail.com or WhatApp +212 666 664 225 \n🌟 Let’s lift\, tone & grow stronger together! 🌟
URL:https://tamraghtlife.com/event/class-womens-fitness-full-body-session-tamraght/2026-04-18/
LOCATION:Nassim Gym\, Tamraght\, Morocco
CATEGORIES:☀️ Tamraght Life,🏋🏾‍♀️ Fitness
ATTACH;FMTTYPE=image/png:https://tamraghtlife.com/wp-content/uploads/2025/10/Untitled-3-2.png
ORGANIZER;CN="Dannii Askari%E2%94%83Limitless Coaching":MAILTO:coachedbydannii@gmail.com
END:VEVENT
BEGIN:VEVENT
DTSTART;TZID=Africa/Casablanca:20260418T113000
DTEND;TZID=Africa/Casablanca:20260418T123000
DTSTAMP:20260422T093620
CREATED:20260327T081142Z
LAST-MODIFIED:20260327T081142Z
UID:10075808-1776511800-1776515400@tamraghtlife.com
SUMMARY:🧘‍♂️ 🌼 Black Lotus Yoga with Petra
DESCRIPTION:Class 150mad\nPlease contact Kalananda directly for more details\, check availability & book
URL:https://tamraghtlife.com/event/%f0%9f%a7%98%e2%99%82%ef%b8%8f-%f0%9f%8c%bc-black-lotus-yoga-with-petra/2026-04-18/
LOCATION:Kalananda Yoga Studio\, Oued Tamraght rive droite\, Tamraght
CATEGORIES:☀️ Tamraght Life,❤️ Mindful Tamraght,🧘 Yoga
ATTACH;FMTTYPE=image/png:https://tamraghtlife.com/wp-content/uploads/2025/12/Untitled-2-13.png
END:VEVENT
BEGIN:VEVENT
DTSTART;TZID=Africa/Casablanca:20260418T113000
DTEND;TZID=Africa/Casablanca:20260418T130000
DTSTAMP:20260422T093620
CREATED:20260305T163931Z
LAST-MODIFIED:20260319T083547Z
UID:10043831-1776511800-1776517200@tamraghtlife.com
SUMMARY:📈 🤝 Weekly Business Community MeetUp
DESCRIPTION:Join Our Weekly Business Meetup! 🤝 \nEvery Saturday from 11:30 AM to 1:00 PM\, the Tamraght Business Community comes together for open\, honest conversations about building and growing our businesses. \nWhat happens at our meetups: \nWe create a space where local entrepreneurs and business owners can discuss the real challenges and opportunities we face—from financial management and growth strategies to marketing\, operations\, and everything in between. \nNo topic is off limits. Whether you’re just starting out or have years of experience\, these meetups are about learning from each other\, sharing insights\, and growing together. \nWhere and when : \n\n\nAmsiln Studio & Coworking\n\n\n\nEvery Saturday\, 11:30 AM – 1:00 PM
URL:https://tamraghtlife.com/event/meetup-weekly-business-community-meetup-tamraght-2-2/2026-04-18/
LOCATION:Amslin Studio\, Sahel\, Tamraght\, 80000
CATEGORIES:☀️ Tamraght Life,☕ Social,🤝 Network,🫂 Community
ORGANIZER;CN="Amsiln Studio":MAILTO:mlebsat@gmail.com
END:VEVENT
BEGIN:VEVENT
DTSTART;TZID=Africa/Casablanca:20260418T130000
DTEND;TZID=Africa/Casablanca:20260418T150000
DTSTAMP:20260422T093620
CREATED:20260129T151528Z
LAST-MODIFIED:20260417T144348Z
UID:10037992-1776517200-1776524400@tamraghtlife.com
SUMMARY:🧑‍🍳 🇲🇦 Cooking Morrocan Pastilla📍Aourir
DESCRIPTION:Traditional Moroccan Cooking Class! \nWe’re hosting a learning cooking session where we’ll prepare the traditional Moroccan dish of pastilla together. During the session\, you’ll discover the step-by-step preparation\, so you can confidently recreate it at home. \nAfter cooking\, we’ll sit down for & enjoy the pastilla we prepared together\, accompanied by traditional Moroccan tea & Moroccan sweets 🍵🧁\nYou’re welcome to come alone or with friends 🌿 \n🍲 Saturday 18 April \n⏰ **1:00 – 3:00 PM*\n📍 Aourir (near Tamraght) in secret garden\, location details will follow after you sign up!\n📩 DM me to join\n👉Instagram @imane.cooking.atelier \nSweet\, savoury & unforgetable
URL:https://tamraghtlife.com/event/cooking-class-pastilla/
LOCATION:Aourir Secret Garden\, Aourir\, Morocco
CATEGORIES:☀️ Tamraght Life,☕ Social,⛦ Moroccan Culture,🍌 Aourir Life
ATTACH;FMTTYPE=image/png:https://tamraghtlife.com/wp-content/uploads/2026/01/Scherm­afbeelding-2026-01-29-om-13.43.16-e1769699690861.png
ORGANIZER;CN="Imane":MAILTO:oualtite@gmail.com
END:VEVENT
BEGIN:VEVENT
DTSTART;TZID=Africa/Casablanca:20260418T140000
DTEND;TZID=Africa/Casablanca:20260418T150000
DTSTAMP:20260422T093620
CREATED:20251031T140118Z
LAST-MODIFIED:20260319T083643Z
UID:10007898-1776520800-1776524400@tamraghtlife.com
SUMMARY:📖 ☕️ Book Club at Nafas Coffeeshop
DESCRIPTION:Every Saturday at 2PM\, we will gather at Nafas Coffeeshop to share what we’re reading\, exchange recommendations\, discuss topics & discover new stories together. \nOur sessions are hosted by Meryam\, part of the Nafas team & a true book lover with a background in English literature from Agadir University. \nWhether you read every day or just want to start again\, you’re very welcome. Come enjoy good company\, a cozy atmosphere & of course\, great coffee ☕️ \n🧡 Free to join. Everyone welcome. 🤗 \nJoin the group chat to stay up to date and involved wherever you are \n🔗 https://chat.whatsapp.com/IpHdpVs4QO22qp5zmYsv59?mode=wwt \nJust bring your curiosity and a good vibe.
URL:https://tamraghtlife.com/event/meet-up-book-club-nafas-coffeeshop/2026-04-18/
LOCATION:Nafas Coffeeshop\, Tamraght
CATEGORIES:☀️ Tamraght Life,☕ Social,❤️ Mindful Tamraght,🎨 Creative,💸 Free
ATTACH;FMTTYPE=image/jpeg:https://tamraghtlife.com/wp-content/uploads/2025/10/Bookclub-e1761919229334.jpg
ORGANIZER;CN="Nafas":MAILTO:nafascoffeeshop@gmail.com
END:VEVENT
BEGIN:VEVENT
DTSTART;TZID=Africa/Casablanca:20260418T160000
DTEND;TZID=Africa/Casablanca:20260418T210000
DTSTAMP:20260422T093620
CREATED:20260407T194022Z
LAST-MODIFIED:20260418T124332Z
UID:10075011-1776528000-1776546000@tamraghtlife.com
SUMMARY:🌊 🎶☀️ Sunset Party at devils Rock
DESCRIPTION:Sunset Party at Devils Rock \nNow happening\nSaturday 18 April | 4 PM – 9 PMHurley Surfclub\, Tamraght Beach \nThe first edition was packed and went viral — now Sunset Party at Devils Rock is back\, bigger and better.\nJoin us for an unforgettable evening of Afro House and groovy house beats right on the beach\, with the sunset as your backdrop and one of the best ocean views in Tamraght.\nExpect good energy\, great music and a beautiful setting as three DJs take you through the evening. \nDJ’s: ESPER\, YENSU & NOUR\nThis is one of the most exciting parties in the area right now\, and it only happens once a month. \nTickets\n€10 – book online now & secure your spot ⬇️ scroll downincludes secure processing fee \n100 MAD – pay at the door (capacity is limited. Full = Full)\nSee you at Devils Rock. \n🎟️ 150 tickets available\n@esperissexy | @hurleysurfclubtamraght \nhttps://tamraghtlife.com/wp-content/uploads/2026/04/WhatsApp-Video-2026-04-13-at-14.44.33.mp4
URL:https://tamraghtlife.com/event/sunset-party-at-devils-rock/
LOCATION:Hurley Surf Club Tamraght\, Tamraght
CATEGORIES:☀️ Tamraght Life,☕ Social,💃 Dance
ATTACH;FMTTYPE=image/jpeg:https://tamraghtlife.com/wp-content/uploads/2026/04/WhatsApp-Image-2026-04-10-at-17.46.16.jpeg
ORGANIZER;CN="Hurley Surf Club Tamraght":MAILTO:yasi.moves@gmail.com
END:VEVENT
BEGIN:VEVENT
DTSTART;TZID=Africa/Casablanca:20260418T173000
DTEND;TZID=Africa/Casablanca:20260418T203000
DTSTAMP:20260422T093620
CREATED:20260412T064458Z
LAST-MODIFIED:20260412T064458Z
UID:10085306-1776533400-1776544200@tamraghtlife.com
SUMMARY:👩🏻‍🍳 🇲🇦 COOKING CLASS | TAJINE &MSEMMENS
DESCRIPTION:Discover the secrets of Moroccan cuisine in one unforgettable evening.\nLearn to prepare a fragrant tajine and delicious msemmens. While your tajine slowly works its magic\, you’ll knead\, fold and cook your own Moroccan crêpes. The evening ends around the table\, tasting everything you’ve made together.
URL:https://tamraghtlife.com/event/%f0%9f%91%a9%f0%9f%8f%bb%f0%9f%8d%b3-%f0%9f%87%b2%f0%9f%87%a6-cooking-class-tajine-msemmens/2026-04-18/
LOCATION:Kasbari House\, Hay Sahel (close to Najib Electronic Shop)\, Tamraght\, 80023
CATEGORIES:☀️ Tamraght Life,⛦ Moroccan Culture
ATTACH;FMTTYPE=image/png:https://tamraghtlife.com/wp-content/uploads/2026/04/THE-STREET-ANIMALS-IN-MOROCCO-2.png
ORGANIZER;CN="Colette Amaal":MAILTO:colette.yoga.amal@gmail.com
END:VEVENT
BEGIN:VEVENT
DTSTART;TZID=Africa/Casablanca:20260418T180000
DTEND;TZID=Africa/Casablanca:20260418T190000
DTSTAMP:20260422T093620
CREATED:20260327T081737Z
LAST-MODIFIED:20260327T090449Z
UID:10075020-1776535200-1776538800@tamraghtlife.com
SUMMARY:🏃 🏃‍♀️ Tamraght Runners Sunset run
DESCRIPTION:🌅 Sunset Trail Run with Tamraght Runners \nJoin us for a relaxed 5K trail run and enjoy the beautiful sunset views over Tamraght. \nThis run is open to all levels – we go at an easy\, social pace and support each other 🤝 \n📍 Meeting point: Sukun spot\, Tamraght\n🕕 Time: 18:00\n🏃 Distance: 5KM \nCome for the run\, stay for the good vibes ✨\nEveryone is welcome!
URL:https://tamraghtlife.com/event/activity-sunset-trail-run-tamraght/2026-04-18/
LOCATION:Sukun\, Tamraght\, Morocco
CATEGORIES:🏋🏾‍♀️ Fitness,🫂 Community
ATTACH;FMTTYPE=image/png:https://tamraghtlife.com/wp-content/uploads/2026/03/Run-1-e1774599443853.png
ORGANIZER;CN="Tamraght Runners":MAILTO:ananichabdallah@gmail.com
END:VEVENT
BEGIN:VEVENT
DTSTART;TZID=Africa/Casablanca:20260418T180000
DTEND;TZID=Africa/Casablanca:20260418T190000
DTSTAMP:20260422T093620
CREATED:20260403T152106Z
LAST-MODIFIED:20260403T152106Z
UID:10081331-1776535200-1776538800@tamraghtlife.com
SUMMARY:🧘‍♂️ 🌊 Yin Yoga with Lauranne
DESCRIPTION:Please contact Ocean Tribe directly for more details\, check availability & book
URL:https://tamraghtlife.com/event/class-yinyoga-with-lauranne-ocean-tribe-2/2026-04-18/
LOCATION:Ocean Tribe\, Imouran Beach\, Tamraght\, 80023\, Morocco
CATEGORIES:☀️ Tamraght Life,❤️ Mindful Tamraght,🏋🏾‍♀️ Fitness
ATTACH;FMTTYPE=image/png:https://tamraghtlife.com/wp-content/uploads/2025/02/Screenshot-2025-02-20-at-08.37.57-1-e1767701502912.png
END:VEVENT
BEGIN:VEVENT
DTSTART;TZID=Africa/Casablanca:20260418T180000
DTEND;TZID=Africa/Casablanca:20260418T190000
DTSTAMP:20260422T093620
CREATED:20260406T070755Z
LAST-MODIFIED:20260413T142000Z
UID:10085840-1776535200-1776538800@tamraghtlife.com
SUMMARY:🧘‍♂️ 🌼 Pilates with Sara
DESCRIPTION:Class 150mad\nPlease contact Kalananda directly for more details\, check availability & book
URL:https://tamraghtlife.com/event/%f0%9f%a7%98%e2%99%82%ef%b8%8f-%f0%9f%8c%bc-pilates-with-sara-2/2026-04-18/
LOCATION:Kalananda Yoga Studio\, Oued Tamraght rive droite\, Tamraght
CATEGORIES:☀️ Tamraght Life,❤️ Mindful Tamraght,🧘 Yoga
ATTACH;FMTTYPE=image/png:https://tamraghtlife.com/wp-content/uploads/2025/12/Untitled-2-13.png
END:VEVENT
BEGIN:VEVENT
DTSTART;TZID=Africa/Casablanca:20260418T200000
DTEND;TZID=Africa/Casablanca:20260419T010000
DTSTAMP:20260422T093620
CREATED:20260417T144856Z
LAST-MODIFIED:20260417T144856Z
UID:10086906-1776542400-1776560400@tamraghtlife.com
SUMMARY:​🪩​LE BELDI BLEU | Calypso Beach Club 📍Taghazout Bay
DESCRIPTION:BELDI BLEU – Taghazout’s new Saturday ritual🪩 \nWhat if a night out felt like stepping into a different world ? \nLe Beldi Bleu is a journey – a return to the roots\, where Morocco becomes a feeling. Salt on your skin\, ocean air\, deep blue everywhere. 🇲🇦​ \nIt happen somewhere between South and dancefloor. \nMelodic house music all night\, deep grooves\, rising energy\, drops that hits and carry you till the end ! 💃 \nA Moroccan hanut turned in a DJ booth. Raw\, authentic\, unexpected. Memories of deep Morocco reimagined trough a modern atmosphere. \nNot just a party\, a mood\, a space\, a feeling. \nCome feel it – 📍Every Saturday at Calypso Beach Club Taghazout Bay \nI See you in the Blue 🌀
URL:https://tamraghtlife.com/event/%f0%9f%aa%a9le-beldi-bleu-calypso-beach-club-%f0%9f%93%8dtaghazout-bay/
LOCATION:Calypso Beach Club Taghazout Bay\, Calypso Beach Club km16\, Taghazout\, 80000
CATEGORIES:🎉 Party,🤙🏾 Taghazout Life
ATTACH;FMTTYPE=image/jpeg:https://tamraghtlife.com/wp-content/uploads/2026/04/940C85CD-71F8-4A1B-8B5C-458314D77312-scaled-e1776437146160.jpg
ORGANIZER;CN="Le Beldi Bleu":MAILTO:evapal3107@gmail.com
END:VEVENT
END:VCALENDAR