BEGIN:VCALENDAR
VERSION:2.0
PRODID:-//tamraghtlife.com - ECPv6.15.20//NONSGML v1.0//EN
CALSCALE:GREGORIAN
METHOD:PUBLISH
X-WR-CALNAME:tamraghtlife.com
X-ORIGINAL-URL:https://tamraghtlife.com
X-WR-CALDESC:Events for tamraghtlife.com
REFRESH-INTERVAL;VALUE=DURATION:PT1H
X-Robots-Tag:noindex
X-PUBLISHED-TTL:PT1H
BEGIN:VTIMEZONE
TZID:Africa/Casablanca
BEGIN:DAYLIGHT
TZOFFSETFROM:+0100
TZOFFSETTO:+0000
TZNAME:+00
DTSTART:20250223T020000
END:DAYLIGHT
BEGIN:STANDARD
TZOFFSETFROM:+0000
TZOFFSETTO:+0100
TZNAME:+01
DTSTART:20250406T020000
END:STANDARD
BEGIN:DAYLIGHT
TZOFFSETFROM:+0100
TZOFFSETTO:+0000
TZNAME:+00
DTSTART:20260215T020000
END:DAYLIGHT
BEGIN:STANDARD
TZOFFSETFROM:+0000
TZOFFSETTO:+0100
TZNAME:+01
DTSTART:20260322T020000
END:STANDARD
BEGIN:DAYLIGHT
TZOFFSETFROM:+0100
TZOFFSETTO:+0000
TZNAME:+00
DTSTART:20270207T020000
END:DAYLIGHT
BEGIN:STANDARD
TZOFFSETFROM:+0000
TZOFFSETTO:+0100
TZNAME:+01
DTSTART:20270314T020000
END:STANDARD
END:VTIMEZONE
BEGIN:VEVENT
DTSTART;TZID=Africa/Casablanca:20260425T100000
DTEND;TZID=Africa/Casablanca:20260425T110000
DTSTAMP:20260422T124415
CREATED:20260421T152531Z
LAST-MODIFIED:20260421T152725Z
UID:10087441-1777111200-1777114800@tamraghtlife.com
SUMMARY:🔥🥊 Boxing with Liv
DESCRIPTION:🔥 What to expect:🥊 1-hour boxing session focused on technique\, footwork & ring IQ🤝 Friendly & supportive atmosphere — perfect for beginners and experienced fighters \n🎒 What to bring:🥊 Gloves (if you have them)👌 Don’t worry if not — we’ve got plenty available! \n📍 Where & when:📍 Limitless Dojo\, Tamraght 🌴⏰ Saturday 10.00-11.00 \n💰 Cost:100 MAD \nInstagram: @limitless_dojo & @livplug
URL:https://tamraghtlife.com/event/boxing-with-liv/2026-04-25/
LOCATION:Limitless Gym\, Tamraght\, Morocco
CATEGORIES:☀️ Tamraght Life,🏋🏾‍♀️ Fitness
END:VEVENT
BEGIN:VEVENT
DTSTART;TZID=Africa/Casablanca:20260502T100000
DTEND;TZID=Africa/Casablanca:20260502T110000
DTSTAMP:20260422T124415
CREATED:20260421T152531Z
LAST-MODIFIED:20260421T152725Z
UID:10087442-1777716000-1777719600@tamraghtlife.com
SUMMARY:🔥🥊 Boxing with Liv
DESCRIPTION:🔥 What to expect:🥊 1-hour boxing session focused on technique\, footwork & ring IQ🤝 Friendly & supportive atmosphere — perfect for beginners and experienced fighters \n🎒 What to bring:🥊 Gloves (if you have them)👌 Don’t worry if not — we’ve got plenty available! \n📍 Where & when:📍 Limitless Dojo\, Tamraght 🌴⏰ Saturday 10.00-11.00 \n💰 Cost:100 MAD \nInstagram: @limitless_dojo & @livplug
URL:https://tamraghtlife.com/event/boxing-with-liv/2026-05-02/
LOCATION:Limitless Gym\, Tamraght\, Morocco
CATEGORIES:☀️ Tamraght Life,🏋🏾‍♀️ Fitness
END:VEVENT
BEGIN:VEVENT
DTSTART;TZID=Africa/Casablanca:20260509T100000
DTEND;TZID=Africa/Casablanca:20260509T110000
DTSTAMP:20260422T124415
CREATED:20260421T152531Z
LAST-MODIFIED:20260421T152725Z
UID:10087443-1778320800-1778324400@tamraghtlife.com
SUMMARY:🔥🥊 Boxing with Liv
DESCRIPTION:🔥 What to expect:🥊 1-hour boxing session focused on technique\, footwork & ring IQ🤝 Friendly & supportive atmosphere — perfect for beginners and experienced fighters \n🎒 What to bring:🥊 Gloves (if you have them)👌 Don’t worry if not — we’ve got plenty available! \n📍 Where & when:📍 Limitless Dojo\, Tamraght 🌴⏰ Saturday 10.00-11.00 \n💰 Cost:100 MAD \nInstagram: @limitless_dojo & @livplug
URL:https://tamraghtlife.com/event/boxing-with-liv/2026-05-09/
LOCATION:Limitless Gym\, Tamraght\, Morocco
CATEGORIES:☀️ Tamraght Life,🏋🏾‍♀️ Fitness
END:VEVENT
BEGIN:VEVENT
DTSTART;TZID=Africa/Casablanca:20260516T100000
DTEND;TZID=Africa/Casablanca:20260516T110000
DTSTAMP:20260422T124415
CREATED:20260421T152531Z
LAST-MODIFIED:20260421T152725Z
UID:10087444-1778925600-1778929200@tamraghtlife.com
SUMMARY:🔥🥊 Boxing with Liv
DESCRIPTION:🔥 What to expect:🥊 1-hour boxing session focused on technique\, footwork & ring IQ🤝 Friendly & supportive atmosphere — perfect for beginners and experienced fighters \n🎒 What to bring:🥊 Gloves (if you have them)👌 Don’t worry if not — we’ve got plenty available! \n📍 Where & when:📍 Limitless Dojo\, Tamraght 🌴⏰ Saturday 10.00-11.00 \n💰 Cost:100 MAD \nInstagram: @limitless_dojo & @livplug
URL:https://tamraghtlife.com/event/boxing-with-liv/2026-05-16/
LOCATION:Limitless Gym\, Tamraght\, Morocco
CATEGORIES:☀️ Tamraght Life,🏋🏾‍♀️ Fitness
END:VEVENT
BEGIN:VEVENT
DTSTART;TZID=Africa/Casablanca:20260523T100000
DTEND;TZID=Africa/Casablanca:20260523T110000
DTSTAMP:20260422T124415
CREATED:20260421T152531Z
LAST-MODIFIED:20260421T152725Z
UID:10087445-1779530400-1779534000@tamraghtlife.com
SUMMARY:🔥🥊 Boxing with Liv
DESCRIPTION:🔥 What to expect:🥊 1-hour boxing session focused on technique\, footwork & ring IQ🤝 Friendly & supportive atmosphere — perfect for beginners and experienced fighters \n🎒 What to bring:🥊 Gloves (if you have them)👌 Don’t worry if not — we’ve got plenty available! \n📍 Where & when:📍 Limitless Dojo\, Tamraght 🌴⏰ Saturday 10.00-11.00 \n💰 Cost:100 MAD \nInstagram: @limitless_dojo & @livplug
URL:https://tamraghtlife.com/event/boxing-with-liv/2026-05-23/
LOCATION:Limitless Gym\, Tamraght\, Morocco
CATEGORIES:☀️ Tamraght Life,🏋🏾‍♀️ Fitness
END:VEVENT
BEGIN:VEVENT
DTSTART;TZID=Africa/Casablanca:20260530T100000
DTEND;TZID=Africa/Casablanca:20260530T110000
DTSTAMP:20260422T124415
CREATED:20260421T152531Z
LAST-MODIFIED:20260421T152725Z
UID:10087446-1780135200-1780138800@tamraghtlife.com
SUMMARY:🔥🥊 Boxing with Liv
DESCRIPTION:🔥 What to expect:🥊 1-hour boxing session focused on technique\, footwork & ring IQ🤝 Friendly & supportive atmosphere — perfect for beginners and experienced fighters \n🎒 What to bring:🥊 Gloves (if you have them)👌 Don’t worry if not — we’ve got plenty available! \n📍 Where & when:📍 Limitless Dojo\, Tamraght 🌴⏰ Saturday 10.00-11.00 \n💰 Cost:100 MAD \nInstagram: @limitless_dojo & @livplug
URL:https://tamraghtlife.com/event/boxing-with-liv/2026-05-30/
LOCATION:Limitless Gym\, Tamraght\, Morocco
CATEGORIES:☀️ Tamraght Life,🏋🏾‍♀️ Fitness
END:VEVENT
BEGIN:VEVENT
DTSTART;TZID=Africa/Casablanca:20260606T100000
DTEND;TZID=Africa/Casablanca:20260606T110000
DTSTAMP:20260422T124415
CREATED:20260421T152531Z
LAST-MODIFIED:20260421T152725Z
UID:10087447-1780740000-1780743600@tamraghtlife.com
SUMMARY:🔥🥊 Boxing with Liv
DESCRIPTION:🔥 What to expect:🥊 1-hour boxing session focused on technique\, footwork & ring IQ🤝 Friendly & supportive atmosphere — perfect for beginners and experienced fighters \n🎒 What to bring:🥊 Gloves (if you have them)👌 Don’t worry if not — we’ve got plenty available! \n📍 Where & when:📍 Limitless Dojo\, Tamraght 🌴⏰ Saturday 10.00-11.00 \n💰 Cost:100 MAD \nInstagram: @limitless_dojo & @livplug
URL:https://tamraghtlife.com/event/boxing-with-liv/2026-06-06/
LOCATION:Limitless Gym\, Tamraght\, Morocco
CATEGORIES:☀️ Tamraght Life,🏋🏾‍♀️ Fitness
END:VEVENT
BEGIN:VEVENT
DTSTART;TZID=Africa/Casablanca:20260613T100000
DTEND;TZID=Africa/Casablanca:20260613T110000
DTSTAMP:20260422T124415
CREATED:20260421T152531Z
LAST-MODIFIED:20260421T152725Z
UID:10087448-1781344800-1781348400@tamraghtlife.com
SUMMARY:🔥🥊 Boxing with Liv
DESCRIPTION:🔥 What to expect:🥊 1-hour boxing session focused on technique\, footwork & ring IQ🤝 Friendly & supportive atmosphere — perfect for beginners and experienced fighters \n🎒 What to bring:🥊 Gloves (if you have them)👌 Don’t worry if not — we’ve got plenty available! \n📍 Where & when:📍 Limitless Dojo\, Tamraght 🌴⏰ Saturday 10.00-11.00 \n💰 Cost:100 MAD \nInstagram: @limitless_dojo & @livplug
URL:https://tamraghtlife.com/event/boxing-with-liv/2026-06-13/
LOCATION:Limitless Gym\, Tamraght\, Morocco
CATEGORIES:☀️ Tamraght Life,🏋🏾‍♀️ Fitness
END:VEVENT
BEGIN:VEVENT
DTSTART;TZID=Africa/Casablanca:20260620T100000
DTEND;TZID=Africa/Casablanca:20260620T110000
DTSTAMP:20260422T124415
CREATED:20260421T152531Z
LAST-MODIFIED:20260421T152725Z
UID:10087449-1781949600-1781953200@tamraghtlife.com
SUMMARY:🔥🥊 Boxing with Liv
DESCRIPTION:🔥 What to expect:🥊 1-hour boxing session focused on technique\, footwork & ring IQ🤝 Friendly & supportive atmosphere — perfect for beginners and experienced fighters \n🎒 What to bring:🥊 Gloves (if you have them)👌 Don’t worry if not — we’ve got plenty available! \n📍 Where & when:📍 Limitless Dojo\, Tamraght 🌴⏰ Saturday 10.00-11.00 \n💰 Cost:100 MAD \nInstagram: @limitless_dojo & @livplug
URL:https://tamraghtlife.com/event/boxing-with-liv/2026-06-20/
LOCATION:Limitless Gym\, Tamraght\, Morocco
CATEGORIES:☀️ Tamraght Life,🏋🏾‍♀️ Fitness
END:VEVENT
BEGIN:VEVENT
DTSTART;TZID=Africa/Casablanca:20260627T100000
DTEND;TZID=Africa/Casablanca:20260627T110000
DTSTAMP:20260422T124415
CREATED:20260421T152531Z
LAST-MODIFIED:20260421T152725Z
UID:10087450-1782554400-1782558000@tamraghtlife.com
SUMMARY:🔥🥊 Boxing with Liv
DESCRIPTION:🔥 What to expect:🥊 1-hour boxing session focused on technique\, footwork & ring IQ🤝 Friendly & supportive atmosphere — perfect for beginners and experienced fighters \n🎒 What to bring:🥊 Gloves (if you have them)👌 Don’t worry if not — we’ve got plenty available! \n📍 Where & when:📍 Limitless Dojo\, Tamraght 🌴⏰ Saturday 10.00-11.00 \n💰 Cost:100 MAD \nInstagram: @limitless_dojo & @livplug
URL:https://tamraghtlife.com/event/boxing-with-liv/2026-06-27/
LOCATION:Limitless Gym\, Tamraght\, Morocco
CATEGORIES:☀️ Tamraght Life,🏋🏾‍♀️ Fitness
END:VEVENT
BEGIN:VEVENT
DTSTART;TZID=Africa/Casablanca:20260704T100000
DTEND;TZID=Africa/Casablanca:20260704T110000
DTSTAMP:20260422T124415
CREATED:20260421T152531Z
LAST-MODIFIED:20260421T152725Z
UID:10087451-1783159200-1783162800@tamraghtlife.com
SUMMARY:🔥🥊 Boxing with Liv
DESCRIPTION:🔥 What to expect:🥊 1-hour boxing session focused on technique\, footwork & ring IQ🤝 Friendly & supportive atmosphere — perfect for beginners and experienced fighters \n🎒 What to bring:🥊 Gloves (if you have them)👌 Don’t worry if not — we’ve got plenty available! \n📍 Where & when:📍 Limitless Dojo\, Tamraght 🌴⏰ Saturday 10.00-11.00 \n💰 Cost:100 MAD \nInstagram: @limitless_dojo & @livplug
URL:https://tamraghtlife.com/event/boxing-with-liv/2026-07-04/
LOCATION:Limitless Gym\, Tamraght\, Morocco
CATEGORIES:☀️ Tamraght Life,🏋🏾‍♀️ Fitness
END:VEVENT
BEGIN:VEVENT
DTSTART;TZID=Africa/Casablanca:20260711T100000
DTEND;TZID=Africa/Casablanca:20260711T110000
DTSTAMP:20260422T124415
CREATED:20260421T152531Z
LAST-MODIFIED:20260421T152725Z
UID:10087452-1783764000-1783767600@tamraghtlife.com
SUMMARY:🔥🥊 Boxing with Liv
DESCRIPTION:🔥 What to expect:🥊 1-hour boxing session focused on technique\, footwork & ring IQ🤝 Friendly & supportive atmosphere — perfect for beginners and experienced fighters \n🎒 What to bring:🥊 Gloves (if you have them)👌 Don’t worry if not — we’ve got plenty available! \n📍 Where & when:📍 Limitless Dojo\, Tamraght 🌴⏰ Saturday 10.00-11.00 \n💰 Cost:100 MAD \nInstagram: @limitless_dojo & @livplug
URL:https://tamraghtlife.com/event/boxing-with-liv/2026-07-11/
LOCATION:Limitless Gym\, Tamraght\, Morocco
CATEGORIES:☀️ Tamraght Life,🏋🏾‍♀️ Fitness
END:VEVENT
BEGIN:VEVENT
DTSTART;TZID=Africa/Casablanca:20260718T100000
DTEND;TZID=Africa/Casablanca:20260718T110000
DTSTAMP:20260422T124415
CREATED:20260421T152531Z
LAST-MODIFIED:20260421T152725Z
UID:10087453-1784368800-1784372400@tamraghtlife.com
SUMMARY:🔥🥊 Boxing with Liv
DESCRIPTION:🔥 What to expect:🥊 1-hour boxing session focused on technique\, footwork & ring IQ🤝 Friendly & supportive atmosphere — perfect for beginners and experienced fighters \n🎒 What to bring:🥊 Gloves (if you have them)👌 Don’t worry if not — we’ve got plenty available! \n📍 Where & when:📍 Limitless Dojo\, Tamraght 🌴⏰ Saturday 10.00-11.00 \n💰 Cost:100 MAD \nInstagram: @limitless_dojo & @livplug
URL:https://tamraghtlife.com/event/boxing-with-liv/2026-07-18/
LOCATION:Limitless Gym\, Tamraght\, Morocco
CATEGORIES:☀️ Tamraght Life,🏋🏾‍♀️ Fitness
END:VEVENT
BEGIN:VEVENT
DTSTART;TZID=Africa/Casablanca:20260725T100000
DTEND;TZID=Africa/Casablanca:20260725T110000
DTSTAMP:20260422T124415
CREATED:20260421T152531Z
LAST-MODIFIED:20260421T152725Z
UID:10087454-1784973600-1784977200@tamraghtlife.com
SUMMARY:🔥🥊 Boxing with Liv
DESCRIPTION:🔥 What to expect:🥊 1-hour boxing session focused on technique\, footwork & ring IQ🤝 Friendly & supportive atmosphere — perfect for beginners and experienced fighters \n🎒 What to bring:🥊 Gloves (if you have them)👌 Don’t worry if not — we’ve got plenty available! \n📍 Where & when:📍 Limitless Dojo\, Tamraght 🌴⏰ Saturday 10.00-11.00 \n💰 Cost:100 MAD \nInstagram: @limitless_dojo & @livplug
URL:https://tamraghtlife.com/event/boxing-with-liv/2026-07-25/
LOCATION:Limitless Gym\, Tamraght\, Morocco
CATEGORIES:☀️ Tamraght Life,🏋🏾‍♀️ Fitness
END:VEVENT
BEGIN:VEVENT
DTSTART;TZID=Africa/Casablanca:20260801T100000
DTEND;TZID=Africa/Casablanca:20260801T110000
DTSTAMP:20260422T124415
CREATED:20260421T152531Z
LAST-MODIFIED:20260421T152725Z
UID:10087455-1785578400-1785582000@tamraghtlife.com
SUMMARY:🔥🥊 Boxing with Liv
DESCRIPTION:🔥 What to expect:🥊 1-hour boxing session focused on technique\, footwork & ring IQ🤝 Friendly & supportive atmosphere — perfect for beginners and experienced fighters \n🎒 What to bring:🥊 Gloves (if you have them)👌 Don’t worry if not — we’ve got plenty available! \n📍 Where & when:📍 Limitless Dojo\, Tamraght 🌴⏰ Saturday 10.00-11.00 \n💰 Cost:100 MAD \nInstagram: @limitless_dojo & @livplug
URL:https://tamraghtlife.com/event/boxing-with-liv/2026-08-01/
LOCATION:Limitless Gym\, Tamraght\, Morocco
CATEGORIES:☀️ Tamraght Life,🏋🏾‍♀️ Fitness
END:VEVENT
BEGIN:VEVENT
DTSTART;TZID=Africa/Casablanca:20260808T100000
DTEND;TZID=Africa/Casablanca:20260808T110000
DTSTAMP:20260422T124415
CREATED:20260421T152531Z
LAST-MODIFIED:20260421T152725Z
UID:10087456-1786183200-1786186800@tamraghtlife.com
SUMMARY:🔥🥊 Boxing with Liv
DESCRIPTION:🔥 What to expect:🥊 1-hour boxing session focused on technique\, footwork & ring IQ🤝 Friendly & supportive atmosphere — perfect for beginners and experienced fighters \n🎒 What to bring:🥊 Gloves (if you have them)👌 Don’t worry if not — we’ve got plenty available! \n📍 Where & when:📍 Limitless Dojo\, Tamraght 🌴⏰ Saturday 10.00-11.00 \n💰 Cost:100 MAD \nInstagram: @limitless_dojo & @livplug
URL:https://tamraghtlife.com/event/boxing-with-liv/2026-08-08/
LOCATION:Limitless Gym\, Tamraght\, Morocco
CATEGORIES:☀️ Tamraght Life,🏋🏾‍♀️ Fitness
END:VEVENT
BEGIN:VEVENT
DTSTART;TZID=Africa/Casablanca:20260815T100000
DTEND;TZID=Africa/Casablanca:20260815T110000
DTSTAMP:20260422T124415
CREATED:20260421T152531Z
LAST-MODIFIED:20260421T152725Z
UID:10087457-1786788000-1786791600@tamraghtlife.com
SUMMARY:🔥🥊 Boxing with Liv
DESCRIPTION:🔥 What to expect:🥊 1-hour boxing session focused on technique\, footwork & ring IQ🤝 Friendly & supportive atmosphere — perfect for beginners and experienced fighters \n🎒 What to bring:🥊 Gloves (if you have them)👌 Don’t worry if not — we’ve got plenty available! \n📍 Where & when:📍 Limitless Dojo\, Tamraght 🌴⏰ Saturday 10.00-11.00 \n💰 Cost:100 MAD \nInstagram: @limitless_dojo & @livplug
URL:https://tamraghtlife.com/event/boxing-with-liv/2026-08-15/
LOCATION:Limitless Gym\, Tamraght\, Morocco
CATEGORIES:☀️ Tamraght Life,🏋🏾‍♀️ Fitness
END:VEVENT
BEGIN:VEVENT
DTSTART;TZID=Africa/Casablanca:20260822T100000
DTEND;TZID=Africa/Casablanca:20260822T110000
DTSTAMP:20260422T124415
CREATED:20260421T152531Z
LAST-MODIFIED:20260421T152725Z
UID:10087458-1787392800-1787396400@tamraghtlife.com
SUMMARY:🔥🥊 Boxing with Liv
DESCRIPTION:🔥 What to expect:🥊 1-hour boxing session focused on technique\, footwork & ring IQ🤝 Friendly & supportive atmosphere — perfect for beginners and experienced fighters \n🎒 What to bring:🥊 Gloves (if you have them)👌 Don’t worry if not — we’ve got plenty available! \n📍 Where & when:📍 Limitless Dojo\, Tamraght 🌴⏰ Saturday 10.00-11.00 \n💰 Cost:100 MAD \nInstagram: @limitless_dojo & @livplug
URL:https://tamraghtlife.com/event/boxing-with-liv/2026-08-22/
LOCATION:Limitless Gym\, Tamraght\, Morocco
CATEGORIES:☀️ Tamraght Life,🏋🏾‍♀️ Fitness
END:VEVENT
BEGIN:VEVENT
DTSTART;TZID=Africa/Casablanca:20260829T100000
DTEND;TZID=Africa/Casablanca:20260829T110000
DTSTAMP:20260422T124415
CREATED:20260421T152531Z
LAST-MODIFIED:20260421T152725Z
UID:10087459-1787997600-1788001200@tamraghtlife.com
SUMMARY:🔥🥊 Boxing with Liv
DESCRIPTION:🔥 What to expect:🥊 1-hour boxing session focused on technique\, footwork & ring IQ🤝 Friendly & supportive atmosphere — perfect for beginners and experienced fighters \n🎒 What to bring:🥊 Gloves (if you have them)👌 Don’t worry if not — we’ve got plenty available! \n📍 Where & when:📍 Limitless Dojo\, Tamraght 🌴⏰ Saturday 10.00-11.00 \n💰 Cost:100 MAD \nInstagram: @limitless_dojo & @livplug
URL:https://tamraghtlife.com/event/boxing-with-liv/2026-08-29/
LOCATION:Limitless Gym\, Tamraght\, Morocco
CATEGORIES:☀️ Tamraght Life,🏋🏾‍♀️ Fitness
END:VEVENT
BEGIN:VEVENT
DTSTART;TZID=Africa/Casablanca:20260905T100000
DTEND;TZID=Africa/Casablanca:20260905T110000
DTSTAMP:20260422T124415
CREATED:20260421T152531Z
LAST-MODIFIED:20260421T152725Z
UID:10087460-1788602400-1788606000@tamraghtlife.com
SUMMARY:🔥🥊 Boxing with Liv
DESCRIPTION:🔥 What to expect:🥊 1-hour boxing session focused on technique\, footwork & ring IQ🤝 Friendly & supportive atmosphere — perfect for beginners and experienced fighters \n🎒 What to bring:🥊 Gloves (if you have them)👌 Don’t worry if not — we’ve got plenty available! \n📍 Where & when:📍 Limitless Dojo\, Tamraght 🌴⏰ Saturday 10.00-11.00 \n💰 Cost:100 MAD \nInstagram: @limitless_dojo & @livplug
URL:https://tamraghtlife.com/event/boxing-with-liv/2026-09-05/
LOCATION:Limitless Gym\, Tamraght\, Morocco
CATEGORIES:☀️ Tamraght Life,🏋🏾‍♀️ Fitness
END:VEVENT
BEGIN:VEVENT
DTSTART;TZID=Africa/Casablanca:20260912T100000
DTEND;TZID=Africa/Casablanca:20260912T110000
DTSTAMP:20260422T124415
CREATED:20260421T152531Z
LAST-MODIFIED:20260421T152725Z
UID:10087461-1789207200-1789210800@tamraghtlife.com
SUMMARY:🔥🥊 Boxing with Liv
DESCRIPTION:🔥 What to expect:🥊 1-hour boxing session focused on technique\, footwork & ring IQ🤝 Friendly & supportive atmosphere — perfect for beginners and experienced fighters \n🎒 What to bring:🥊 Gloves (if you have them)👌 Don’t worry if not — we’ve got plenty available! \n📍 Where & when:📍 Limitless Dojo\, Tamraght 🌴⏰ Saturday 10.00-11.00 \n💰 Cost:100 MAD \nInstagram: @limitless_dojo & @livplug
URL:https://tamraghtlife.com/event/boxing-with-liv/2026-09-12/
LOCATION:Limitless Gym\, Tamraght\, Morocco
CATEGORIES:☀️ Tamraght Life,🏋🏾‍♀️ Fitness
END:VEVENT
BEGIN:VEVENT
DTSTART;TZID=Africa/Casablanca:20260919T100000
DTEND;TZID=Africa/Casablanca:20260919T110000
DTSTAMP:20260422T124415
CREATED:20260421T152531Z
LAST-MODIFIED:20260421T152725Z
UID:10087462-1789812000-1789815600@tamraghtlife.com
SUMMARY:🔥🥊 Boxing with Liv
DESCRIPTION:🔥 What to expect:🥊 1-hour boxing session focused on technique\, footwork & ring IQ🤝 Friendly & supportive atmosphere — perfect for beginners and experienced fighters \n🎒 What to bring:🥊 Gloves (if you have them)👌 Don’t worry if not — we’ve got plenty available! \n📍 Where & when:📍 Limitless Dojo\, Tamraght 🌴⏰ Saturday 10.00-11.00 \n💰 Cost:100 MAD \nInstagram: @limitless_dojo & @livplug
URL:https://tamraghtlife.com/event/boxing-with-liv/2026-09-19/
LOCATION:Limitless Gym\, Tamraght\, Morocco
CATEGORIES:☀️ Tamraght Life,🏋🏾‍♀️ Fitness
END:VEVENT
BEGIN:VEVENT
DTSTART;TZID=Africa/Casablanca:20260926T100000
DTEND;TZID=Africa/Casablanca:20260926T110000
DTSTAMP:20260422T124415
CREATED:20260421T152531Z
LAST-MODIFIED:20260421T152725Z
UID:10087463-1790416800-1790420400@tamraghtlife.com
SUMMARY:🔥🥊 Boxing with Liv
DESCRIPTION:🔥 What to expect:🥊 1-hour boxing session focused on technique\, footwork & ring IQ🤝 Friendly & supportive atmosphere — perfect for beginners and experienced fighters \n🎒 What to bring:🥊 Gloves (if you have them)👌 Don’t worry if not — we’ve got plenty available! \n📍 Where & when:📍 Limitless Dojo\, Tamraght 🌴⏰ Saturday 10.00-11.00 \n💰 Cost:100 MAD \nInstagram: @limitless_dojo & @livplug
URL:https://tamraghtlife.com/event/boxing-with-liv/2026-09-26/
LOCATION:Limitless Gym\, Tamraght\, Morocco
CATEGORIES:☀️ Tamraght Life,🏋🏾‍♀️ Fitness
END:VEVENT
BEGIN:VEVENT
DTSTART;TZID=Africa/Casablanca:20261003T100000
DTEND;TZID=Africa/Casablanca:20261003T110000
DTSTAMP:20260422T124415
CREATED:20260421T152531Z
LAST-MODIFIED:20260421T152725Z
UID:10087464-1791021600-1791025200@tamraghtlife.com
SUMMARY:🔥🥊 Boxing with Liv
DESCRIPTION:🔥 What to expect:🥊 1-hour boxing session focused on technique\, footwork & ring IQ🤝 Friendly & supportive atmosphere — perfect for beginners and experienced fighters \n🎒 What to bring:🥊 Gloves (if you have them)👌 Don’t worry if not — we’ve got plenty available! \n📍 Where & when:📍 Limitless Dojo\, Tamraght 🌴⏰ Saturday 10.00-11.00 \n💰 Cost:100 MAD \nInstagram: @limitless_dojo & @livplug
URL:https://tamraghtlife.com/event/boxing-with-liv/2026-10-03/
LOCATION:Limitless Gym\, Tamraght\, Morocco
CATEGORIES:☀️ Tamraght Life,🏋🏾‍♀️ Fitness
END:VEVENT
BEGIN:VEVENT
DTSTART;TZID=Africa/Casablanca:20261010T100000
DTEND;TZID=Africa/Casablanca:20261010T110000
DTSTAMP:20260422T124415
CREATED:20260421T152531Z
LAST-MODIFIED:20260421T152725Z
UID:10087465-1791626400-1791630000@tamraghtlife.com
SUMMARY:🔥🥊 Boxing with Liv
DESCRIPTION:🔥 What to expect:🥊 1-hour boxing session focused on technique\, footwork & ring IQ🤝 Friendly & supportive atmosphere — perfect for beginners and experienced fighters \n🎒 What to bring:🥊 Gloves (if you have them)👌 Don’t worry if not — we’ve got plenty available! \n📍 Where & when:📍 Limitless Dojo\, Tamraght 🌴⏰ Saturday 10.00-11.00 \n💰 Cost:100 MAD \nInstagram: @limitless_dojo & @livplug
URL:https://tamraghtlife.com/event/boxing-with-liv/2026-10-10/
LOCATION:Limitless Gym\, Tamraght\, Morocco
CATEGORIES:☀️ Tamraght Life,🏋🏾‍♀️ Fitness
END:VEVENT
BEGIN:VEVENT
DTSTART;TZID=Africa/Casablanca:20261017T100000
DTEND;TZID=Africa/Casablanca:20261017T110000
DTSTAMP:20260422T124415
CREATED:20260421T152531Z
LAST-MODIFIED:20260421T152725Z
UID:10087466-1792231200-1792234800@tamraghtlife.com
SUMMARY:🔥🥊 Boxing with Liv
DESCRIPTION:🔥 What to expect:🥊 1-hour boxing session focused on technique\, footwork & ring IQ🤝 Friendly & supportive atmosphere — perfect for beginners and experienced fighters \n🎒 What to bring:🥊 Gloves (if you have them)👌 Don’t worry if not — we’ve got plenty available! \n📍 Where & when:📍 Limitless Dojo\, Tamraght 🌴⏰ Saturday 10.00-11.00 \n💰 Cost:100 MAD \nInstagram: @limitless_dojo & @livplug
URL:https://tamraghtlife.com/event/boxing-with-liv/2026-10-17/
LOCATION:Limitless Gym\, Tamraght\, Morocco
CATEGORIES:☀️ Tamraght Life,🏋🏾‍♀️ Fitness
END:VEVENT
BEGIN:VEVENT
DTSTART;TZID=Africa/Casablanca:20261024T100000
DTEND;TZID=Africa/Casablanca:20261024T110000
DTSTAMP:20260422T124415
CREATED:20260421T152531Z
LAST-MODIFIED:20260421T152725Z
UID:10087467-1792836000-1792839600@tamraghtlife.com
SUMMARY:🔥🥊 Boxing with Liv
DESCRIPTION:🔥 What to expect:🥊 1-hour boxing session focused on technique\, footwork & ring IQ🤝 Friendly & supportive atmosphere — perfect for beginners and experienced fighters \n🎒 What to bring:🥊 Gloves (if you have them)👌 Don’t worry if not — we’ve got plenty available! \n📍 Where & when:📍 Limitless Dojo\, Tamraght 🌴⏰ Saturday 10.00-11.00 \n💰 Cost:100 MAD \nInstagram: @limitless_dojo & @livplug
URL:https://tamraghtlife.com/event/boxing-with-liv/2026-10-24/
LOCATION:Limitless Gym\, Tamraght\, Morocco
CATEGORIES:☀️ Tamraght Life,🏋🏾‍♀️ Fitness
END:VEVENT
BEGIN:VEVENT
DTSTART;TZID=Africa/Casablanca:20261031T100000
DTEND;TZID=Africa/Casablanca:20261031T110000
DTSTAMP:20260422T124415
CREATED:20260421T152531Z
LAST-MODIFIED:20260421T152725Z
UID:10087468-1793440800-1793444400@tamraghtlife.com
SUMMARY:🔥🥊 Boxing with Liv
DESCRIPTION:🔥 What to expect:🥊 1-hour boxing session focused on technique\, footwork & ring IQ🤝 Friendly & supportive atmosphere — perfect for beginners and experienced fighters \n🎒 What to bring:🥊 Gloves (if you have them)👌 Don’t worry if not — we’ve got plenty available! \n📍 Where & when:📍 Limitless Dojo\, Tamraght 🌴⏰ Saturday 10.00-11.00 \n💰 Cost:100 MAD \nInstagram: @limitless_dojo & @livplug
URL:https://tamraghtlife.com/event/boxing-with-liv/2026-10-31/
LOCATION:Limitless Gym\, Tamraght\, Morocco
CATEGORIES:☀️ Tamraght Life,🏋🏾‍♀️ Fitness
END:VEVENT
BEGIN:VEVENT
DTSTART;TZID=Africa/Casablanca:20261107T100000
DTEND;TZID=Africa/Casablanca:20261107T110000
DTSTAMP:20260422T124415
CREATED:20260421T152531Z
LAST-MODIFIED:20260421T152725Z
UID:10087469-1794045600-1794049200@tamraghtlife.com
SUMMARY:🔥🥊 Boxing with Liv
DESCRIPTION:🔥 What to expect:🥊 1-hour boxing session focused on technique\, footwork & ring IQ🤝 Friendly & supportive atmosphere — perfect for beginners and experienced fighters \n🎒 What to bring:🥊 Gloves (if you have them)👌 Don’t worry if not — we’ve got plenty available! \n📍 Where & when:📍 Limitless Dojo\, Tamraght 🌴⏰ Saturday 10.00-11.00 \n💰 Cost:100 MAD \nInstagram: @limitless_dojo & @livplug
URL:https://tamraghtlife.com/event/boxing-with-liv/2026-11-07/
LOCATION:Limitless Gym\, Tamraght\, Morocco
CATEGORIES:☀️ Tamraght Life,🏋🏾‍♀️ Fitness
END:VEVENT
BEGIN:VEVENT
DTSTART;TZID=Africa/Casablanca:20261114T100000
DTEND;TZID=Africa/Casablanca:20261114T110000
DTSTAMP:20260422T124415
CREATED:20260421T152531Z
LAST-MODIFIED:20260421T152725Z
UID:10087470-1794650400-1794654000@tamraghtlife.com
SUMMARY:🔥🥊 Boxing with Liv
DESCRIPTION:🔥 What to expect:🥊 1-hour boxing session focused on technique\, footwork & ring IQ🤝 Friendly & supportive atmosphere — perfect for beginners and experienced fighters \n🎒 What to bring:🥊 Gloves (if you have them)👌 Don’t worry if not — we’ve got plenty available! \n📍 Where & when:📍 Limitless Dojo\, Tamraght 🌴⏰ Saturday 10.00-11.00 \n💰 Cost:100 MAD \nInstagram: @limitless_dojo & @livplug
URL:https://tamraghtlife.com/event/boxing-with-liv/2026-11-14/
LOCATION:Limitless Gym\, Tamraght\, Morocco
CATEGORIES:☀️ Tamraght Life,🏋🏾‍♀️ Fitness
END:VEVENT
END:VCALENDAR