BEGIN:VCALENDAR
VERSION:2.0
PRODID:-//tamraghtlife.com - ECPv6.15.20//NONSGML v1.0//EN
CALSCALE:GREGORIAN
METHOD:PUBLISH
X-ORIGINAL-URL:https://tamraghtlife.com
X-WR-CALDESC:Events for tamraghtlife.com
REFRESH-INTERVAL;VALUE=DURATION:PT1H
X-Robots-Tag:noindex
X-PUBLISHED-TTL:PT1H
BEGIN:VTIMEZONE
TZID:Africa/Casablanca
BEGIN:DAYLIGHT
TZOFFSETFROM:+0100
TZOFFSETTO:+0000
TZNAME:+00
DTSTART:20270207T020000
END:DAYLIGHT
BEGIN:STANDARD
TZOFFSETFROM:+0000
TZOFFSETTO:+0100
TZNAME:+01
DTSTART:20270314T020000
END:STANDARD
BEGIN:DAYLIGHT
TZOFFSETFROM:+0100
TZOFFSETTO:+0000
TZNAME:+00
DTSTART:20280123T020000
END:DAYLIGHT
BEGIN:STANDARD
TZOFFSETFROM:+0000
TZOFFSETTO:+0100
TZNAME:+01
DTSTART:20280305T020000
END:STANDARD
BEGIN:DAYLIGHT
TZOFFSETFROM:+0100
TZOFFSETTO:+0000
TZNAME:+00
DTSTART:20290114T020000
END:DAYLIGHT
BEGIN:STANDARD
TZOFFSETFROM:+0000
TZOFFSETTO:+0100
TZNAME:+01
DTSTART:20290218T020000
END:STANDARD
BEGIN:DAYLIGHT
TZOFFSETFROM:+0100
TZOFFSETTO:+0000
TZNAME:+00
DTSTART:20291230T020000
END:DAYLIGHT
END:VTIMEZONE
BEGIN:VEVENT
DTSTART;TZID=Africa/Casablanca:20280115T100000
DTEND;TZID=Africa/Casablanca:20280115T110000
DTSTAMP:20260422T173711
CREATED:20260421T152531Z
LAST-MODIFIED:20260421T152725Z
UID:10087531-1831543200-1831546800@tamraghtlife.com
SUMMARY:🔥🥊 Boxing with Liv
DESCRIPTION:🔥 What to expect:🥊 1-hour boxing session focused on technique\, footwork & ring IQ🤝 Friendly & supportive atmosphere — perfect for beginners and experienced fighters \n🎒 What to bring:🥊 Gloves (if you have them)👌 Don’t worry if not — we’ve got plenty available! \n📍 Where & when:📍 Limitless Dojo\, Tamraght 🌴⏰ Saturday 10.00-11.00 \n💰 Cost:100 MAD \nInstagram: @limitless_dojo & @livplug
URL:https://tamraghtlife.com/event/boxing-with-liv/2028-01-15/
LOCATION:Limitless Gym\, Tamraght\, Morocco
CATEGORIES:☀️ Tamraght Life,🏋🏾‍♀️ Fitness
END:VEVENT
BEGIN:VEVENT
DTSTART;TZID=Africa/Casablanca:20280122T100000
DTEND;TZID=Africa/Casablanca:20280122T110000
DTSTAMP:20260422T173711
CREATED:20260421T152531Z
LAST-MODIFIED:20260421T152725Z
UID:10087532-1832148000-1832151600@tamraghtlife.com
SUMMARY:🔥🥊 Boxing with Liv
DESCRIPTION:🔥 What to expect:🥊 1-hour boxing session focused on technique\, footwork & ring IQ🤝 Friendly & supportive atmosphere — perfect for beginners and experienced fighters \n🎒 What to bring:🥊 Gloves (if you have them)👌 Don’t worry if not — we’ve got plenty available! \n📍 Where & when:📍 Limitless Dojo\, Tamraght 🌴⏰ Saturday 10.00-11.00 \n💰 Cost:100 MAD \nInstagram: @limitless_dojo & @livplug
URL:https://tamraghtlife.com/event/boxing-with-liv/2028-01-22/
LOCATION:Limitless Gym\, Tamraght\, Morocco
CATEGORIES:☀️ Tamraght Life,🏋🏾‍♀️ Fitness
END:VEVENT
BEGIN:VEVENT
DTSTART;TZID=Africa/Casablanca:20280129T100000
DTEND;TZID=Africa/Casablanca:20280129T110000
DTSTAMP:20260422T173711
CREATED:20260421T152531Z
LAST-MODIFIED:20260421T152725Z
UID:10087533-1832752800-1832756400@tamraghtlife.com
SUMMARY:🔥🥊 Boxing with Liv
DESCRIPTION:🔥 What to expect:🥊 1-hour boxing session focused on technique\, footwork & ring IQ🤝 Friendly & supportive atmosphere — perfect for beginners and experienced fighters \n🎒 What to bring:🥊 Gloves (if you have them)👌 Don’t worry if not — we’ve got plenty available! \n📍 Where & when:📍 Limitless Dojo\, Tamraght 🌴⏰ Saturday 10.00-11.00 \n💰 Cost:100 MAD \nInstagram: @limitless_dojo & @livplug
URL:https://tamraghtlife.com/event/boxing-with-liv/2028-01-29/
LOCATION:Limitless Gym\, Tamraght\, Morocco
CATEGORIES:☀️ Tamraght Life,🏋🏾‍♀️ Fitness
END:VEVENT
BEGIN:VEVENT
DTSTART;TZID=Africa/Casablanca:20280205T100000
DTEND;TZID=Africa/Casablanca:20280205T110000
DTSTAMP:20260422T173711
CREATED:20260421T152531Z
LAST-MODIFIED:20260421T152725Z
UID:10087534-1833357600-1833361200@tamraghtlife.com
SUMMARY:🔥🥊 Boxing with Liv
DESCRIPTION:🔥 What to expect:🥊 1-hour boxing session focused on technique\, footwork & ring IQ🤝 Friendly & supportive atmosphere — perfect for beginners and experienced fighters \n🎒 What to bring:🥊 Gloves (if you have them)👌 Don’t worry if not — we’ve got plenty available! \n📍 Where & when:📍 Limitless Dojo\, Tamraght 🌴⏰ Saturday 10.00-11.00 \n💰 Cost:100 MAD \nInstagram: @limitless_dojo & @livplug
URL:https://tamraghtlife.com/event/boxing-with-liv/2028-02-05/
LOCATION:Limitless Gym\, Tamraght\, Morocco
CATEGORIES:☀️ Tamraght Life,🏋🏾‍♀️ Fitness
END:VEVENT
BEGIN:VEVENT
DTSTART;TZID=Africa/Casablanca:20280212T100000
DTEND;TZID=Africa/Casablanca:20280212T110000
DTSTAMP:20260422T173711
CREATED:20260421T152531Z
LAST-MODIFIED:20260421T152725Z
UID:10087535-1833962400-1833966000@tamraghtlife.com
SUMMARY:🔥🥊 Boxing with Liv
DESCRIPTION:🔥 What to expect:🥊 1-hour boxing session focused on technique\, footwork & ring IQ🤝 Friendly & supportive atmosphere — perfect for beginners and experienced fighters \n🎒 What to bring:🥊 Gloves (if you have them)👌 Don’t worry if not — we’ve got plenty available! \n📍 Where & when:📍 Limitless Dojo\, Tamraght 🌴⏰ Saturday 10.00-11.00 \n💰 Cost:100 MAD \nInstagram: @limitless_dojo & @livplug
URL:https://tamraghtlife.com/event/boxing-with-liv/2028-02-12/
LOCATION:Limitless Gym\, Tamraght\, Morocco
CATEGORIES:☀️ Tamraght Life,🏋🏾‍♀️ Fitness
END:VEVENT
BEGIN:VEVENT
DTSTART;TZID=Africa/Casablanca:20280219T100000
DTEND;TZID=Africa/Casablanca:20280219T110000
DTSTAMP:20260422T173711
CREATED:20260421T152531Z
LAST-MODIFIED:20260421T152725Z
UID:10087536-1834567200-1834570800@tamraghtlife.com
SUMMARY:🔥🥊 Boxing with Liv
DESCRIPTION:🔥 What to expect:🥊 1-hour boxing session focused on technique\, footwork & ring IQ🤝 Friendly & supportive atmosphere — perfect for beginners and experienced fighters \n🎒 What to bring:🥊 Gloves (if you have them)👌 Don’t worry if not — we’ve got plenty available! \n📍 Where & when:📍 Limitless Dojo\, Tamraght 🌴⏰ Saturday 10.00-11.00 \n💰 Cost:100 MAD \nInstagram: @limitless_dojo & @livplug
URL:https://tamraghtlife.com/event/boxing-with-liv/2028-02-19/
LOCATION:Limitless Gym\, Tamraght\, Morocco
CATEGORIES:☀️ Tamraght Life,🏋🏾‍♀️ Fitness
END:VEVENT
BEGIN:VEVENT
DTSTART;TZID=Africa/Casablanca:20280226T100000
DTEND;TZID=Africa/Casablanca:20280226T110000
DTSTAMP:20260422T173711
CREATED:20260421T152531Z
LAST-MODIFIED:20260421T152725Z
UID:10087537-1835172000-1835175600@tamraghtlife.com
SUMMARY:🔥🥊 Boxing with Liv
DESCRIPTION:🔥 What to expect:🥊 1-hour boxing session focused on technique\, footwork & ring IQ🤝 Friendly & supportive atmosphere — perfect for beginners and experienced fighters \n🎒 What to bring:🥊 Gloves (if you have them)👌 Don’t worry if not — we’ve got plenty available! \n📍 Where & when:📍 Limitless Dojo\, Tamraght 🌴⏰ Saturday 10.00-11.00 \n💰 Cost:100 MAD \nInstagram: @limitless_dojo & @livplug
URL:https://tamraghtlife.com/event/boxing-with-liv/2028-02-26/
LOCATION:Limitless Gym\, Tamraght\, Morocco
CATEGORIES:☀️ Tamraght Life,🏋🏾‍♀️ Fitness
END:VEVENT
BEGIN:VEVENT
DTSTART;TZID=Africa/Casablanca:20280304T100000
DTEND;TZID=Africa/Casablanca:20280304T110000
DTSTAMP:20260422T173711
CREATED:20260421T152531Z
LAST-MODIFIED:20260421T152725Z
UID:10087538-1835776800-1835780400@tamraghtlife.com
SUMMARY:🔥🥊 Boxing with Liv
DESCRIPTION:🔥 What to expect:🥊 1-hour boxing session focused on technique\, footwork & ring IQ🤝 Friendly & supportive atmosphere — perfect for beginners and experienced fighters \n🎒 What to bring:🥊 Gloves (if you have them)👌 Don’t worry if not — we’ve got plenty available! \n📍 Where & when:📍 Limitless Dojo\, Tamraght 🌴⏰ Saturday 10.00-11.00 \n💰 Cost:100 MAD \nInstagram: @limitless_dojo & @livplug
URL:https://tamraghtlife.com/event/boxing-with-liv/2028-03-04/
LOCATION:Limitless Gym\, Tamraght\, Morocco
CATEGORIES:☀️ Tamraght Life,🏋🏾‍♀️ Fitness
END:VEVENT
BEGIN:VEVENT
DTSTART;TZID=Africa/Casablanca:20280311T100000
DTEND;TZID=Africa/Casablanca:20280311T110000
DTSTAMP:20260422T173711
CREATED:20260421T152531Z
LAST-MODIFIED:20260421T152725Z
UID:10087539-1836381600-1836385200@tamraghtlife.com
SUMMARY:🔥🥊 Boxing with Liv
DESCRIPTION:🔥 What to expect:🥊 1-hour boxing session focused on technique\, footwork & ring IQ🤝 Friendly & supportive atmosphere — perfect for beginners and experienced fighters \n🎒 What to bring:🥊 Gloves (if you have them)👌 Don’t worry if not — we’ve got plenty available! \n📍 Where & when:📍 Limitless Dojo\, Tamraght 🌴⏰ Saturday 10.00-11.00 \n💰 Cost:100 MAD \nInstagram: @limitless_dojo & @livplug
URL:https://tamraghtlife.com/event/boxing-with-liv/2028-03-11/
LOCATION:Limitless Gym\, Tamraght\, Morocco
CATEGORIES:☀️ Tamraght Life,🏋🏾‍♀️ Fitness
END:VEVENT
BEGIN:VEVENT
DTSTART;TZID=Africa/Casablanca:20280318T100000
DTEND;TZID=Africa/Casablanca:20280318T110000
DTSTAMP:20260422T173711
CREATED:20260421T152531Z
LAST-MODIFIED:20260421T152725Z
UID:10087540-1836986400-1836990000@tamraghtlife.com
SUMMARY:🔥🥊 Boxing with Liv
DESCRIPTION:🔥 What to expect:🥊 1-hour boxing session focused on technique\, footwork & ring IQ🤝 Friendly & supportive atmosphere — perfect for beginners and experienced fighters \n🎒 What to bring:🥊 Gloves (if you have them)👌 Don’t worry if not — we’ve got plenty available! \n📍 Where & when:📍 Limitless Dojo\, Tamraght 🌴⏰ Saturday 10.00-11.00 \n💰 Cost:100 MAD \nInstagram: @limitless_dojo & @livplug
URL:https://tamraghtlife.com/event/boxing-with-liv/2028-03-18/
LOCATION:Limitless Gym\, Tamraght\, Morocco
CATEGORIES:☀️ Tamraght Life,🏋🏾‍♀️ Fitness
END:VEVENT
BEGIN:VEVENT
DTSTART;TZID=Africa/Casablanca:20280325T100000
DTEND;TZID=Africa/Casablanca:20280325T110000
DTSTAMP:20260422T173711
CREATED:20260421T152531Z
LAST-MODIFIED:20260421T152725Z
UID:10087541-1837591200-1837594800@tamraghtlife.com
SUMMARY:🔥🥊 Boxing with Liv
DESCRIPTION:🔥 What to expect:🥊 1-hour boxing session focused on technique\, footwork & ring IQ🤝 Friendly & supportive atmosphere — perfect for beginners and experienced fighters \n🎒 What to bring:🥊 Gloves (if you have them)👌 Don’t worry if not — we’ve got plenty available! \n📍 Where & when:📍 Limitless Dojo\, Tamraght 🌴⏰ Saturday 10.00-11.00 \n💰 Cost:100 MAD \nInstagram: @limitless_dojo & @livplug
URL:https://tamraghtlife.com/event/boxing-with-liv/2028-03-25/
LOCATION:Limitless Gym\, Tamraght\, Morocco
CATEGORIES:☀️ Tamraght Life,🏋🏾‍♀️ Fitness
END:VEVENT
BEGIN:VEVENT
DTSTART;TZID=Africa/Casablanca:20280401T100000
DTEND;TZID=Africa/Casablanca:20280401T110000
DTSTAMP:20260422T173711
CREATED:20260421T152531Z
LAST-MODIFIED:20260421T152725Z
UID:10087542-1838196000-1838199600@tamraghtlife.com
SUMMARY:🔥🥊 Boxing with Liv
DESCRIPTION:🔥 What to expect:🥊 1-hour boxing session focused on technique\, footwork & ring IQ🤝 Friendly & supportive atmosphere — perfect for beginners and experienced fighters \n🎒 What to bring:🥊 Gloves (if you have them)👌 Don’t worry if not — we’ve got plenty available! \n📍 Where & when:📍 Limitless Dojo\, Tamraght 🌴⏰ Saturday 10.00-11.00 \n💰 Cost:100 MAD \nInstagram: @limitless_dojo & @livplug
URL:https://tamraghtlife.com/event/boxing-with-liv/2028-04-01/
LOCATION:Limitless Gym\, Tamraght\, Morocco
CATEGORIES:☀️ Tamraght Life,🏋🏾‍♀️ Fitness
END:VEVENT
BEGIN:VEVENT
DTSTART;TZID=Africa/Casablanca:20280408T100000
DTEND;TZID=Africa/Casablanca:20280408T110000
DTSTAMP:20260422T173711
CREATED:20260421T152531Z
LAST-MODIFIED:20260421T152725Z
UID:10087543-1838800800-1838804400@tamraghtlife.com
SUMMARY:🔥🥊 Boxing with Liv
DESCRIPTION:🔥 What to expect:🥊 1-hour boxing session focused on technique\, footwork & ring IQ🤝 Friendly & supportive atmosphere — perfect for beginners and experienced fighters \n🎒 What to bring:🥊 Gloves (if you have them)👌 Don’t worry if not — we’ve got plenty available! \n📍 Where & when:📍 Limitless Dojo\, Tamraght 🌴⏰ Saturday 10.00-11.00 \n💰 Cost:100 MAD \nInstagram: @limitless_dojo & @livplug
URL:https://tamraghtlife.com/event/boxing-with-liv/2028-04-08/
LOCATION:Limitless Gym\, Tamraght\, Morocco
CATEGORIES:☀️ Tamraght Life,🏋🏾‍♀️ Fitness
END:VEVENT
BEGIN:VEVENT
DTSTART;TZID=Africa/Casablanca:20280415T100000
DTEND;TZID=Africa/Casablanca:20280415T110000
DTSTAMP:20260422T173711
CREATED:20260421T152531Z
LAST-MODIFIED:20260421T152725Z
UID:10087544-1839405600-1839409200@tamraghtlife.com
SUMMARY:🔥🥊 Boxing with Liv
DESCRIPTION:🔥 What to expect:🥊 1-hour boxing session focused on technique\, footwork & ring IQ🤝 Friendly & supportive atmosphere — perfect for beginners and experienced fighters \n🎒 What to bring:🥊 Gloves (if you have them)👌 Don’t worry if not — we’ve got plenty available! \n📍 Where & when:📍 Limitless Dojo\, Tamraght 🌴⏰ Saturday 10.00-11.00 \n💰 Cost:100 MAD \nInstagram: @limitless_dojo & @livplug
URL:https://tamraghtlife.com/event/boxing-with-liv/2028-04-15/
LOCATION:Limitless Gym\, Tamraght\, Morocco
CATEGORIES:☀️ Tamraght Life,🏋🏾‍♀️ Fitness
END:VEVENT
BEGIN:VEVENT
DTSTART;TZID=Africa/Casablanca:20280422T100000
DTEND;TZID=Africa/Casablanca:20280422T110000
DTSTAMP:20260422T173711
CREATED:20260421T152531Z
LAST-MODIFIED:20260421T152725Z
UID:10087545-1840010400-1840014000@tamraghtlife.com
SUMMARY:🔥🥊 Boxing with Liv
DESCRIPTION:🔥 What to expect:🥊 1-hour boxing session focused on technique\, footwork & ring IQ🤝 Friendly & supportive atmosphere — perfect for beginners and experienced fighters \n🎒 What to bring:🥊 Gloves (if you have them)👌 Don’t worry if not — we’ve got plenty available! \n📍 Where & when:📍 Limitless Dojo\, Tamraght 🌴⏰ Saturday 10.00-11.00 \n💰 Cost:100 MAD \nInstagram: @limitless_dojo & @livplug
URL:https://tamraghtlife.com/event/boxing-with-liv/2028-04-22/
LOCATION:Limitless Gym\, Tamraght\, Morocco
CATEGORIES:☀️ Tamraght Life,🏋🏾‍♀️ Fitness
END:VEVENT
BEGIN:VEVENT
DTSTART;TZID=Africa/Casablanca:20280429T100000
DTEND;TZID=Africa/Casablanca:20280429T110000
DTSTAMP:20260422T173711
CREATED:20260421T152531Z
LAST-MODIFIED:20260421T152725Z
UID:10087546-1840615200-1840618800@tamraghtlife.com
SUMMARY:🔥🥊 Boxing with Liv
DESCRIPTION:🔥 What to expect:🥊 1-hour boxing session focused on technique\, footwork & ring IQ🤝 Friendly & supportive atmosphere — perfect for beginners and experienced fighters \n🎒 What to bring:🥊 Gloves (if you have them)👌 Don’t worry if not — we’ve got plenty available! \n📍 Where & when:📍 Limitless Dojo\, Tamraght 🌴⏰ Saturday 10.00-11.00 \n💰 Cost:100 MAD \nInstagram: @limitless_dojo & @livplug
URL:https://tamraghtlife.com/event/boxing-with-liv/2028-04-29/
LOCATION:Limitless Gym\, Tamraght\, Morocco
CATEGORIES:☀️ Tamraght Life,🏋🏾‍♀️ Fitness
END:VEVENT
BEGIN:VEVENT
DTSTART;TZID=Africa/Casablanca:20280506T100000
DTEND;TZID=Africa/Casablanca:20280506T110000
DTSTAMP:20260422T173711
CREATED:20260421T152531Z
LAST-MODIFIED:20260421T152725Z
UID:10087547-1841220000-1841223600@tamraghtlife.com
SUMMARY:🔥🥊 Boxing with Liv
DESCRIPTION:🔥 What to expect:🥊 1-hour boxing session focused on technique\, footwork & ring IQ🤝 Friendly & supportive atmosphere — perfect for beginners and experienced fighters \n🎒 What to bring:🥊 Gloves (if you have them)👌 Don’t worry if not — we’ve got plenty available! \n📍 Where & when:📍 Limitless Dojo\, Tamraght 🌴⏰ Saturday 10.00-11.00 \n💰 Cost:100 MAD \nInstagram: @limitless_dojo & @livplug
URL:https://tamraghtlife.com/event/boxing-with-liv/2028-05-06/
LOCATION:Limitless Gym\, Tamraght\, Morocco
CATEGORIES:☀️ Tamraght Life,🏋🏾‍♀️ Fitness
END:VEVENT
BEGIN:VEVENT
DTSTART;TZID=Africa/Casablanca:20280513T100000
DTEND;TZID=Africa/Casablanca:20280513T110000
DTSTAMP:20260422T173711
CREATED:20260421T152531Z
LAST-MODIFIED:20260421T152725Z
UID:10087548-1841824800-1841828400@tamraghtlife.com
SUMMARY:🔥🥊 Boxing with Liv
DESCRIPTION:🔥 What to expect:🥊 1-hour boxing session focused on technique\, footwork & ring IQ🤝 Friendly & supportive atmosphere — perfect for beginners and experienced fighters \n🎒 What to bring:🥊 Gloves (if you have them)👌 Don’t worry if not — we’ve got plenty available! \n📍 Where & when:📍 Limitless Dojo\, Tamraght 🌴⏰ Saturday 10.00-11.00 \n💰 Cost:100 MAD \nInstagram: @limitless_dojo & @livplug
URL:https://tamraghtlife.com/event/boxing-with-liv/2028-05-13/
LOCATION:Limitless Gym\, Tamraght\, Morocco
CATEGORIES:☀️ Tamraght Life,🏋🏾‍♀️ Fitness
END:VEVENT
BEGIN:VEVENT
DTSTART;TZID=Africa/Casablanca:20280520T100000
DTEND;TZID=Africa/Casablanca:20280520T110000
DTSTAMP:20260422T173711
CREATED:20260421T152531Z
LAST-MODIFIED:20260421T152725Z
UID:10087549-1842429600-1842433200@tamraghtlife.com
SUMMARY:🔥🥊 Boxing with Liv
DESCRIPTION:🔥 What to expect:🥊 1-hour boxing session focused on technique\, footwork & ring IQ🤝 Friendly & supportive atmosphere — perfect for beginners and experienced fighters \n🎒 What to bring:🥊 Gloves (if you have them)👌 Don’t worry if not — we’ve got plenty available! \n📍 Where & when:📍 Limitless Dojo\, Tamraght 🌴⏰ Saturday 10.00-11.00 \n💰 Cost:100 MAD \nInstagram: @limitless_dojo & @livplug
URL:https://tamraghtlife.com/event/boxing-with-liv/2028-05-20/
LOCATION:Limitless Gym\, Tamraght\, Morocco
CATEGORIES:☀️ Tamraght Life,🏋🏾‍♀️ Fitness
END:VEVENT
BEGIN:VEVENT
DTSTART;TZID=Africa/Casablanca:20280527T100000
DTEND;TZID=Africa/Casablanca:20280527T110000
DTSTAMP:20260422T173711
CREATED:20260421T152531Z
LAST-MODIFIED:20260421T152725Z
UID:10087550-1843034400-1843038000@tamraghtlife.com
SUMMARY:🔥🥊 Boxing with Liv
DESCRIPTION:🔥 What to expect:🥊 1-hour boxing session focused on technique\, footwork & ring IQ🤝 Friendly & supportive atmosphere — perfect for beginners and experienced fighters \n🎒 What to bring:🥊 Gloves (if you have them)👌 Don’t worry if not — we’ve got plenty available! \n📍 Where & when:📍 Limitless Dojo\, Tamraght 🌴⏰ Saturday 10.00-11.00 \n💰 Cost:100 MAD \nInstagram: @limitless_dojo & @livplug
URL:https://tamraghtlife.com/event/boxing-with-liv/2028-05-27/
LOCATION:Limitless Gym\, Tamraght\, Morocco
CATEGORIES:☀️ Tamraght Life,🏋🏾‍♀️ Fitness
END:VEVENT
BEGIN:VEVENT
DTSTART;TZID=Africa/Casablanca:20280603T100000
DTEND;TZID=Africa/Casablanca:20280603T110000
DTSTAMP:20260422T173711
CREATED:20260421T152531Z
LAST-MODIFIED:20260421T152725Z
UID:10087551-1843639200-1843642800@tamraghtlife.com
SUMMARY:🔥🥊 Boxing with Liv
DESCRIPTION:🔥 What to expect:🥊 1-hour boxing session focused on technique\, footwork & ring IQ🤝 Friendly & supportive atmosphere — perfect for beginners and experienced fighters \n🎒 What to bring:🥊 Gloves (if you have them)👌 Don’t worry if not — we’ve got plenty available! \n📍 Where & when:📍 Limitless Dojo\, Tamraght 🌴⏰ Saturday 10.00-11.00 \n💰 Cost:100 MAD \nInstagram: @limitless_dojo & @livplug
URL:https://tamraghtlife.com/event/boxing-with-liv/2028-06-03/
LOCATION:Limitless Gym\, Tamraght\, Morocco
CATEGORIES:☀️ Tamraght Life,🏋🏾‍♀️ Fitness
END:VEVENT
BEGIN:VEVENT
DTSTART;TZID=Africa/Casablanca:20280610T100000
DTEND;TZID=Africa/Casablanca:20280610T110000
DTSTAMP:20260422T173711
CREATED:20260421T152531Z
LAST-MODIFIED:20260421T152725Z
UID:10087552-1844244000-1844247600@tamraghtlife.com
SUMMARY:🔥🥊 Boxing with Liv
DESCRIPTION:🔥 What to expect:🥊 1-hour boxing session focused on technique\, footwork & ring IQ🤝 Friendly & supportive atmosphere — perfect for beginners and experienced fighters \n🎒 What to bring:🥊 Gloves (if you have them)👌 Don’t worry if not — we’ve got plenty available! \n📍 Where & when:📍 Limitless Dojo\, Tamraght 🌴⏰ Saturday 10.00-11.00 \n💰 Cost:100 MAD \nInstagram: @limitless_dojo & @livplug
URL:https://tamraghtlife.com/event/boxing-with-liv/2028-06-10/
LOCATION:Limitless Gym\, Tamraght\, Morocco
CATEGORIES:☀️ Tamraght Life,🏋🏾‍♀️ Fitness
END:VEVENT
BEGIN:VEVENT
DTSTART;TZID=Africa/Casablanca:20280617T100000
DTEND;TZID=Africa/Casablanca:20280617T110000
DTSTAMP:20260422T173711
CREATED:20260421T152531Z
LAST-MODIFIED:20260421T152725Z
UID:10087553-1844848800-1844852400@tamraghtlife.com
SUMMARY:🔥🥊 Boxing with Liv
DESCRIPTION:🔥 What to expect:🥊 1-hour boxing session focused on technique\, footwork & ring IQ🤝 Friendly & supportive atmosphere — perfect for beginners and experienced fighters \n🎒 What to bring:🥊 Gloves (if you have them)👌 Don’t worry if not — we’ve got plenty available! \n📍 Where & when:📍 Limitless Dojo\, Tamraght 🌴⏰ Saturday 10.00-11.00 \n💰 Cost:100 MAD \nInstagram: @limitless_dojo & @livplug
URL:https://tamraghtlife.com/event/boxing-with-liv/2028-06-17/
LOCATION:Limitless Gym\, Tamraght\, Morocco
CATEGORIES:☀️ Tamraght Life,🏋🏾‍♀️ Fitness
END:VEVENT
BEGIN:VEVENT
DTSTART;TZID=Africa/Casablanca:20280624T100000
DTEND;TZID=Africa/Casablanca:20280624T110000
DTSTAMP:20260422T173711
CREATED:20260421T152531Z
LAST-MODIFIED:20260421T152725Z
UID:10087554-1845453600-1845457200@tamraghtlife.com
SUMMARY:🔥🥊 Boxing with Liv
DESCRIPTION:🔥 What to expect:🥊 1-hour boxing session focused on technique\, footwork & ring IQ🤝 Friendly & supportive atmosphere — perfect for beginners and experienced fighters \n🎒 What to bring:🥊 Gloves (if you have them)👌 Don’t worry if not — we’ve got plenty available! \n📍 Where & when:📍 Limitless Dojo\, Tamraght 🌴⏰ Saturday 10.00-11.00 \n💰 Cost:100 MAD \nInstagram: @limitless_dojo & @livplug
URL:https://tamraghtlife.com/event/boxing-with-liv/2028-06-24/
LOCATION:Limitless Gym\, Tamraght\, Morocco
CATEGORIES:☀️ Tamraght Life,🏋🏾‍♀️ Fitness
END:VEVENT
BEGIN:VEVENT
DTSTART;TZID=Africa/Casablanca:20280701T100000
DTEND;TZID=Africa/Casablanca:20280701T110000
DTSTAMP:20260422T173712
CREATED:20260421T152531Z
LAST-MODIFIED:20260421T152725Z
UID:10087555-1846058400-1846062000@tamraghtlife.com
SUMMARY:🔥🥊 Boxing with Liv
DESCRIPTION:🔥 What to expect:🥊 1-hour boxing session focused on technique\, footwork & ring IQ🤝 Friendly & supportive atmosphere — perfect for beginners and experienced fighters \n🎒 What to bring:🥊 Gloves (if you have them)👌 Don’t worry if not — we’ve got plenty available! \n📍 Where & when:📍 Limitless Dojo\, Tamraght 🌴⏰ Saturday 10.00-11.00 \n💰 Cost:100 MAD \nInstagram: @limitless_dojo & @livplug
URL:https://tamraghtlife.com/event/boxing-with-liv/2028-07-01/
LOCATION:Limitless Gym\, Tamraght\, Morocco
CATEGORIES:☀️ Tamraght Life,🏋🏾‍♀️ Fitness
END:VEVENT
BEGIN:VEVENT
DTSTART;TZID=Africa/Casablanca:20280708T100000
DTEND;TZID=Africa/Casablanca:20280708T110000
DTSTAMP:20260422T173712
CREATED:20260421T152531Z
LAST-MODIFIED:20260421T152725Z
UID:10087556-1846663200-1846666800@tamraghtlife.com
SUMMARY:🔥🥊 Boxing with Liv
DESCRIPTION:🔥 What to expect:🥊 1-hour boxing session focused on technique\, footwork & ring IQ🤝 Friendly & supportive atmosphere — perfect for beginners and experienced fighters \n🎒 What to bring:🥊 Gloves (if you have them)👌 Don’t worry if not — we’ve got plenty available! \n📍 Where & when:📍 Limitless Dojo\, Tamraght 🌴⏰ Saturday 10.00-11.00 \n💰 Cost:100 MAD \nInstagram: @limitless_dojo & @livplug
URL:https://tamraghtlife.com/event/boxing-with-liv/2028-07-08/
LOCATION:Limitless Gym\, Tamraght\, Morocco
CATEGORIES:☀️ Tamraght Life,🏋🏾‍♀️ Fitness
END:VEVENT
BEGIN:VEVENT
DTSTART;TZID=Africa/Casablanca:20280715T100000
DTEND;TZID=Africa/Casablanca:20280715T110000
DTSTAMP:20260422T173712
CREATED:20260421T152531Z
LAST-MODIFIED:20260421T152725Z
UID:10087557-1847268000-1847271600@tamraghtlife.com
SUMMARY:🔥🥊 Boxing with Liv
DESCRIPTION:🔥 What to expect:🥊 1-hour boxing session focused on technique\, footwork & ring IQ🤝 Friendly & supportive atmosphere — perfect for beginners and experienced fighters \n🎒 What to bring:🥊 Gloves (if you have them)👌 Don’t worry if not — we’ve got plenty available! \n📍 Where & when:📍 Limitless Dojo\, Tamraght 🌴⏰ Saturday 10.00-11.00 \n💰 Cost:100 MAD \nInstagram: @limitless_dojo & @livplug
URL:https://tamraghtlife.com/event/boxing-with-liv/2028-07-15/
LOCATION:Limitless Gym\, Tamraght\, Morocco
CATEGORIES:☀️ Tamraght Life,🏋🏾‍♀️ Fitness
END:VEVENT
BEGIN:VEVENT
DTSTART;TZID=Africa/Casablanca:20280722T100000
DTEND;TZID=Africa/Casablanca:20280722T110000
DTSTAMP:20260422T173712
CREATED:20260421T152531Z
LAST-MODIFIED:20260421T152725Z
UID:10087558-1847872800-1847876400@tamraghtlife.com
SUMMARY:🔥🥊 Boxing with Liv
DESCRIPTION:🔥 What to expect:🥊 1-hour boxing session focused on technique\, footwork & ring IQ🤝 Friendly & supportive atmosphere — perfect for beginners and experienced fighters \n🎒 What to bring:🥊 Gloves (if you have them)👌 Don’t worry if not — we’ve got plenty available! \n📍 Where & when:📍 Limitless Dojo\, Tamraght 🌴⏰ Saturday 10.00-11.00 \n💰 Cost:100 MAD \nInstagram: @limitless_dojo & @livplug
URL:https://tamraghtlife.com/event/boxing-with-liv/2028-07-22/
LOCATION:Limitless Gym\, Tamraght\, Morocco
CATEGORIES:☀️ Tamraght Life,🏋🏾‍♀️ Fitness
END:VEVENT
BEGIN:VEVENT
DTSTART;TZID=Africa/Casablanca:20280729T100000
DTEND;TZID=Africa/Casablanca:20280729T110000
DTSTAMP:20260422T173712
CREATED:20260421T152531Z
LAST-MODIFIED:20260421T152725Z
UID:10087559-1848477600-1848481200@tamraghtlife.com
SUMMARY:🔥🥊 Boxing with Liv
DESCRIPTION:🔥 What to expect:🥊 1-hour boxing session focused on technique\, footwork & ring IQ🤝 Friendly & supportive atmosphere — perfect for beginners and experienced fighters \n🎒 What to bring:🥊 Gloves (if you have them)👌 Don’t worry if not — we’ve got plenty available! \n📍 Where & when:📍 Limitless Dojo\, Tamraght 🌴⏰ Saturday 10.00-11.00 \n💰 Cost:100 MAD \nInstagram: @limitless_dojo & @livplug
URL:https://tamraghtlife.com/event/boxing-with-liv/2028-07-29/
LOCATION:Limitless Gym\, Tamraght\, Morocco
CATEGORIES:☀️ Tamraght Life,🏋🏾‍♀️ Fitness
END:VEVENT
BEGIN:VEVENT
DTSTART;TZID=Africa/Casablanca:20280805T100000
DTEND;TZID=Africa/Casablanca:20280805T110000
DTSTAMP:20260422T173712
CREATED:20260421T152531Z
LAST-MODIFIED:20260421T152725Z
UID:10087560-1849082400-1849086000@tamraghtlife.com
SUMMARY:🔥🥊 Boxing with Liv
DESCRIPTION:🔥 What to expect:🥊 1-hour boxing session focused on technique\, footwork & ring IQ🤝 Friendly & supportive atmosphere — perfect for beginners and experienced fighters \n🎒 What to bring:🥊 Gloves (if you have them)👌 Don’t worry if not — we’ve got plenty available! \n📍 Where & when:📍 Limitless Dojo\, Tamraght 🌴⏰ Saturday 10.00-11.00 \n💰 Cost:100 MAD \nInstagram: @limitless_dojo & @livplug
URL:https://tamraghtlife.com/event/boxing-with-liv/2028-08-05/
LOCATION:Limitless Gym\, Tamraght\, Morocco
CATEGORIES:☀️ Tamraght Life,🏋🏾‍♀️ Fitness
END:VEVENT
END:VCALENDAR