BEGIN:VCALENDAR
VERSION:2.0
PRODID:-//tamraghtlife.com - ECPv6.15.20//NONSGML v1.0//EN
CALSCALE:GREGORIAN
METHOD:PUBLISH
X-ORIGINAL-URL:https://tamraghtlife.com
X-WR-CALDESC:Events for tamraghtlife.com
REFRESH-INTERVAL;VALUE=DURATION:PT1H
X-Robots-Tag:noindex
X-PUBLISHED-TTL:PT1H
BEGIN:VTIMEZONE
TZID:Africa/Casablanca
BEGIN:DAYLIGHT
TZOFFSETFROM:+0100
TZOFFSETTO:+0000
TZNAME:+00
DTSTART:20250223T020000
END:DAYLIGHT
BEGIN:STANDARD
TZOFFSETFROM:+0000
TZOFFSETTO:+0100
TZNAME:+01
DTSTART:20250406T020000
END:STANDARD
BEGIN:DAYLIGHT
TZOFFSETFROM:+0100
TZOFFSETTO:+0000
TZNAME:+00
DTSTART:20260215T020000
END:DAYLIGHT
BEGIN:STANDARD
TZOFFSETFROM:+0000
TZOFFSETTO:+0100
TZNAME:+01
DTSTART:20260322T020000
END:STANDARD
BEGIN:DAYLIGHT
TZOFFSETFROM:+0100
TZOFFSETTO:+0000
TZNAME:+00
DTSTART:20270207T020000
END:DAYLIGHT
BEGIN:STANDARD
TZOFFSETFROM:+0000
TZOFFSETTO:+0100
TZNAME:+01
DTSTART:20270314T020000
END:STANDARD
END:VTIMEZONE
BEGIN:VEVENT
DTSTART;TZID=Africa/Casablanca:20260418T180000
DTEND;TZID=Africa/Casablanca:20260418T190000
DTSTAMP:20260421T000413
CREATED:20260327T081737Z
LAST-MODIFIED:20260327T090449Z
UID:10075020-1776535200-1776538800@tamraghtlife.com
SUMMARY:🏃 🏃‍♀️ Tamraght Runners Sunset run
DESCRIPTION:🌅 Sunset Trail Run with Tamraght Runners \nJoin us for a relaxed 5K trail run and enjoy the beautiful sunset views over Tamraght. \nThis run is open to all levels – we go at an easy\, social pace and support each other 🤝 \n📍 Meeting point: Sukun spot\, Tamraght\n🕕 Time: 18:00\n🏃 Distance: 5KM \nCome for the run\, stay for the good vibes ✨\nEveryone is welcome!
URL:https://tamraghtlife.com/event/activity-sunset-trail-run-tamraght/2026-04-18/
LOCATION:Sukun\, Tamraght\, Morocco
CATEGORIES:🏋🏾‍♀️ Fitness,🫂 Community
ATTACH;FMTTYPE=image/png:https://tamraghtlife.com/wp-content/uploads/2026/03/Run-1-e1774599443853.png
ORGANIZER;CN="Tamraght Runners":MAILTO:ananichabdallah@gmail.com
END:VEVENT
BEGIN:VEVENT
DTSTART;TZID=Africa/Casablanca:20260416T180000
DTEND;TZID=Africa/Casablanca:20260416T190000
DTSTAMP:20260421T000413
CREATED:20260414T121211Z
LAST-MODIFIED:20260414T121211Z
UID:10086901-1776362400-1776366000@tamraghtlife.com
SUMMARY:🌸 Feminine flow dance with Eve 🌸
DESCRIPTION:Feminine flow dance with Eve 🌸 \nJoin the Feminine flow dance experience to reconnect with your body\, awaken your feminine energy and move with freedom and sensuality.🍑💥🌸🫦 Somatic movements\, twerking exercises\, dance combinations\, and more…
URL:https://tamraghtlife.com/event/%f0%9f%8c%b8-feminine-flow-dance-with-eve-%f0%9f%8c%b8/
LOCATION:2 Palms House
CATEGORIES:☀️ Tamraght Life,☕ Social,❤️ Mindful Tamraght,🎨 Creative,💃 Dance,💆 Wellness,🫂 Community
ATTACH;FMTTYPE=image/jpeg:https://tamraghtlife.com/wp-content/uploads/2026/04/IMG_0739.jpeg
ORGANIZER;CN="Eve":MAILTO:evelinebaha@gmail.com
END:VEVENT
BEGIN:VEVENT
DTSTART;TZID=Africa/Casablanca:20260415T193000
DTEND;TZID=Africa/Casablanca:20260415T210000
DTSTAMP:20260421T000413
CREATED:20260413T133941Z
LAST-MODIFIED:20260415T144517Z
UID:10085838-1776281400-1776286800@tamraghtlife.com
SUMMARY:🕺🏼🎧 SILENT DISCO AT THE BEACH
DESCRIPTION:Silent disco on the beach DRUM & BASS\, reggae dub\, jungle and more\nDevils Rock \n7.30pm \nMessage @silentdance_morocco to book your tickets
URL:https://tamraghtlife.com/event/%f0%9f%95%ba%f0%9f%8f%bc%f0%9f%8e%a7-silent-disco/
LOCATION:Devils Rock\, Tamraght
CATEGORIES:☀️ Tamraght Life,💃 Dance
ATTACH;FMTTYPE=image/png:https://tamraghtlife.com/wp-content/uploads/2026/04/Copy-of-Copy-of-Copy-of-Copy-of-Lets-Talk-Lets-Talk-Lets-Talk-Lets-Talk-Lets-Talk-1920-x-1080-px.png
END:VEVENT
BEGIN:VEVENT
DTSTART;TZID=Africa/Casablanca:20260414T093000
DTEND;TZID=Africa/Casablanca:20260414T103000
DTSTAMP:20260421T000413
CREATED:20260325T160404Z
LAST-MODIFIED:20260330T093113Z
UID:10081055-1776159000-1776162600@tamraghtlife.com
SUMMARY:🏃🏃‍♀️ Tamraght Runners Morning Run
DESCRIPTION:Join Tamraght Runners for a friendly community run in Tamraght 🏃‍♂️✨ \nThis is a social run open to all levels — whether you’re a beginner or an experienced runner\, everyone is welcome! \nWe focus on good vibes\, community\, and enjoying the run together. \n📍 Meeting point: Sukun Spot \n🕘 Time: 9:30 AM (please arrive 10 minutes early) \n🏃‍♂️ Distance: 5–8 km (easy pace) \nCome run with us and be part of the Tamraght Runners community 💪🔥
URL:https://tamraghtlife.com/event/%f0%9f%8f%83%f0%9f%8f%83%e2%99%80%ef%b8%8f-tamraght-runners-morning-run/2026-04-14/
LOCATION:Sukun\, Tamraght\, Morocco
CATEGORIES:☀️ Tamraght Life,☕ Social,🏋🏾‍♀️ Fitness,🫂 Community
ATTACH;FMTTYPE=image/png:https://tamraghtlife.com/wp-content/uploads/2026/03/Run-e1774454618196.png
ORGANIZER;CN="Tamraght Runners":MAILTO:ananichabdallah@gmail.com
END:VEVENT
BEGIN:VEVENT
DTSTART;TZID=Africa/Casablanca:20260413T190000
DTEND;TZID=Africa/Casablanca:20260413T200000
DTSTAMP:20260421T000413
CREATED:20251024T100620Z
LAST-MODIFIED:20260412T134945Z
UID:10072070-1776106800-1776110400@tamraghtlife.com
SUMMARY:🧘‍♂️☀️ Sunset Slow Flow with Colette
DESCRIPTION:Through mindful and slow movement\, you’ll explore your range of motion\, melt away tension and rediscover fluidity in every gesture. Breathe. Feel. Let yourself flow. A space to move without force\, play within your body and leave feeling lighter\, grounded\, and alive. All levels. Price: 120mad
URL:https://tamraghtlife.com/event/class-mobility-flow-with-colette-tamraght/
LOCATION:Intimate House\, Tamraght\, Tamraght
CATEGORIES:☀️ Tamraght Life,❤️ Mindful Tamraght,🧘 Yoga
ATTACH;FMTTYPE=image/png:https://tamraghtlife.com/wp-content/uploads/2025/10/Design-sans-titre-5.png
ORGANIZER;CN="Colette Amaal":MAILTO:colette.yoga.amal@gmail.com
END:VEVENT
BEGIN:VEVENT
DTSTART;TZID=Africa/Casablanca:20260412T093000
DTEND;TZID=Africa/Casablanca:20260412T103000
DTSTAMP:20260421T000413
CREATED:20260411T102335Z
LAST-MODIFIED:20260411T102335Z
UID:10085826-1775986200-1775989800@tamraghtlife.com
SUMMARY:🫦💪🏼  Fit femme stretching with Eve
DESCRIPTION:Fit Femme Stretching is a womens class is here to help you: \n💪🏼Unlock tight muscles \n💥 Boost energy & confidence \n🫦 Feel sexy\, strong & feminine \nYour body deserves this 💫
URL:https://tamraghtlife.com/event/%f0%9f%ab%a6%f0%9f%92%aa%f0%9f%8f%bc-fit-femme-stretching-with-eve/
LOCATION:2 Palms House
CATEGORIES:☀️ Tamraght Life,❤️ Mindful Tamraght,🏋🏾‍♀️ Fitness,💆 Wellness,🫂 Community
ORGANIZER;CN="Eve":MAILTO:evelinebaha@gmail.com
END:VEVENT
BEGIN:VEVENT
DTSTART;TZID=Africa/Casablanca:20260411T180000
DTEND;TZID=Africa/Casablanca:20260411T190000
DTSTAMP:20260421T000413
CREATED:20260327T081737Z
LAST-MODIFIED:20260327T090449Z
UID:10075019-1775930400-1775934000@tamraghtlife.com
SUMMARY:🏃 🏃‍♀️ Tamraght Runners Sunset run
DESCRIPTION:🌅 Sunset Trail Run with Tamraght Runners \nJoin us for a relaxed 5K trail run and enjoy the beautiful sunset views over Tamraght. \nThis run is open to all levels – we go at an easy\, social pace and support each other 🤝 \n📍 Meeting point: Sukun spot\, Tamraght\n🕕 Time: 18:00\n🏃 Distance: 5KM \nCome for the run\, stay for the good vibes ✨\nEveryone is welcome!
URL:https://tamraghtlife.com/event/activity-sunset-trail-run-tamraght/2026-04-11/
LOCATION:Sukun\, Tamraght\, Morocco
CATEGORIES:🏋🏾‍♀️ Fitness,🫂 Community
ATTACH;FMTTYPE=image/png:https://tamraghtlife.com/wp-content/uploads/2026/03/Run-1-e1774599443853.png
ORGANIZER;CN="Tamraght Runners":MAILTO:ananichabdallah@gmail.com
END:VEVENT
BEGIN:VEVENT
DTSTART;TZID=Africa/Casablanca:20260407T180000
DTEND;TZID=Africa/Casablanca:20260407T190000
DTSTAMP:20260421T000413
CREATED:20260404T152810Z
LAST-MODIFIED:20260404T152810Z
UID:10081377-1775584800-1775588400@tamraghtlife.com
SUMMARY:💃✨ Feminine Flow dance with Eve
DESCRIPTION:✨ Feminine Flow Dance ✨ \nStep into your body. Move with freedom. Awaken your sensual\, feminine energy. 💃 \nExplore a new dance combination that lets you 🌸Connect deeply with your body&heart🌸Celebrate your feminine power🌸Embrace your sexy\, playful side \nNo experience needed- just bring your heart and be open to express yourself!
URL:https://tamraghtlife.com/event/%f0%9f%92%83%e2%9c%a8-feminine-flow-dance-with-eve/
LOCATION:2 Palms House
CATEGORIES:☀️ Tamraght Life,❤️ Mindful Tamraght,🍌 Aourir Life,🏋🏾‍♀️ Fitness,💃 Dance,💸 Free,🫂 Community
ORGANIZER;CN="Eve":MAILTO:evelinebaha@gmail.com
END:VEVENT
BEGIN:VEVENT
DTSTART;TZID=Africa/Casablanca:20260407T093000
DTEND;TZID=Africa/Casablanca:20260407T103000
DTSTAMP:20260421T000413
CREATED:20260325T160404Z
LAST-MODIFIED:20260330T093113Z
UID:10081054-1775554200-1775557800@tamraghtlife.com
SUMMARY:🏃🏃‍♀️ Tamraght Runners Morning Run
DESCRIPTION:Join Tamraght Runners for a friendly community run in Tamraght 🏃‍♂️✨ \nThis is a social run open to all levels — whether you’re a beginner or an experienced runner\, everyone is welcome! \nWe focus on good vibes\, community\, and enjoying the run together. \n📍 Meeting point: Sukun Spot \n🕘 Time: 9:30 AM (please arrive 10 minutes early) \n🏃‍♂️ Distance: 5–8 km (easy pace) \nCome run with us and be part of the Tamraght Runners community 💪🔥
URL:https://tamraghtlife.com/event/%f0%9f%8f%83%f0%9f%8f%83%e2%99%80%ef%b8%8f-tamraght-runners-morning-run/2026-04-07/
LOCATION:Sukun\, Tamraght\, Morocco
CATEGORIES:☀️ Tamraght Life,☕ Social,🏋🏾‍♀️ Fitness,🫂 Community
ATTACH;FMTTYPE=image/png:https://tamraghtlife.com/wp-content/uploads/2026/03/Run-e1774454618196.png
ORGANIZER;CN="Tamraght Runners":MAILTO:ananichabdallah@gmail.com
END:VEVENT
BEGIN:VEVENT
DTSTART;TZID=Africa/Casablanca:20260407T090000
DTEND;TZID=Africa/Casablanca:20260407T093000
DTSTAMP:20260421T000413
CREATED:20260404T135024Z
LAST-MODIFIED:20260404T142115Z
UID:10081374-1775552400-1775554200@tamraghtlife.com
SUMMARY:🌊🏝️Wild Swim & Mobility UNPLUGGED SOCIAL CLUB
DESCRIPTION:Cold water. Clear head. Stronger you. 🌊 \nOur monthly cold water swim is all about kick starting the morning with a feeling that is unmissable! We’ll do a short mobility sequence with @mariaddurao and then head together into the ocean. \nIf it’s your first time\, come curious.\nIf you joined us before\, bring a friend and help spread the magic. \nWhy try a cold swim?\n• It pulls you out of your head and into your body\n• It resets your nervous system and boosts your mood\n• Doing it together makes it feel less scary and way more powerful \nThe Details:\nWhen: Tues 7 April\nTime: 9:00–9:30am\nWhere: Crocro Beach\, Tamraght (meet outside La Plancha restaurant)\nPrice: Free \nFor exact location details\, join our whatsapp group.
URL:https://tamraghtlife.com/event/%f0%9f%8c%8a%f0%9f%8f%9d%ef%b8%8fwild-swim-mobility-unplugged-social-club/
LOCATION:Imourane Beach\, Tamraght
CATEGORIES:☀️ Tamraght Life,☕ Social,💆 Wellness,💸 Free,🥾 Outdoor
ATTACH;FMTTYPE=image/png:https://tamraghtlife.com/wp-content/uploads/2026/04/Tlife-posters.png
ORGANIZER;CN="Unplugged Social Club":MAILTO:unpluggedsocialclub@gmail.com
END:VEVENT
BEGIN:VEVENT
DTSTART;TZID=Africa/Casablanca:20260405T160000
DTEND;TZID=Africa/Casablanca:20260405T180000
DTSTAMP:20260421T000413
CREATED:20260330T075910Z
LAST-MODIFIED:20260330T080141Z
UID:10081049-1775404800-1775412000@tamraghtlife.com
SUMMARY:🗑️ 🏖️ 🧘‍♂️ Beach clean + free yoga 📍taghazout
DESCRIPTION:Beach clean followed by a free yoga session at sunset \n1 full bin bag = 1 yoga spot \n@withhaze_
URL:https://tamraghtlife.com/event/%f0%9f%97%91%ef%b8%8f-%f0%9f%8f%96%ef%b8%8f-%f0%9f%a7%98%e2%99%82%ef%b8%8f-beach-clean-free-yoga-%f0%9f%93%8dtaghazout/
LOCATION:Taghazout\, Bumjack Beach\, Taghazout
CATEGORIES:☕ Social,💸 Free,🤙🏾 Taghazout Life,🧘 Yoga
ATTACH;FMTTYPE=image/png:https://tamraghtlife.com/wp-content/uploads/2026/03/Blue-and-White-Minimalist-Beach-Clean-Up-Drive-Instagram-Post-e1774857418372.png
ORGANIZER;CN="Withhaze_":MAILTO:pridepursey@gmail.com
END:VEVENT
BEGIN:VEVENT
DTSTART;TZID=Africa/Casablanca:20260404T180000
DTEND;TZID=Africa/Casablanca:20260404T190000
DTSTAMP:20260421T000413
CREATED:20260327T081737Z
LAST-MODIFIED:20260327T090449Z
UID:10075018-1775325600-1775329200@tamraghtlife.com
SUMMARY:🏃 🏃‍♀️ Tamraght Runners Sunset run
DESCRIPTION:🌅 Sunset Trail Run with Tamraght Runners \nJoin us for a relaxed 5K trail run and enjoy the beautiful sunset views over Tamraght. \nThis run is open to all levels – we go at an easy\, social pace and support each other 🤝 \n📍 Meeting point: Sukun spot\, Tamraght\n🕕 Time: 18:00\n🏃 Distance: 5KM \nCome for the run\, stay for the good vibes ✨\nEveryone is welcome!
URL:https://tamraghtlife.com/event/activity-sunset-trail-run-tamraght/2026-04-04/
LOCATION:Sukun\, Tamraght\, Morocco
CATEGORIES:🏋🏾‍♀️ Fitness,🫂 Community
ATTACH;FMTTYPE=image/png:https://tamraghtlife.com/wp-content/uploads/2026/03/Run-1-e1774599443853.png
ORGANIZER;CN="Tamraght Runners":MAILTO:ananichabdallah@gmail.com
END:VEVENT
BEGIN:VEVENT
DTSTART;TZID=Africa/Casablanca:20260404T150000
DTEND;TZID=Africa/Casablanca:20260404T160000
DTSTAMP:20260421T000413
CREATED:20260403T150434Z
LAST-MODIFIED:20260403T155219Z
UID:10081323-1775314800-1775318400@tamraghtlife.com
SUMMARY:👗📚CLOTHES & BOOKS SWAP
DESCRIPTION:👗📚 Clothes & Books Swap at Kasbari House\nGive your wardrobe and bookshelf a fresh start for free. Bring the clothes and books you no longer need and leave with something new to love.\n📅 When: 3:00 PM – 4:00 PM\n📍 Where: Kasbari House\n💸 Cost: Free
URL:https://tamraghtlife.com/event/%f0%9f%91%97%f0%9f%93%9aclothes-books-swap-tamraghr/
LOCATION:Kasbari House\, Hay Sahel (close to Najib Electronic Shop)\, Tamraght\, 80023
CATEGORIES:☀️ Tamraght Life,☕ Social,💸 Free
ATTACH;FMTTYPE=image/png:https://tamraghtlife.com/wp-content/uploads/2026/04/Design-sans-titre-6.png
ORGANIZER;CN="Colette Amaal":MAILTO:colette.yoga.amal@gmail.com
END:VEVENT
BEGIN:VEVENT
DTSTART;TZID=Africa/Casablanca:20260403T080000
DTEND;TZID=Africa/Casablanca:20260403T100000
DTSTAMP:20260421T000413
CREATED:20260401T161841Z
LAST-MODIFIED:20260401T161841Z
UID:10081319-1775203200-1775210400@tamraghtlife.com
SUMMARY:🧘‍♂️🍳 Functional Yoga & Breakfast with Nush
DESCRIPTION:Move\, breathe and start your day right. \nA functional yoga session focused on strength\, mobility and flexibility. \nOpen to all levels. \nAfter the class\, enjoy a delicious Moroccan breakfast and meet new people. \nA great way to enjoy your morning in Tamraght. \n📍 Tamraght\n🥞 Breakfast included\n💰 Price: 150 dh \nReserve your spot in advance. \n📩 Instagram: @bluetizirinhouse\n📱 WhatsApp: +212 708 003 227
URL:https://tamraghtlife.com/event/%f0%9f%a7%98%e2%99%82%ef%b8%8f%f0%9f%8d%b3-functional-yoga-breakfast-with-nush/
LOCATION:Blue Tizirin House\, Hay Tissaliouine\, Tamraght\, 80020
CATEGORIES:☀️ Tamraght Life,❤️ Mindful Tamraght,⛦ Moroccan Culture,🧘 Yoga
ATTACH;FMTTYPE=image/png:https://tamraghtlife.com/wp-content/uploads/2026/03/Yoga-and-breakfast-1-e1775060294241.png
ORGANIZER;CN="Blue Tizirin House":MAILTO:bluetizirinhouse@gmail.com
END:VEVENT
BEGIN:VEVENT
DTSTART;TZID=Africa/Casablanca:20260331T093000
DTEND;TZID=Africa/Casablanca:20260331T103000
DTSTAMP:20260421T000413
CREATED:20260325T160404Z
LAST-MODIFIED:20260330T093113Z
UID:10081053-1774949400-1774953000@tamraghtlife.com
SUMMARY:🏃🏃‍♀️ Tamraght Runners Morning Run
DESCRIPTION:Join Tamraght Runners for a friendly community run in Tamraght 🏃‍♂️✨ \nThis is a social run open to all levels — whether you’re a beginner or an experienced runner\, everyone is welcome! \nWe focus on good vibes\, community\, and enjoying the run together. \n📍 Meeting point: Sukun Spot \n🕘 Time: 9:30 AM (please arrive 10 minutes early) \n🏃‍♂️ Distance: 5–8 km (easy pace) \nCome run with us and be part of the Tamraght Runners community 💪🔥
URL:https://tamraghtlife.com/event/%f0%9f%8f%83%f0%9f%8f%83%e2%99%80%ef%b8%8f-tamraght-runners-morning-run/2026-03-31/
LOCATION:Sukun\, Tamraght\, Morocco
CATEGORIES:☀️ Tamraght Life,☕ Social,🏋🏾‍♀️ Fitness,🫂 Community
ATTACH;FMTTYPE=image/png:https://tamraghtlife.com/wp-content/uploads/2026/03/Run-e1774454618196.png
ORGANIZER;CN="Tamraght Runners":MAILTO:ananichabdallah@gmail.com
END:VEVENT
BEGIN:VEVENT
DTSTART;TZID=Africa/Casablanca:20260328T180000
DTEND;TZID=Africa/Casablanca:20260328T190000
DTSTAMP:20260421T000413
CREATED:20260327T081737Z
LAST-MODIFIED:20260327T090449Z
UID:10075017-1774720800-1774724400@tamraghtlife.com
SUMMARY:🏃 🏃‍♀️ Tamraght Runners Sunset run
DESCRIPTION:🌅 Sunset Trail Run with Tamraght Runners \nJoin us for a relaxed 5K trail run and enjoy the beautiful sunset views over Tamraght. \nThis run is open to all levels – we go at an easy\, social pace and support each other 🤝 \n📍 Meeting point: Sukun spot\, Tamraght\n🕕 Time: 18:00\n🏃 Distance: 5KM \nCome for the run\, stay for the good vibes ✨\nEveryone is welcome!
URL:https://tamraghtlife.com/event/activity-sunset-trail-run-tamraght/2026-03-28/
LOCATION:Sukun\, Tamraght\, Morocco
CATEGORIES:🏋🏾‍♀️ Fitness,🫂 Community
ATTACH;FMTTYPE=image/png:https://tamraghtlife.com/wp-content/uploads/2026/03/Run-1-e1774599443853.png
ORGANIZER;CN="Tamraght Runners":MAILTO:ananichabdallah@gmail.com
END:VEVENT
BEGIN:VEVENT
DTSTART;TZID=Africa/Casablanca:20260326T173000
DTEND;TZID=Africa/Casablanca:20260326T183000
DTSTAMP:20260421T000413
CREATED:20260325T165012Z
LAST-MODIFIED:20260325T165012Z
UID:10075013-1774546200-1774549800@tamraghtlife.com
SUMMARY:💃🏼🤍 Feminine Flow Dance with Eve
DESCRIPTION:Feminine Flow Dance with Eve💃🏼 \nJoin the Feminine Flow dance experience to reconnect with your body\, awaken your feminine energy\, and move with freedom and sensuality.💃🏼🤍🌬️ \nI’d also like to take some photos and videos during the class to create content.\nEveryone is welcome – feel free to join this Thursday 17.30PM!
URL:https://tamraghtlife.com/event/%f0%9f%92%83%f0%9f%8f%bc%f0%9f%a4%8d-feminine-flow-dance-with-eve/
LOCATION:2 Palms House
CATEGORIES:☀️ Tamraght Life,❤️ Mindful Tamraght,💃 Dance,🫂 Community
ORGANIZER;CN="Eve":MAILTO:evelinebaha@gmail.com
END:VEVENT
BEGIN:VEVENT
DTSTART;TZID=Africa/Casablanca:20260325T193000
DTEND;TZID=Africa/Casablanca:20260325T213000
DTSTAMP:20260421T000413
CREATED:20260316T060604Z
LAST-MODIFIED:20260323T100109Z
UID:10062600-1774467000-1774474200@tamraghtlife.com
SUMMARY:🎶 💫 Kirtan at Mint Surf
DESCRIPTION:Kirtan Evening at Mint Surf \nJoin us on Wednesday 25th March for an evening of Kirtan (devotional mantra singing and meditation) at Mint Surf\, Lower Tamraght. \nCome sing\, hum\, or simply listen — everyone is welcome no experience necessary! 🙂 \nTime: 7:30pm \nLocation: Tamraght\, https://maps.app.goo.gl/oWVNB7hoY7icRBe17?g_st=ic \nCost: \nFree event but donations most welcome\, proceeds will go to charity. \nWe’d love to share this evening with of love\, devotion\, and togetherness with you 🙏✨
URL:https://tamraghtlife.com/event/gathering-kirtan-at-mint-surf-tamraght-2/
LOCATION:Mint Surf\, Tamraght\, Morocco
CATEGORIES:☀️ Tamraght Life,☕ Social,❤️ Mindful Tamraght,🎤 Sing,💸 Free,🧘 Yoga,🫂 Community
ATTACH;FMTTYPE=image/jpeg:https://tamraghtlife.com/wp-content/uploads/2026/03/d86dd2cb-2ee9-4a11-b252-60d84d9317df-e1773641121952.jpeg
ORGANIZER;CN="luna waves":MAILTO:Lunawavesyoga@gmail.com
END:VEVENT
BEGIN:VEVENT
DTSTART;TZID=Africa/Casablanca:20260324T093000
DTEND;TZID=Africa/Casablanca:20260324T103000
DTSTAMP:20260421T000413
CREATED:20260325T160404Z
LAST-MODIFIED:20260330T093113Z
UID:10075010-1774344600-1774348200@tamraghtlife.com
SUMMARY:🏃🏃‍♀️ Tamraght Runners Morning Run
DESCRIPTION:Join Tamraght Runners for a friendly community run in Tamraght 🏃‍♂️✨ \nThis is a social run open to all levels — whether you’re a beginner or an experienced runner\, everyone is welcome! \nWe focus on good vibes\, community\, and enjoying the run together. \n📍 Meeting point: Sukun Spot \n🕘 Time: 9:30 AM (please arrive 10 minutes early) \n🏃‍♂️ Distance: 5–8 km (easy pace) \nCome run with us and be part of the Tamraght Runners community 💪🔥
URL:https://tamraghtlife.com/event/%f0%9f%8f%83%f0%9f%8f%83%e2%99%80%ef%b8%8f-tamraght-runners-morning-run/2026-03-24/
LOCATION:Sukun\, Tamraght\, Morocco
CATEGORIES:☀️ Tamraght Life,☕ Social,🏋🏾‍♀️ Fitness,🫂 Community
ATTACH;FMTTYPE=image/png:https://tamraghtlife.com/wp-content/uploads/2026/03/Run-e1774454618196.png
ORGANIZER;CN="Tamraght Runners":MAILTO:ananichabdallah@gmail.com
END:VEVENT
BEGIN:VEVENT
DTSTART;TZID=Africa/Casablanca:20260307T173000
DTEND;TZID=Africa/Casablanca:20260307T183000
DTSTAMP:20260421T000413
CREATED:20260305T132458Z
LAST-MODIFIED:20260305T174818Z
UID:10059553-1772904600-1772908200@tamraghtlife.com
SUMMARY:CLASS - Feminine Flow dance with Eve - Tamraght
DESCRIPTION:Feminine Flow Dance with Eve💃🏼 \nJoin the Feminine Flow dance experience to reconnect with your body\, awaken your feminine energy\, and move with freedom and sensuality.💃🏼🤍🌬️ \nBook with Eve @evebodypractices  \n 
URL:https://tamraghtlife.com/event/class-feminine-flow-dance-with-eve-tamraght/
LOCATION:2 Palms House
CATEGORIES:☀️ Tamraght Life,❤️ Mindful Tamraght
ATTACH;FMTTYPE=image/jpeg:https://tamraghtlife.com/wp-content/uploads/2026/03/fem-flow.jpg
ORGANIZER;CN="Eve":MAILTO:evelinebaha@gmail.com
END:VEVENT
END:VCALENDAR