BEGIN:VCALENDAR
VERSION:2.0
PRODID:-//tamraghtlife.com - ECPv6.15.20//NONSGML v1.0//EN
CALSCALE:GREGORIAN
METHOD:PUBLISH
X-WR-CALNAME:tamraghtlife.com
X-ORIGINAL-URL:https://tamraghtlife.com
X-WR-CALDESC:Events for tamraghtlife.com
REFRESH-INTERVAL;VALUE=DURATION:PT1H
X-Robots-Tag:noindex
X-PUBLISHED-TTL:PT1H
BEGIN:VTIMEZONE
TZID:Africa/Casablanca
BEGIN:DAYLIGHT
TZOFFSETFROM:+0100
TZOFFSETTO:+0000
TZNAME:+00
DTSTART:20250223T020000
END:DAYLIGHT
BEGIN:STANDARD
TZOFFSETFROM:+0000
TZOFFSETTO:+0100
TZNAME:+01
DTSTART:20250406T020000
END:STANDARD
BEGIN:DAYLIGHT
TZOFFSETFROM:+0100
TZOFFSETTO:+0000
TZNAME:+00
DTSTART:20260215T020000
END:DAYLIGHT
BEGIN:STANDARD
TZOFFSETFROM:+0000
TZOFFSETTO:+0100
TZNAME:+01
DTSTART:20260322T020000
END:STANDARD
BEGIN:DAYLIGHT
TZOFFSETFROM:+0100
TZOFFSETTO:+0000
TZNAME:+00
DTSTART:20270207T020000
END:DAYLIGHT
BEGIN:STANDARD
TZOFFSETFROM:+0000
TZOFFSETTO:+0100
TZNAME:+01
DTSTART:20270314T020000
END:STANDARD
END:VTIMEZONE
BEGIN:VEVENT
DTSTART;TZID=Africa/Casablanca:20260417T200000
DTEND;TZID=Africa/Casablanca:20260418T010000
DTSTAMP:20260421T002232
CREATED:20260415T080425Z
LAST-MODIFIED:20260415T105038Z
UID:10086905-1776456000-1776474000@tamraghtlife.com
SUMMARY:🌴 🔥 ☀️ Palm party × YENSÜ & REDOE📍Taghazout
DESCRIPTION:FRIDAY\, April 17th — Beach party mode: ON 🌊🔥📍 @hyattregencytaghazout Beach Club🕒 8:00 PM – 1:00 AM \nCocktail of the day offered before 10PM 🍸Happy Hour 8:00 PM – 9:00 PM (2 = 3 on drinks) \n8PM – 10PM: REDOE10PM – 1AM: YENSÜ\n+ amazing dance shows 💃🏽 \nJoin us under the moonlight for a night you won’t forget 🌙Come early to experience the full journey \n\n🎟️ Tickets\nTamraght Life now has a limited online ticket allocation for this event \n€21.75 — Book online & guarantee your entry ⬇️Includes secure booking fee \n200 MAD — On the doorVery limited & subject to capacity (cash only) \n\n🍾 Table bookings with bottle (from 1500 dhs)📞 +212 766 642 934 \nAdults only — 21+ (ID required) \n#palmparty #taghazout #taghazoutbay #partytaghazout
URL:https://tamraghtlife.com/event/%f0%9f%8c%b4-%f0%9f%94%a5-%e2%98%80%ef%b8%8f-palm-party-x-yensu-redoe%f0%9f%93%8dtaghazout/
LOCATION:Hyatt Regency Taghazout\, Station touristique de Taghazout Bay km 17 route d'Essaouira BP 294\, Taghazout\, 80750
CATEGORIES:☀️ Tamraght Life,🎉 Party,🤙🏾 Taghazout Life
ATTACH;FMTTYPE=image/png:https://tamraghtlife.com/wp-content/uploads/2026/04/Untitled-1-2.png
ORGANIZER;CN="Palm Party events":MAILTO:Palmpartynights@gmail.com
END:VEVENT
BEGIN:VEVENT
DTSTART;TZID=Africa/Casablanca:20260416T180000
DTEND;TZID=Africa/Casablanca:20260416T190000
DTSTAMP:20260421T002232
CREATED:20260414T121211Z
LAST-MODIFIED:20260414T121211Z
UID:10086901-1776362400-1776366000@tamraghtlife.com
SUMMARY:🌸 Feminine flow dance with Eve 🌸
DESCRIPTION:Feminine flow dance with Eve 🌸 \nJoin the Feminine flow dance experience to reconnect with your body\, awaken your feminine energy and move with freedom and sensuality.🍑💥🌸🫦 Somatic movements\, twerking exercises\, dance combinations\, and more…
URL:https://tamraghtlife.com/event/%f0%9f%8c%b8-feminine-flow-dance-with-eve-%f0%9f%8c%b8/
LOCATION:2 Palms House
CATEGORIES:☀️ Tamraght Life,☕ Social,❤️ Mindful Tamraght,🎨 Creative,💃 Dance,💆 Wellness,🫂 Community
ATTACH;FMTTYPE=image/jpeg:https://tamraghtlife.com/wp-content/uploads/2026/04/IMG_0739.jpeg
ORGANIZER;CN="Eve":MAILTO:evelinebaha@gmail.com
END:VEVENT
BEGIN:VEVENT
DTSTART;TZID=Africa/Casablanca:20260412T190000
DTEND;TZID=Africa/Casablanca:20260412T230000
DTSTAMP:20260421T002232
CREATED:20260412T064107Z
LAST-MODIFIED:20260412T064107Z
UID:10085833-1776020400-1776034800@tamraghtlife.com
SUMMARY:🎶 🌅 Live Music Sunset · Rafiki × Sound of the Ocean
DESCRIPTION:Some nights are just nights. This one has a purpose. \nLive Music Night is a concert series built to give musicians a real stage — not a background playlist\, not a hotel lobby performance. Three sets\, three hours of music\, one room of people who chose to be there. \nThe Programme \nSet I — 7:00 PM · Théo & Malika\nInternational music. The kind that travels well. \nDinner & Break — 8:00 PM\nOptional Moroccan buffet available to those who book it in advance. Limited to 30 spots. \nSet II — 8:30 PM · Youssef & Hashisha\nMashups of your favourite songs in many languages. Arabic\, English\, and everything in between. The set people will be singing on the way home. \nSet III — 9:45 PM · Imourane Band\nAmazighi dance music. Moroccan roots. The kind of music that doesn’t ask you to sit still. \nThe Details\n? Rafiki Hostels Tamraght — Surf Hostel (Put that on google maps) ? Doors open 6:30 PM · Doors close at 7:15 PM (latecomers will not be admitted once the first set begins)\n? Maximum 50 attendees for the evening –  125 mad\n? Moroccan dinner option available — limited to 30 spots\, must be booked in advance – 125 mad \nWhat to know before you book\nThis is a standing and seated informal concert — not a stadium\, not a restaurant with music on the side. It is a hostel rooftop turned into a venue for one night by people who care about music. Come ready to listen\, to move\, and to meet the person next to you. \nTickets are non-refundable. Doors close at 7:15 PM sharp — no exceptions. We do this to protect the experience for everyone already inside. \nIf you are arriving in a group of 4\, a community member\, a Rafiki or Sound of the Ocean guest\, ask for your promocode <3
URL:https://tamraghtlife.com/event/%f0%9f%8e%b6-%f0%9f%8c%85-live-music-sunset-%c2%b7-rafiki-x-sound-of-the-ocean/
LOCATION:Rafiki Hostels Tamraght – Surf  Hostel\, Tamraght
CATEGORIES:☀️ Tamraght Life,☕ Social,🎉 Party,🎤 Sing,🎨 Creative,💃 Dance
ATTACH;FMTTYPE=image/png:https://tamraghtlife.com/wp-content/uploads/2026/04/rezdy_banner.png
ORGANIZER;CN="Rafiki Hostels":MAILTO:rafikitamraght@gmail.com
END:VEVENT
BEGIN:VEVENT
DTSTART;TZID=Africa/Casablanca:20260407T180000
DTEND;TZID=Africa/Casablanca:20260407T190000
DTSTAMP:20260421T002232
CREATED:20260404T152810Z
LAST-MODIFIED:20260404T152810Z
UID:10081377-1775584800-1775588400@tamraghtlife.com
SUMMARY:💃✨ Feminine Flow dance with Eve
DESCRIPTION:✨ Feminine Flow Dance ✨ \nStep into your body. Move with freedom. Awaken your sensual\, feminine energy. 💃 \nExplore a new dance combination that lets you 🌸Connect deeply with your body&heart🌸Celebrate your feminine power🌸Embrace your sexy\, playful side \nNo experience needed- just bring your heart and be open to express yourself!
URL:https://tamraghtlife.com/event/%f0%9f%92%83%e2%9c%a8-feminine-flow-dance-with-eve/
LOCATION:2 Palms House
CATEGORIES:☀️ Tamraght Life,❤️ Mindful Tamraght,🍌 Aourir Life,🏋🏾‍♀️ Fitness,💃 Dance,💸 Free,🫂 Community
ORGANIZER;CN="Eve":MAILTO:evelinebaha@gmail.com
END:VEVENT
BEGIN:VEVENT
DTSTART;TZID=Africa/Casablanca:20260403T200000
DTEND;TZID=Africa/Casablanca:20260404T010000
DTSTAMP:20260421T002232
CREATED:20260401T141326Z
LAST-MODIFIED:20260401T141326Z
UID:10081324-1775246400-1775264400@tamraghtlife.com
SUMMARY:🌴 🔥 ☀️ Palm party × esper BEACH PARTY📍Taghazout
DESCRIPTION:FRIDAY\, April 3rd The season is officially on   @hyattregencytaghazout Beach Club  From 8:00 pm till 1:00 am Happy Hour from 8:00 pm till 9:00 pm on drinks (2 = 3). Join us under the moonlight for a night you won’t forget. Come early to experience the full journey   Tickets & Reservations Ticket: 200 dhs / pers (sold at the entrance: cash only) Cocktail of the day offered before 10pm  Table booking with bottle  (price from 1500 dhs) Limited availability\, book yours at: +212 7 77 78 18 44 Adults only: no entry under 21. #palmparty #taghazout #taghazoutbay #partytaghazout
URL:https://tamraghtlife.com/event/%f0%9f%8c%b4-%f0%9f%94%a5-%e2%98%80%ef%b8%8f-palm-party-x-esper-beach-party%f0%9f%93%8dtaghazout/
LOCATION:Hyatt Regency Taghazout\, Station touristique de Taghazout Bay km 17 route d'Essaouira BP 294\, Taghazout\, 80750
CATEGORIES:☀️ Tamraght Life,🎉 Party,🤙🏾 Taghazout Life
ATTACH;FMTTYPE=image/png:https://tamraghtlife.com/wp-content/uploads/2026/04/Untitled-2-25-e1775052771623.png
ORGANIZER;CN="Palm Party events":MAILTO:Palmpartynights@gmail.com
END:VEVENT
BEGIN:VEVENT
DTSTART;TZID=Africa/Casablanca:20260327T200000
DTEND;TZID=Africa/Casablanca:20260328T010000
DTSTAMP:20260421T002232
CREATED:20260325T150328Z
LAST-MODIFIED:20260327T083155Z
UID:10072610-1774641600-1774659600@tamraghtlife.com
SUMMARY:🌴 🔥 ☀️ Palm party × le Matin Records BEACH PARTY📍Taghazout
DESCRIPTION:WE ARE BACK. SPECIAL EDITION 🌊\n27.03.2026 \nThe opening season is ON 🔥 \nIn collaboration with Le Matin Records\, get ready for an unforgettable beach party where the sand meets the real vibe! \nOtto\, Mendy from Nomads and N4bz will make you dance all night long with a very curated selection of tracks. \n📍 @hyattregencytaghazout Beach Club\n🕗 From 8:00 pm till 1:00 am \nTaste the Spirit of the Oasis with @palmaraespirit golden gin premier cru. \nCocktail of the day offered before 10pm 🍸 \nHappy Hour from 8:00 pm till 9:00 pm on drinks (2 = 3). \nJoin us under the moonlight for a night you won’t forget. Come early to experience the full journey 🌚 \n🎟️ Tickets & Reservations \nTicket: 200 dhs / pers (sold at the entrance: cash only or online: https://buy.tidar.ma/event/le-matin-records-x-palm-party \nTable booking with bottle 🍾 (price from 1500 dhs)\nLimited availability\, book yours at: +212 7 77 78 18 44 \nAdults only: no entry under 21.
URL:https://tamraghtlife.com/event/palm-party-x-le-matin-records-beach-party/
LOCATION:Hyatt Regency Taghazout\, Station touristique de Taghazout Bay km 17 route d'Essaouira BP 294\, Taghazout\, 80750
CATEGORIES:☀️ Tamraght Life,🎉 Party,🤙🏾 Taghazout Life
ATTACH;FMTTYPE=image/png:https://tamraghtlife.com/wp-content/uploads/2026/03/133217-e1774450987685.png
ORGANIZER;CN="Palm Party events":MAILTO:Palmpartynights@gmail.com
END:VEVENT
BEGIN:VEVENT
DTSTART;TZID=Africa/Casablanca:20260327T183000
DTEND;TZID=Africa/Casablanca:20260327T193000
DTSTAMP:20260421T002232
CREATED:20260325T160726Z
LAST-MODIFIED:20260327T082700Z
UID:10075014-1774636200-1774639800@tamraghtlife.com
SUMMARY:💃 Ecstatic Fusion Social Dance Workshop & DJ set
DESCRIPTION:💃 There will be a fusion social dancing workshop for people who enjoy dancing or wiggling to music by themselves\, and would like to learn how to dance with a partner such as Salsa\, Tango\, Kizomba\, Blues\, Lindy Hop. No prior dance experience required for this workshop. \nWe will be focusing on technique for people learn how to interact with each other to all types of danceable music without learning dance steps by combining techniques from contact improve and other dances. \n🎒 What to bring:\nComfortable shoes\, the rooftop has very nice smooth floor for those who are experienced in social dancing\, and there is a hammock🏝️!! Your own drinks. \n  \n📍 Where & when: \nLocation: Notice location has changed.  It will be at Rooftop of Bright Wave Hostel (They have a sound system and good flat floor)\, Tamraght Ouzdar  Call if you have trouble finding the place. +212 77 88 959 46  \nhttps://osm.org/go/bscWucrk-?m \nGPS: \n30.51327\, -9.674917 \nWhen: Friday March 27th at @18:30 – 19:30 \nThere will be a some latin\, blues deep house DJ for social dancing and practices afterwards. \nCost: Donation Based \nPlease reserve via email as rooftop space are limited: dance@situation.quest or +212 77 88 959 46  \n  \n 
URL:https://tamraghtlife.com/event/%f0%9f%92%83%e2%9c%a8ecstatic-fusion-social-dancing-workshop-dj-set/
LOCATION:Big Wave Surf Hostel Roof Top\, Tamraght
CATEGORIES:☀️ Tamraght Life,💃 Dance,💸 Free,🫂 Community
ATTACH;FMTTYPE=image/png:https://tamraghtlife.com/wp-content/uploads/2026/03/poster-ts-marroko.png-copy.png
ORGANIZER;CN="Bobo":MAILTO:dance@situation.quest
END:VEVENT
BEGIN:VEVENT
DTSTART;TZID=Africa/Casablanca:20260326T173000
DTEND;TZID=Africa/Casablanca:20260326T183000
DTSTAMP:20260421T002232
CREATED:20260325T165012Z
LAST-MODIFIED:20260325T165012Z
UID:10075013-1774546200-1774549800@tamraghtlife.com
SUMMARY:💃🏼🤍 Feminine Flow Dance with Eve
DESCRIPTION:Feminine Flow Dance with Eve💃🏼 \nJoin the Feminine Flow dance experience to reconnect with your body\, awaken your feminine energy\, and move with freedom and sensuality.💃🏼🤍🌬️ \nI’d also like to take some photos and videos during the class to create content.\nEveryone is welcome – feel free to join this Thursday 17.30PM!
URL:https://tamraghtlife.com/event/%f0%9f%92%83%f0%9f%8f%bc%f0%9f%a4%8d-feminine-flow-dance-with-eve/
LOCATION:2 Palms House
CATEGORIES:☀️ Tamraght Life,❤️ Mindful Tamraght,💃 Dance,🫂 Community
ORGANIZER;CN="Eve":MAILTO:evelinebaha@gmail.com
END:VEVENT
BEGIN:VEVENT
DTSTART;TZID=Africa/Casablanca:20260307T173000
DTEND;TZID=Africa/Casablanca:20260307T183000
DTSTAMP:20260421T002232
CREATED:20260305T132458Z
LAST-MODIFIED:20260305T174818Z
UID:10059553-1772904600-1772908200@tamraghtlife.com
SUMMARY:CLASS - Feminine Flow dance with Eve - Tamraght
DESCRIPTION:Feminine Flow Dance with Eve💃🏼 \nJoin the Feminine Flow dance experience to reconnect with your body\, awaken your feminine energy\, and move with freedom and sensuality.💃🏼🤍🌬️ \nBook with Eve @evebodypractices  \n 
URL:https://tamraghtlife.com/event/class-feminine-flow-dance-with-eve-tamraght/
LOCATION:2 Palms House
CATEGORIES:☀️ Tamraght Life,❤️ Mindful Tamraght
ATTACH;FMTTYPE=image/jpeg:https://tamraghtlife.com/wp-content/uploads/2026/03/fem-flow.jpg
ORGANIZER;CN="Eve":MAILTO:evelinebaha@gmail.com
END:VEVENT
END:VCALENDAR