BEGIN:VCALENDAR
VERSION:2.0
PRODID:-//tamraghtlife.com - ECPv6.15.20//NONSGML v1.0//EN
CALSCALE:GREGORIAN
METHOD:PUBLISH
X-ORIGINAL-URL:https://tamraghtlife.com
X-WR-CALDESC:Events for tamraghtlife.com
REFRESH-INTERVAL;VALUE=DURATION:PT1H
X-Robots-Tag:noindex
X-PUBLISHED-TTL:PT1H
BEGIN:VTIMEZONE
TZID:Africa/Casablanca
BEGIN:DAYLIGHT
TZOFFSETFROM:+0100
TZOFFSETTO:+0000
TZNAME:+00
DTSTART:20250223T020000
END:DAYLIGHT
BEGIN:STANDARD
TZOFFSETFROM:+0000
TZOFFSETTO:+0100
TZNAME:+01
DTSTART:20250406T020000
END:STANDARD
BEGIN:DAYLIGHT
TZOFFSETFROM:+0100
TZOFFSETTO:+0000
TZNAME:+00
DTSTART:20260215T020000
END:DAYLIGHT
BEGIN:STANDARD
TZOFFSETFROM:+0000
TZOFFSETTO:+0100
TZNAME:+01
DTSTART:20260322T020000
END:STANDARD
BEGIN:DAYLIGHT
TZOFFSETFROM:+0100
TZOFFSETTO:+0000
TZNAME:+00
DTSTART:20270207T020000
END:DAYLIGHT
BEGIN:STANDARD
TZOFFSETFROM:+0000
TZOFFSETTO:+0100
TZNAME:+01
DTSTART:20270314T020000
END:STANDARD
END:VTIMEZONE
BEGIN:VEVENT
DTSTART;TZID=Africa/Casablanca:20260221T130000
DTEND;TZID=Africa/Casablanca:20260221T150000
DTSTAMP:20260424T104051
CREATED:20260204T182043Z
LAST-MODIFIED:20260206T102856Z
UID:10043541-1771678800-1771686000@tamraghtlife.com
SUMMARY:Workshop - Natural Incense Making - Tamraght
DESCRIPTION:Join Zofia for 2 hours creative and aromatic journey into the art of natural incense making!  During this workshop\, you’ll learn how to blend herbs\, flowers\, tree resins\, spices and essential oils to craft your own unique incense sticks or cones. All materials are 100% natural and inspired by traditional\, mindful practices. Come connect with your senses\, relax and take home your handmade creations! Location: Hey Yallah\, Tamraght Date: Saturday 7th & 21st February Time: 1-3pm Price: 250dh Book: please dm @zzola / @hey.yallah \n 
URL:https://tamraghtlife.com/event/workshop-natural-incense-making-tamraght-3/2026-02-21/
LOCATION:STUDiiO HY\, Above Hey Yallah Café\, Tamraght\, 80023
CATEGORIES:☀️ Tamraght Life,☕ Social,❤️ Mindful Tamraght,🎨 Creative
ATTACH;FMTTYPE=image/jpeg:https://tamraghtlife.com/wp-content/uploads/2026/02/2026-01-24-033-scaled-e1770373726526.jpg
END:VEVENT
BEGIN:VEVENT
DTSTART;TZID=Africa/Casablanca:20260207T130000
DTEND;TZID=Africa/Casablanca:20260207T150000
DTSTAMP:20260424T104051
CREATED:20260204T182043Z
LAST-MODIFIED:20260206T102856Z
UID:10043540-1770469200-1770476400@tamraghtlife.com
SUMMARY:Workshop - Natural Incense Making - Tamraght
DESCRIPTION:Join Zofia for 2 hours creative and aromatic journey into the art of natural incense making!  During this workshop\, you’ll learn how to blend herbs\, flowers\, tree resins\, spices and essential oils to craft your own unique incense sticks or cones. All materials are 100% natural and inspired by traditional\, mindful practices. Come connect with your senses\, relax and take home your handmade creations! Location: Hey Yallah\, Tamraght Date: Saturday 7th & 21st February Time: 1-3pm Price: 250dh Book: please dm @zzola / @hey.yallah \n 
URL:https://tamraghtlife.com/event/workshop-natural-incense-making-tamraght-3/2026-02-07/
LOCATION:STUDiiO HY\, Above Hey Yallah Café\, Tamraght\, 80023
CATEGORIES:☀️ Tamraght Life,☕ Social,❤️ Mindful Tamraght,🎨 Creative
ATTACH;FMTTYPE=image/jpeg:https://tamraghtlife.com/wp-content/uploads/2026/02/2026-01-24-033-scaled-e1770373726526.jpg
END:VEVENT
END:VCALENDAR