BEGIN:VCALENDAR
VERSION:2.0
PRODID:-//tamraghtlife.com - ECPv6.15.20//NONSGML v1.0//EN
CALSCALE:GREGORIAN
METHOD:PUBLISH
X-WR-CALNAME:tamraghtlife.com
X-ORIGINAL-URL:https://tamraghtlife.com
X-WR-CALDESC:Events for tamraghtlife.com
REFRESH-INTERVAL;VALUE=DURATION:PT1H
X-Robots-Tag:noindex
X-PUBLISHED-TTL:PT1H
BEGIN:VTIMEZONE
TZID:Africa/Casablanca
BEGIN:DAYLIGHT
TZOFFSETFROM:+0100
TZOFFSETTO:+0000
TZNAME:+00
DTSTART:20280123T020000
END:DAYLIGHT
BEGIN:STANDARD
TZOFFSETFROM:+0000
TZOFFSETTO:+0100
TZNAME:+01
DTSTART:20280305T020000
END:STANDARD
BEGIN:DAYLIGHT
TZOFFSETFROM:+0100
TZOFFSETTO:+0000
TZNAME:+00
DTSTART:20290114T020000
END:DAYLIGHT
BEGIN:STANDARD
TZOFFSETFROM:+0000
TZOFFSETTO:+0100
TZNAME:+01
DTSTART:20290218T020000
END:STANDARD
BEGIN:DAYLIGHT
TZOFFSETFROM:+0100
TZOFFSETTO:+0000
TZNAME:+00
DTSTART:20291230T020000
END:DAYLIGHT
BEGIN:STANDARD
TZOFFSETFROM:+0000
TZOFFSETTO:+0100
TZNAME:+01
DTSTART:20300210T020000
END:STANDARD
BEGIN:DAYLIGHT
TZOFFSETFROM:+0100
TZOFFSETTO:+0000
TZNAME:+00
DTSTART:20301222T020000
END:DAYLIGHT
BEGIN:STANDARD
TZOFFSETFROM:+0000
TZOFFSETTO:+0100
TZNAME:+01
DTSTART:20310126T020000
END:STANDARD
BEGIN:DAYLIGHT
TZOFFSETFROM:+0100
TZOFFSETTO:+0000
TZNAME:+00
DTSTART:20311214T020000
END:DAYLIGHT
END:VTIMEZONE
BEGIN:VEVENT
DTSTART;TZID=Africa/Casablanca:20291003T180000
DTEND;TZID=Africa/Casablanca:20291003T190000
DTSTAMP:20260422T160204
CREATED:20260412T064218Z
LAST-MODIFIED:20260412T064218Z
UID:10084962-1885744800-1885748400@tamraghtlife.com
SUMMARY:🤸🏼 Mobility Class with Maria
DESCRIPTION:🤸🏼Mobility Class \nMobility is more than stretching—it’s strength through range.In this class\, we focus on improving joint control\, stability\, and usable flexibility.A session built to help you move with more freedom\, efficiency\, and confidence 💪
URL:https://tamraghtlife.com/event/%f0%9f%a4%b8%f0%9f%8f%bc-mobility-class-with-maria/2029-10-03/
LOCATION:Mish Mish\, Tamraght\, Morocco
CATEGORIES:☀️ Tamraght Life,🏋🏾‍♀️ Fitness,💆 Wellness
ATTACH;FMTTYPE=image/jpeg:https://tamraghtlife.com/wp-content/uploads/2026/04/TB256054-scaled-e1775976127850.jpg
ORGANIZER;CN="Maria":MAILTO:mariaddurao@gmail.com
END:VEVENT
BEGIN:VEVENT
DTSTART;TZID=Africa/Casablanca:20291010T180000
DTEND;TZID=Africa/Casablanca:20291010T190000
DTSTAMP:20260422T160204
CREATED:20260412T064218Z
LAST-MODIFIED:20260412T064218Z
UID:10084963-1886349600-1886353200@tamraghtlife.com
SUMMARY:🤸🏼 Mobility Class with Maria
DESCRIPTION:🤸🏼Mobility Class \nMobility is more than stretching—it’s strength through range.In this class\, we focus on improving joint control\, stability\, and usable flexibility.A session built to help you move with more freedom\, efficiency\, and confidence 💪
URL:https://tamraghtlife.com/event/%f0%9f%a4%b8%f0%9f%8f%bc-mobility-class-with-maria/2029-10-10/
LOCATION:Mish Mish\, Tamraght\, Morocco
CATEGORIES:☀️ Tamraght Life,🏋🏾‍♀️ Fitness,💆 Wellness
ATTACH;FMTTYPE=image/jpeg:https://tamraghtlife.com/wp-content/uploads/2026/04/TB256054-scaled-e1775976127850.jpg
ORGANIZER;CN="Maria":MAILTO:mariaddurao@gmail.com
END:VEVENT
BEGIN:VEVENT
DTSTART;TZID=Africa/Casablanca:20291017T180000
DTEND;TZID=Africa/Casablanca:20291017T190000
DTSTAMP:20260422T160204
CREATED:20260412T064218Z
LAST-MODIFIED:20260412T064218Z
UID:10084964-1886954400-1886958000@tamraghtlife.com
SUMMARY:🤸🏼 Mobility Class with Maria
DESCRIPTION:🤸🏼Mobility Class \nMobility is more than stretching—it’s strength through range.In this class\, we focus on improving joint control\, stability\, and usable flexibility.A session built to help you move with more freedom\, efficiency\, and confidence 💪
URL:https://tamraghtlife.com/event/%f0%9f%a4%b8%f0%9f%8f%bc-mobility-class-with-maria/2029-10-17/
LOCATION:Mish Mish\, Tamraght\, Morocco
CATEGORIES:☀️ Tamraght Life,🏋🏾‍♀️ Fitness,💆 Wellness
ATTACH;FMTTYPE=image/jpeg:https://tamraghtlife.com/wp-content/uploads/2026/04/TB256054-scaled-e1775976127850.jpg
ORGANIZER;CN="Maria":MAILTO:mariaddurao@gmail.com
END:VEVENT
BEGIN:VEVENT
DTSTART;TZID=Africa/Casablanca:20291024T180000
DTEND;TZID=Africa/Casablanca:20291024T190000
DTSTAMP:20260422T160204
CREATED:20260412T064218Z
LAST-MODIFIED:20260412T064218Z
UID:10084965-1887559200-1887562800@tamraghtlife.com
SUMMARY:🤸🏼 Mobility Class with Maria
DESCRIPTION:🤸🏼Mobility Class \nMobility is more than stretching—it’s strength through range.In this class\, we focus on improving joint control\, stability\, and usable flexibility.A session built to help you move with more freedom\, efficiency\, and confidence 💪
URL:https://tamraghtlife.com/event/%f0%9f%a4%b8%f0%9f%8f%bc-mobility-class-with-maria/2029-10-24/
LOCATION:Mish Mish\, Tamraght\, Morocco
CATEGORIES:☀️ Tamraght Life,🏋🏾‍♀️ Fitness,💆 Wellness
ATTACH;FMTTYPE=image/jpeg:https://tamraghtlife.com/wp-content/uploads/2026/04/TB256054-scaled-e1775976127850.jpg
ORGANIZER;CN="Maria":MAILTO:mariaddurao@gmail.com
END:VEVENT
BEGIN:VEVENT
DTSTART;TZID=Africa/Casablanca:20291031T180000
DTEND;TZID=Africa/Casablanca:20291031T190000
DTSTAMP:20260422T160204
CREATED:20260412T064218Z
LAST-MODIFIED:20260412T064218Z
UID:10084966-1888164000-1888167600@tamraghtlife.com
SUMMARY:🤸🏼 Mobility Class with Maria
DESCRIPTION:🤸🏼Mobility Class \nMobility is more than stretching—it’s strength through range.In this class\, we focus on improving joint control\, stability\, and usable flexibility.A session built to help you move with more freedom\, efficiency\, and confidence 💪
URL:https://tamraghtlife.com/event/%f0%9f%a4%b8%f0%9f%8f%bc-mobility-class-with-maria/2029-10-31/
LOCATION:Mish Mish\, Tamraght\, Morocco
CATEGORIES:☀️ Tamraght Life,🏋🏾‍♀️ Fitness,💆 Wellness
ATTACH;FMTTYPE=image/jpeg:https://tamraghtlife.com/wp-content/uploads/2026/04/TB256054-scaled-e1775976127850.jpg
ORGANIZER;CN="Maria":MAILTO:mariaddurao@gmail.com
END:VEVENT
BEGIN:VEVENT
DTSTART;TZID=Africa/Casablanca:20291107T180000
DTEND;TZID=Africa/Casablanca:20291107T190000
DTSTAMP:20260422T160204
CREATED:20260412T064218Z
LAST-MODIFIED:20260412T064218Z
UID:10084967-1888768800-1888772400@tamraghtlife.com
SUMMARY:🤸🏼 Mobility Class with Maria
DESCRIPTION:🤸🏼Mobility Class \nMobility is more than stretching—it’s strength through range.In this class\, we focus on improving joint control\, stability\, and usable flexibility.A session built to help you move with more freedom\, efficiency\, and confidence 💪
URL:https://tamraghtlife.com/event/%f0%9f%a4%b8%f0%9f%8f%bc-mobility-class-with-maria/2029-11-07/
LOCATION:Mish Mish\, Tamraght\, Morocco
CATEGORIES:☀️ Tamraght Life,🏋🏾‍♀️ Fitness,💆 Wellness
ATTACH;FMTTYPE=image/jpeg:https://tamraghtlife.com/wp-content/uploads/2026/04/TB256054-scaled-e1775976127850.jpg
ORGANIZER;CN="Maria":MAILTO:mariaddurao@gmail.com
END:VEVENT
BEGIN:VEVENT
DTSTART;TZID=Africa/Casablanca:20291114T180000
DTEND;TZID=Africa/Casablanca:20291114T190000
DTSTAMP:20260422T160204
CREATED:20260412T064218Z
LAST-MODIFIED:20260412T064218Z
UID:10084968-1889373600-1889377200@tamraghtlife.com
SUMMARY:🤸🏼 Mobility Class with Maria
DESCRIPTION:🤸🏼Mobility Class \nMobility is more than stretching—it’s strength through range.In this class\, we focus on improving joint control\, stability\, and usable flexibility.A session built to help you move with more freedom\, efficiency\, and confidence 💪
URL:https://tamraghtlife.com/event/%f0%9f%a4%b8%f0%9f%8f%bc-mobility-class-with-maria/2029-11-14/
LOCATION:Mish Mish\, Tamraght\, Morocco
CATEGORIES:☀️ Tamraght Life,🏋🏾‍♀️ Fitness,💆 Wellness
ATTACH;FMTTYPE=image/jpeg:https://tamraghtlife.com/wp-content/uploads/2026/04/TB256054-scaled-e1775976127850.jpg
ORGANIZER;CN="Maria":MAILTO:mariaddurao@gmail.com
END:VEVENT
BEGIN:VEVENT
DTSTART;TZID=Africa/Casablanca:20291121T180000
DTEND;TZID=Africa/Casablanca:20291121T190000
DTSTAMP:20260422T160204
CREATED:20260412T064218Z
LAST-MODIFIED:20260412T064218Z
UID:10084969-1889978400-1889982000@tamraghtlife.com
SUMMARY:🤸🏼 Mobility Class with Maria
DESCRIPTION:🤸🏼Mobility Class \nMobility is more than stretching—it’s strength through range.In this class\, we focus on improving joint control\, stability\, and usable flexibility.A session built to help you move with more freedom\, efficiency\, and confidence 💪
URL:https://tamraghtlife.com/event/%f0%9f%a4%b8%f0%9f%8f%bc-mobility-class-with-maria/2029-11-21/
LOCATION:Mish Mish\, Tamraght\, Morocco
CATEGORIES:☀️ Tamraght Life,🏋🏾‍♀️ Fitness,💆 Wellness
ATTACH;FMTTYPE=image/jpeg:https://tamraghtlife.com/wp-content/uploads/2026/04/TB256054-scaled-e1775976127850.jpg
ORGANIZER;CN="Maria":MAILTO:mariaddurao@gmail.com
END:VEVENT
BEGIN:VEVENT
DTSTART;TZID=Africa/Casablanca:20291128T180000
DTEND;TZID=Africa/Casablanca:20291128T190000
DTSTAMP:20260422T160204
CREATED:20260412T064218Z
LAST-MODIFIED:20260412T064218Z
UID:10084970-1890583200-1890586800@tamraghtlife.com
SUMMARY:🤸🏼 Mobility Class with Maria
DESCRIPTION:🤸🏼Mobility Class \nMobility is more than stretching—it’s strength through range.In this class\, we focus on improving joint control\, stability\, and usable flexibility.A session built to help you move with more freedom\, efficiency\, and confidence 💪
URL:https://tamraghtlife.com/event/%f0%9f%a4%b8%f0%9f%8f%bc-mobility-class-with-maria/2029-11-28/
LOCATION:Mish Mish\, Tamraght\, Morocco
CATEGORIES:☀️ Tamraght Life,🏋🏾‍♀️ Fitness,💆 Wellness
ATTACH;FMTTYPE=image/jpeg:https://tamraghtlife.com/wp-content/uploads/2026/04/TB256054-scaled-e1775976127850.jpg
ORGANIZER;CN="Maria":MAILTO:mariaddurao@gmail.com
END:VEVENT
BEGIN:VEVENT
DTSTART;TZID=Africa/Casablanca:20291205T180000
DTEND;TZID=Africa/Casablanca:20291205T190000
DTSTAMP:20260422T160204
CREATED:20260412T064218Z
LAST-MODIFIED:20260412T064218Z
UID:10084971-1891188000-1891191600@tamraghtlife.com
SUMMARY:🤸🏼 Mobility Class with Maria
DESCRIPTION:🤸🏼Mobility Class \nMobility is more than stretching—it’s strength through range.In this class\, we focus on improving joint control\, stability\, and usable flexibility.A session built to help you move with more freedom\, efficiency\, and confidence 💪
URL:https://tamraghtlife.com/event/%f0%9f%a4%b8%f0%9f%8f%bc-mobility-class-with-maria/2029-12-05/
LOCATION:Mish Mish\, Tamraght\, Morocco
CATEGORIES:☀️ Tamraght Life,🏋🏾‍♀️ Fitness,💆 Wellness
ATTACH;FMTTYPE=image/jpeg:https://tamraghtlife.com/wp-content/uploads/2026/04/TB256054-scaled-e1775976127850.jpg
ORGANIZER;CN="Maria":MAILTO:mariaddurao@gmail.com
END:VEVENT
BEGIN:VEVENT
DTSTART;TZID=Africa/Casablanca:20291212T180000
DTEND;TZID=Africa/Casablanca:20291212T190000
DTSTAMP:20260422T160204
CREATED:20260412T064218Z
LAST-MODIFIED:20260412T064218Z
UID:10084972-1891792800-1891796400@tamraghtlife.com
SUMMARY:🤸🏼 Mobility Class with Maria
DESCRIPTION:🤸🏼Mobility Class \nMobility is more than stretching—it’s strength through range.In this class\, we focus on improving joint control\, stability\, and usable flexibility.A session built to help you move with more freedom\, efficiency\, and confidence 💪
URL:https://tamraghtlife.com/event/%f0%9f%a4%b8%f0%9f%8f%bc-mobility-class-with-maria/2029-12-12/
LOCATION:Mish Mish\, Tamraght\, Morocco
CATEGORIES:☀️ Tamraght Life,🏋🏾‍♀️ Fitness,💆 Wellness
ATTACH;FMTTYPE=image/jpeg:https://tamraghtlife.com/wp-content/uploads/2026/04/TB256054-scaled-e1775976127850.jpg
ORGANIZER;CN="Maria":MAILTO:mariaddurao@gmail.com
END:VEVENT
BEGIN:VEVENT
DTSTART;TZID=Africa/Casablanca:20291219T180000
DTEND;TZID=Africa/Casablanca:20291219T190000
DTSTAMP:20260422T160204
CREATED:20260412T064218Z
LAST-MODIFIED:20260412T064218Z
UID:10084973-1892397600-1892401200@tamraghtlife.com
SUMMARY:🤸🏼 Mobility Class with Maria
DESCRIPTION:🤸🏼Mobility Class \nMobility is more than stretching—it’s strength through range.In this class\, we focus on improving joint control\, stability\, and usable flexibility.A session built to help you move with more freedom\, efficiency\, and confidence 💪
URL:https://tamraghtlife.com/event/%f0%9f%a4%b8%f0%9f%8f%bc-mobility-class-with-maria/2029-12-19/
LOCATION:Mish Mish\, Tamraght\, Morocco
CATEGORIES:☀️ Tamraght Life,🏋🏾‍♀️ Fitness,💆 Wellness
ATTACH;FMTTYPE=image/jpeg:https://tamraghtlife.com/wp-content/uploads/2026/04/TB256054-scaled-e1775976127850.jpg
ORGANIZER;CN="Maria":MAILTO:mariaddurao@gmail.com
END:VEVENT
BEGIN:VEVENT
DTSTART;TZID=Africa/Casablanca:20291226T180000
DTEND;TZID=Africa/Casablanca:20291226T190000
DTSTAMP:20260422T160204
CREATED:20260412T064218Z
LAST-MODIFIED:20260412T064218Z
UID:10084974-1893002400-1893006000@tamraghtlife.com
SUMMARY:🤸🏼 Mobility Class with Maria
DESCRIPTION:🤸🏼Mobility Class \nMobility is more than stretching—it’s strength through range.In this class\, we focus on improving joint control\, stability\, and usable flexibility.A session built to help you move with more freedom\, efficiency\, and confidence 💪
URL:https://tamraghtlife.com/event/%f0%9f%a4%b8%f0%9f%8f%bc-mobility-class-with-maria/2029-12-26/
LOCATION:Mish Mish\, Tamraght\, Morocco
CATEGORIES:☀️ Tamraght Life,🏋🏾‍♀️ Fitness,💆 Wellness
ATTACH;FMTTYPE=image/jpeg:https://tamraghtlife.com/wp-content/uploads/2026/04/TB256054-scaled-e1775976127850.jpg
ORGANIZER;CN="Maria":MAILTO:mariaddurao@gmail.com
END:VEVENT
BEGIN:VEVENT
DTSTART;TZID=Africa/Casablanca:20300102T180000
DTEND;TZID=Africa/Casablanca:20300102T190000
DTSTAMP:20260422T160204
CREATED:20260412T064218Z
LAST-MODIFIED:20260412T064218Z
UID:10084975-1893607200-1893610800@tamraghtlife.com
SUMMARY:🤸🏼 Mobility Class with Maria
DESCRIPTION:🤸🏼Mobility Class \nMobility is more than stretching—it’s strength through range.In this class\, we focus on improving joint control\, stability\, and usable flexibility.A session built to help you move with more freedom\, efficiency\, and confidence 💪
URL:https://tamraghtlife.com/event/%f0%9f%a4%b8%f0%9f%8f%bc-mobility-class-with-maria/2030-01-02/
LOCATION:Mish Mish\, Tamraght\, Morocco
CATEGORIES:☀️ Tamraght Life,🏋🏾‍♀️ Fitness,💆 Wellness
ATTACH;FMTTYPE=image/jpeg:https://tamraghtlife.com/wp-content/uploads/2026/04/TB256054-scaled-e1775976127850.jpg
ORGANIZER;CN="Maria":MAILTO:mariaddurao@gmail.com
END:VEVENT
BEGIN:VEVENT
DTSTART;TZID=Africa/Casablanca:20300109T180000
DTEND;TZID=Africa/Casablanca:20300109T190000
DTSTAMP:20260422T160204
CREATED:20260412T064218Z
LAST-MODIFIED:20260412T064218Z
UID:10084976-1894212000-1894215600@tamraghtlife.com
SUMMARY:🤸🏼 Mobility Class with Maria
DESCRIPTION:🤸🏼Mobility Class \nMobility is more than stretching—it’s strength through range.In this class\, we focus on improving joint control\, stability\, and usable flexibility.A session built to help you move with more freedom\, efficiency\, and confidence 💪
URL:https://tamraghtlife.com/event/%f0%9f%a4%b8%f0%9f%8f%bc-mobility-class-with-maria/2030-01-09/
LOCATION:Mish Mish\, Tamraght\, Morocco
CATEGORIES:☀️ Tamraght Life,🏋🏾‍♀️ Fitness,💆 Wellness
ATTACH;FMTTYPE=image/jpeg:https://tamraghtlife.com/wp-content/uploads/2026/04/TB256054-scaled-e1775976127850.jpg
ORGANIZER;CN="Maria":MAILTO:mariaddurao@gmail.com
END:VEVENT
BEGIN:VEVENT
DTSTART;TZID=Africa/Casablanca:20300116T180000
DTEND;TZID=Africa/Casablanca:20300116T190000
DTSTAMP:20260422T160204
CREATED:20260412T064218Z
LAST-MODIFIED:20260412T064218Z
UID:10084977-1894816800-1894820400@tamraghtlife.com
SUMMARY:🤸🏼 Mobility Class with Maria
DESCRIPTION:🤸🏼Mobility Class \nMobility is more than stretching—it’s strength through range.In this class\, we focus on improving joint control\, stability\, and usable flexibility.A session built to help you move with more freedom\, efficiency\, and confidence 💪
URL:https://tamraghtlife.com/event/%f0%9f%a4%b8%f0%9f%8f%bc-mobility-class-with-maria/2030-01-16/
LOCATION:Mish Mish\, Tamraght\, Morocco
CATEGORIES:☀️ Tamraght Life,🏋🏾‍♀️ Fitness,💆 Wellness
ATTACH;FMTTYPE=image/jpeg:https://tamraghtlife.com/wp-content/uploads/2026/04/TB256054-scaled-e1775976127850.jpg
ORGANIZER;CN="Maria":MAILTO:mariaddurao@gmail.com
END:VEVENT
BEGIN:VEVENT
DTSTART;TZID=Africa/Casablanca:20300123T180000
DTEND;TZID=Africa/Casablanca:20300123T190000
DTSTAMP:20260422T160204
CREATED:20260412T064218Z
LAST-MODIFIED:20260412T064218Z
UID:10084978-1895421600-1895425200@tamraghtlife.com
SUMMARY:🤸🏼 Mobility Class with Maria
DESCRIPTION:🤸🏼Mobility Class \nMobility is more than stretching—it’s strength through range.In this class\, we focus on improving joint control\, stability\, and usable flexibility.A session built to help you move with more freedom\, efficiency\, and confidence 💪
URL:https://tamraghtlife.com/event/%f0%9f%a4%b8%f0%9f%8f%bc-mobility-class-with-maria/2030-01-23/
LOCATION:Mish Mish\, Tamraght\, Morocco
CATEGORIES:☀️ Tamraght Life,🏋🏾‍♀️ Fitness,💆 Wellness
ATTACH;FMTTYPE=image/jpeg:https://tamraghtlife.com/wp-content/uploads/2026/04/TB256054-scaled-e1775976127850.jpg
ORGANIZER;CN="Maria":MAILTO:mariaddurao@gmail.com
END:VEVENT
BEGIN:VEVENT
DTSTART;TZID=Africa/Casablanca:20300130T180000
DTEND;TZID=Africa/Casablanca:20300130T190000
DTSTAMP:20260422T160204
CREATED:20260412T064218Z
LAST-MODIFIED:20260412T064218Z
UID:10084979-1896026400-1896030000@tamraghtlife.com
SUMMARY:🤸🏼 Mobility Class with Maria
DESCRIPTION:🤸🏼Mobility Class \nMobility is more than stretching—it’s strength through range.In this class\, we focus on improving joint control\, stability\, and usable flexibility.A session built to help you move with more freedom\, efficiency\, and confidence 💪
URL:https://tamraghtlife.com/event/%f0%9f%a4%b8%f0%9f%8f%bc-mobility-class-with-maria/2030-01-30/
LOCATION:Mish Mish\, Tamraght\, Morocco
CATEGORIES:☀️ Tamraght Life,🏋🏾‍♀️ Fitness,💆 Wellness
ATTACH;FMTTYPE=image/jpeg:https://tamraghtlife.com/wp-content/uploads/2026/04/TB256054-scaled-e1775976127850.jpg
ORGANIZER;CN="Maria":MAILTO:mariaddurao@gmail.com
END:VEVENT
BEGIN:VEVENT
DTSTART;TZID=Africa/Casablanca:20300206T180000
DTEND;TZID=Africa/Casablanca:20300206T190000
DTSTAMP:20260422T160204
CREATED:20260412T064218Z
LAST-MODIFIED:20260412T064218Z
UID:10084980-1896631200-1896634800@tamraghtlife.com
SUMMARY:🤸🏼 Mobility Class with Maria
DESCRIPTION:🤸🏼Mobility Class \nMobility is more than stretching—it’s strength through range.In this class\, we focus on improving joint control\, stability\, and usable flexibility.A session built to help you move with more freedom\, efficiency\, and confidence 💪
URL:https://tamraghtlife.com/event/%f0%9f%a4%b8%f0%9f%8f%bc-mobility-class-with-maria/2030-02-06/
LOCATION:Mish Mish\, Tamraght\, Morocco
CATEGORIES:☀️ Tamraght Life,🏋🏾‍♀️ Fitness,💆 Wellness
ATTACH;FMTTYPE=image/jpeg:https://tamraghtlife.com/wp-content/uploads/2026/04/TB256054-scaled-e1775976127850.jpg
ORGANIZER;CN="Maria":MAILTO:mariaddurao@gmail.com
END:VEVENT
BEGIN:VEVENT
DTSTART;TZID=Africa/Casablanca:20300213T180000
DTEND;TZID=Africa/Casablanca:20300213T190000
DTSTAMP:20260422T160204
CREATED:20260412T064218Z
LAST-MODIFIED:20260412T064218Z
UID:10084981-1897236000-1897239600@tamraghtlife.com
SUMMARY:🤸🏼 Mobility Class with Maria
DESCRIPTION:🤸🏼Mobility Class \nMobility is more than stretching—it’s strength through range.In this class\, we focus on improving joint control\, stability\, and usable flexibility.A session built to help you move with more freedom\, efficiency\, and confidence 💪
URL:https://tamraghtlife.com/event/%f0%9f%a4%b8%f0%9f%8f%bc-mobility-class-with-maria/2030-02-13/
LOCATION:Mish Mish\, Tamraght\, Morocco
CATEGORIES:☀️ Tamraght Life,🏋🏾‍♀️ Fitness,💆 Wellness
ATTACH;FMTTYPE=image/jpeg:https://tamraghtlife.com/wp-content/uploads/2026/04/TB256054-scaled-e1775976127850.jpg
ORGANIZER;CN="Maria":MAILTO:mariaddurao@gmail.com
END:VEVENT
BEGIN:VEVENT
DTSTART;TZID=Africa/Casablanca:20300220T180000
DTEND;TZID=Africa/Casablanca:20300220T190000
DTSTAMP:20260422T160204
CREATED:20260412T064218Z
LAST-MODIFIED:20260412T064218Z
UID:10084982-1897840800-1897844400@tamraghtlife.com
SUMMARY:🤸🏼 Mobility Class with Maria
DESCRIPTION:🤸🏼Mobility Class \nMobility is more than stretching—it’s strength through range.In this class\, we focus on improving joint control\, stability\, and usable flexibility.A session built to help you move with more freedom\, efficiency\, and confidence 💪
URL:https://tamraghtlife.com/event/%f0%9f%a4%b8%f0%9f%8f%bc-mobility-class-with-maria/2030-02-20/
LOCATION:Mish Mish\, Tamraght\, Morocco
CATEGORIES:☀️ Tamraght Life,🏋🏾‍♀️ Fitness,💆 Wellness
ATTACH;FMTTYPE=image/jpeg:https://tamraghtlife.com/wp-content/uploads/2026/04/TB256054-scaled-e1775976127850.jpg
ORGANIZER;CN="Maria":MAILTO:mariaddurao@gmail.com
END:VEVENT
BEGIN:VEVENT
DTSTART;TZID=Africa/Casablanca:20300227T180000
DTEND;TZID=Africa/Casablanca:20300227T190000
DTSTAMP:20260422T160204
CREATED:20260412T064218Z
LAST-MODIFIED:20260412T064218Z
UID:10084983-1898445600-1898449200@tamraghtlife.com
SUMMARY:🤸🏼 Mobility Class with Maria
DESCRIPTION:🤸🏼Mobility Class \nMobility is more than stretching—it’s strength through range.In this class\, we focus on improving joint control\, stability\, and usable flexibility.A session built to help you move with more freedom\, efficiency\, and confidence 💪
URL:https://tamraghtlife.com/event/%f0%9f%a4%b8%f0%9f%8f%bc-mobility-class-with-maria/2030-02-27/
LOCATION:Mish Mish\, Tamraght\, Morocco
CATEGORIES:☀️ Tamraght Life,🏋🏾‍♀️ Fitness,💆 Wellness
ATTACH;FMTTYPE=image/jpeg:https://tamraghtlife.com/wp-content/uploads/2026/04/TB256054-scaled-e1775976127850.jpg
ORGANIZER;CN="Maria":MAILTO:mariaddurao@gmail.com
END:VEVENT
BEGIN:VEVENT
DTSTART;TZID=Africa/Casablanca:20300306T180000
DTEND;TZID=Africa/Casablanca:20300306T190000
DTSTAMP:20260422T160204
CREATED:20260412T064218Z
LAST-MODIFIED:20260412T064218Z
UID:10084984-1899050400-1899054000@tamraghtlife.com
SUMMARY:🤸🏼 Mobility Class with Maria
DESCRIPTION:🤸🏼Mobility Class \nMobility is more than stretching—it’s strength through range.In this class\, we focus on improving joint control\, stability\, and usable flexibility.A session built to help you move with more freedom\, efficiency\, and confidence 💪
URL:https://tamraghtlife.com/event/%f0%9f%a4%b8%f0%9f%8f%bc-mobility-class-with-maria/2030-03-06/
LOCATION:Mish Mish\, Tamraght\, Morocco
CATEGORIES:☀️ Tamraght Life,🏋🏾‍♀️ Fitness,💆 Wellness
ATTACH;FMTTYPE=image/jpeg:https://tamraghtlife.com/wp-content/uploads/2026/04/TB256054-scaled-e1775976127850.jpg
ORGANIZER;CN="Maria":MAILTO:mariaddurao@gmail.com
END:VEVENT
BEGIN:VEVENT
DTSTART;TZID=Africa/Casablanca:20300313T180000
DTEND;TZID=Africa/Casablanca:20300313T190000
DTSTAMP:20260422T160204
CREATED:20260412T064218Z
LAST-MODIFIED:20260412T064218Z
UID:10084985-1899655200-1899658800@tamraghtlife.com
SUMMARY:🤸🏼 Mobility Class with Maria
DESCRIPTION:🤸🏼Mobility Class \nMobility is more than stretching—it’s strength through range.In this class\, we focus on improving joint control\, stability\, and usable flexibility.A session built to help you move with more freedom\, efficiency\, and confidence 💪
URL:https://tamraghtlife.com/event/%f0%9f%a4%b8%f0%9f%8f%bc-mobility-class-with-maria/2030-03-13/
LOCATION:Mish Mish\, Tamraght\, Morocco
CATEGORIES:☀️ Tamraght Life,🏋🏾‍♀️ Fitness,💆 Wellness
ATTACH;FMTTYPE=image/jpeg:https://tamraghtlife.com/wp-content/uploads/2026/04/TB256054-scaled-e1775976127850.jpg
ORGANIZER;CN="Maria":MAILTO:mariaddurao@gmail.com
END:VEVENT
BEGIN:VEVENT
DTSTART;TZID=Africa/Casablanca:20300320T180000
DTEND;TZID=Africa/Casablanca:20300320T190000
DTSTAMP:20260422T160204
CREATED:20260412T064218Z
LAST-MODIFIED:20260412T064218Z
UID:10084986-1900260000-1900263600@tamraghtlife.com
SUMMARY:🤸🏼 Mobility Class with Maria
DESCRIPTION:🤸🏼Mobility Class \nMobility is more than stretching—it’s strength through range.In this class\, we focus on improving joint control\, stability\, and usable flexibility.A session built to help you move with more freedom\, efficiency\, and confidence 💪
URL:https://tamraghtlife.com/event/%f0%9f%a4%b8%f0%9f%8f%bc-mobility-class-with-maria/2030-03-20/
LOCATION:Mish Mish\, Tamraght\, Morocco
CATEGORIES:☀️ Tamraght Life,🏋🏾‍♀️ Fitness,💆 Wellness
ATTACH;FMTTYPE=image/jpeg:https://tamraghtlife.com/wp-content/uploads/2026/04/TB256054-scaled-e1775976127850.jpg
ORGANIZER;CN="Maria":MAILTO:mariaddurao@gmail.com
END:VEVENT
BEGIN:VEVENT
DTSTART;TZID=Africa/Casablanca:20300327T180000
DTEND;TZID=Africa/Casablanca:20300327T190000
DTSTAMP:20260422T160204
CREATED:20260412T064218Z
LAST-MODIFIED:20260412T064218Z
UID:10084987-1900864800-1900868400@tamraghtlife.com
SUMMARY:🤸🏼 Mobility Class with Maria
DESCRIPTION:🤸🏼Mobility Class \nMobility is more than stretching—it’s strength through range.In this class\, we focus on improving joint control\, stability\, and usable flexibility.A session built to help you move with more freedom\, efficiency\, and confidence 💪
URL:https://tamraghtlife.com/event/%f0%9f%a4%b8%f0%9f%8f%bc-mobility-class-with-maria/2030-03-27/
LOCATION:Mish Mish\, Tamraght\, Morocco
CATEGORIES:☀️ Tamraght Life,🏋🏾‍♀️ Fitness,💆 Wellness
ATTACH;FMTTYPE=image/jpeg:https://tamraghtlife.com/wp-content/uploads/2026/04/TB256054-scaled-e1775976127850.jpg
ORGANIZER;CN="Maria":MAILTO:mariaddurao@gmail.com
END:VEVENT
BEGIN:VEVENT
DTSTART;TZID=Africa/Casablanca:20300403T180000
DTEND;TZID=Africa/Casablanca:20300403T190000
DTSTAMP:20260422T160204
CREATED:20260412T064218Z
LAST-MODIFIED:20260412T064218Z
UID:10084988-1901469600-1901473200@tamraghtlife.com
SUMMARY:🤸🏼 Mobility Class with Maria
DESCRIPTION:🤸🏼Mobility Class \nMobility is more than stretching—it’s strength through range.In this class\, we focus on improving joint control\, stability\, and usable flexibility.A session built to help you move with more freedom\, efficiency\, and confidence 💪
URL:https://tamraghtlife.com/event/%f0%9f%a4%b8%f0%9f%8f%bc-mobility-class-with-maria/2030-04-03/
LOCATION:Mish Mish\, Tamraght\, Morocco
CATEGORIES:☀️ Tamraght Life,🏋🏾‍♀️ Fitness,💆 Wellness
ATTACH;FMTTYPE=image/jpeg:https://tamraghtlife.com/wp-content/uploads/2026/04/TB256054-scaled-e1775976127850.jpg
ORGANIZER;CN="Maria":MAILTO:mariaddurao@gmail.com
END:VEVENT
BEGIN:VEVENT
DTSTART;TZID=Africa/Casablanca:20300410T180000
DTEND;TZID=Africa/Casablanca:20300410T190000
DTSTAMP:20260422T160204
CREATED:20260412T064218Z
LAST-MODIFIED:20260412T064218Z
UID:10084989-1902074400-1902078000@tamraghtlife.com
SUMMARY:🤸🏼 Mobility Class with Maria
DESCRIPTION:🤸🏼Mobility Class \nMobility is more than stretching—it’s strength through range.In this class\, we focus on improving joint control\, stability\, and usable flexibility.A session built to help you move with more freedom\, efficiency\, and confidence 💪
URL:https://tamraghtlife.com/event/%f0%9f%a4%b8%f0%9f%8f%bc-mobility-class-with-maria/2030-04-10/
LOCATION:Mish Mish\, Tamraght\, Morocco
CATEGORIES:☀️ Tamraght Life,🏋🏾‍♀️ Fitness,💆 Wellness
ATTACH;FMTTYPE=image/jpeg:https://tamraghtlife.com/wp-content/uploads/2026/04/TB256054-scaled-e1775976127850.jpg
ORGANIZER;CN="Maria":MAILTO:mariaddurao@gmail.com
END:VEVENT
BEGIN:VEVENT
DTSTART;TZID=Africa/Casablanca:20300417T180000
DTEND;TZID=Africa/Casablanca:20300417T190000
DTSTAMP:20260422T160204
CREATED:20260412T064218Z
LAST-MODIFIED:20260412T064218Z
UID:10084990-1902679200-1902682800@tamraghtlife.com
SUMMARY:🤸🏼 Mobility Class with Maria
DESCRIPTION:🤸🏼Mobility Class \nMobility is more than stretching—it’s strength through range.In this class\, we focus on improving joint control\, stability\, and usable flexibility.A session built to help you move with more freedom\, efficiency\, and confidence 💪
URL:https://tamraghtlife.com/event/%f0%9f%a4%b8%f0%9f%8f%bc-mobility-class-with-maria/2030-04-17/
LOCATION:Mish Mish\, Tamraght\, Morocco
CATEGORIES:☀️ Tamraght Life,🏋🏾‍♀️ Fitness,💆 Wellness
ATTACH;FMTTYPE=image/jpeg:https://tamraghtlife.com/wp-content/uploads/2026/04/TB256054-scaled-e1775976127850.jpg
ORGANIZER;CN="Maria":MAILTO:mariaddurao@gmail.com
END:VEVENT
BEGIN:VEVENT
DTSTART;TZID=Africa/Casablanca:20300424T180000
DTEND;TZID=Africa/Casablanca:20300424T190000
DTSTAMP:20260422T160204
CREATED:20260412T064218Z
LAST-MODIFIED:20260412T064218Z
UID:10084991-1903284000-1903287600@tamraghtlife.com
SUMMARY:🤸🏼 Mobility Class with Maria
DESCRIPTION:🤸🏼Mobility Class \nMobility is more than stretching—it’s strength through range.In this class\, we focus on improving joint control\, stability\, and usable flexibility.A session built to help you move with more freedom\, efficiency\, and confidence 💪
URL:https://tamraghtlife.com/event/%f0%9f%a4%b8%f0%9f%8f%bc-mobility-class-with-maria/2030-04-24/
LOCATION:Mish Mish\, Tamraght\, Morocco
CATEGORIES:☀️ Tamraght Life,🏋🏾‍♀️ Fitness,💆 Wellness
ATTACH;FMTTYPE=image/jpeg:https://tamraghtlife.com/wp-content/uploads/2026/04/TB256054-scaled-e1775976127850.jpg
ORGANIZER;CN="Maria":MAILTO:mariaddurao@gmail.com
END:VEVENT
END:VCALENDAR