BEGIN:VCALENDAR
VERSION:2.0
PRODID:-//tamraghtlife.com - ECPv6.15.20//NONSGML v1.0//EN
CALSCALE:GREGORIAN
METHOD:PUBLISH
X-WR-CALNAME:tamraghtlife.com
X-ORIGINAL-URL:https://tamraghtlife.com
X-WR-CALDESC:Events for tamraghtlife.com
REFRESH-INTERVAL;VALUE=DURATION:PT1H
X-Robots-Tag:noindex
X-PUBLISHED-TTL:PT1H
BEGIN:VTIMEZONE
TZID:Africa/Casablanca
BEGIN:DAYLIGHT
TZOFFSETFROM:+0100
TZOFFSETTO:+0000
TZNAME:+00
DTSTART:20290114T020000
END:DAYLIGHT
BEGIN:STANDARD
TZOFFSETFROM:+0000
TZOFFSETTO:+0100
TZNAME:+01
DTSTART:20290218T020000
END:STANDARD
BEGIN:DAYLIGHT
TZOFFSETFROM:+0100
TZOFFSETTO:+0000
TZNAME:+00
DTSTART:20291230T020000
END:DAYLIGHT
BEGIN:STANDARD
TZOFFSETFROM:+0000
TZOFFSETTO:+0100
TZNAME:+01
DTSTART:20300210T020000
END:STANDARD
BEGIN:DAYLIGHT
TZOFFSETFROM:+0100
TZOFFSETTO:+0000
TZNAME:+00
DTSTART:20301222T020000
END:DAYLIGHT
BEGIN:STANDARD
TZOFFSETFROM:+0000
TZOFFSETTO:+0100
TZNAME:+01
DTSTART:20310126T020000
END:STANDARD
BEGIN:DAYLIGHT
TZOFFSETFROM:+0100
TZOFFSETTO:+0000
TZNAME:+00
DTSTART:20311214T020000
END:DAYLIGHT
END:VTIMEZONE
BEGIN:VEVENT
DTSTART;TZID=Africa/Casablanca:20300501T180000
DTEND;TZID=Africa/Casablanca:20300501T190000
DTSTAMP:20260422T173253
CREATED:20260412T064218Z
LAST-MODIFIED:20260412T064218Z
UID:10084992-1903888800-1903892400@tamraghtlife.com
SUMMARY:🤸🏼 Mobility Class with Maria
DESCRIPTION:🤸🏼Mobility Class \nMobility is more than stretching—it’s strength through range.In this class\, we focus on improving joint control\, stability\, and usable flexibility.A session built to help you move with more freedom\, efficiency\, and confidence 💪
URL:https://tamraghtlife.com/event/%f0%9f%a4%b8%f0%9f%8f%bc-mobility-class-with-maria/2030-05-01/
LOCATION:Mish Mish\, Tamraght\, Morocco
CATEGORIES:☀️ Tamraght Life,🏋🏾‍♀️ Fitness,💆 Wellness
ATTACH;FMTTYPE=image/jpeg:https://tamraghtlife.com/wp-content/uploads/2026/04/TB256054-scaled-e1775976127850.jpg
ORGANIZER;CN="Maria":MAILTO:mariaddurao@gmail.com
END:VEVENT
BEGIN:VEVENT
DTSTART;TZID=Africa/Casablanca:20300508T180000
DTEND;TZID=Africa/Casablanca:20300508T190000
DTSTAMP:20260422T173253
CREATED:20260412T064218Z
LAST-MODIFIED:20260412T064218Z
UID:10084993-1904493600-1904497200@tamraghtlife.com
SUMMARY:🤸🏼 Mobility Class with Maria
DESCRIPTION:🤸🏼Mobility Class \nMobility is more than stretching—it’s strength through range.In this class\, we focus on improving joint control\, stability\, and usable flexibility.A session built to help you move with more freedom\, efficiency\, and confidence 💪
URL:https://tamraghtlife.com/event/%f0%9f%a4%b8%f0%9f%8f%bc-mobility-class-with-maria/2030-05-08/
LOCATION:Mish Mish\, Tamraght\, Morocco
CATEGORIES:☀️ Tamraght Life,🏋🏾‍♀️ Fitness,💆 Wellness
ATTACH;FMTTYPE=image/jpeg:https://tamraghtlife.com/wp-content/uploads/2026/04/TB256054-scaled-e1775976127850.jpg
ORGANIZER;CN="Maria":MAILTO:mariaddurao@gmail.com
END:VEVENT
BEGIN:VEVENT
DTSTART;TZID=Africa/Casablanca:20300515T180000
DTEND;TZID=Africa/Casablanca:20300515T190000
DTSTAMP:20260422T173253
CREATED:20260412T064218Z
LAST-MODIFIED:20260412T064218Z
UID:10084994-1905098400-1905102000@tamraghtlife.com
SUMMARY:🤸🏼 Mobility Class with Maria
DESCRIPTION:🤸🏼Mobility Class \nMobility is more than stretching—it’s strength through range.In this class\, we focus on improving joint control\, stability\, and usable flexibility.A session built to help you move with more freedom\, efficiency\, and confidence 💪
URL:https://tamraghtlife.com/event/%f0%9f%a4%b8%f0%9f%8f%bc-mobility-class-with-maria/2030-05-15/
LOCATION:Mish Mish\, Tamraght\, Morocco
CATEGORIES:☀️ Tamraght Life,🏋🏾‍♀️ Fitness,💆 Wellness
ATTACH;FMTTYPE=image/jpeg:https://tamraghtlife.com/wp-content/uploads/2026/04/TB256054-scaled-e1775976127850.jpg
ORGANIZER;CN="Maria":MAILTO:mariaddurao@gmail.com
END:VEVENT
BEGIN:VEVENT
DTSTART;TZID=Africa/Casablanca:20300522T180000
DTEND;TZID=Africa/Casablanca:20300522T190000
DTSTAMP:20260422T173253
CREATED:20260412T064218Z
LAST-MODIFIED:20260412T064218Z
UID:10084995-1905703200-1905706800@tamraghtlife.com
SUMMARY:🤸🏼 Mobility Class with Maria
DESCRIPTION:🤸🏼Mobility Class \nMobility is more than stretching—it’s strength through range.In this class\, we focus on improving joint control\, stability\, and usable flexibility.A session built to help you move with more freedom\, efficiency\, and confidence 💪
URL:https://tamraghtlife.com/event/%f0%9f%a4%b8%f0%9f%8f%bc-mobility-class-with-maria/2030-05-22/
LOCATION:Mish Mish\, Tamraght\, Morocco
CATEGORIES:☀️ Tamraght Life,🏋🏾‍♀️ Fitness,💆 Wellness
ATTACH;FMTTYPE=image/jpeg:https://tamraghtlife.com/wp-content/uploads/2026/04/TB256054-scaled-e1775976127850.jpg
ORGANIZER;CN="Maria":MAILTO:mariaddurao@gmail.com
END:VEVENT
BEGIN:VEVENT
DTSTART;TZID=Africa/Casablanca:20300529T180000
DTEND;TZID=Africa/Casablanca:20300529T190000
DTSTAMP:20260422T173253
CREATED:20260412T064218Z
LAST-MODIFIED:20260412T064218Z
UID:10084996-1906308000-1906311600@tamraghtlife.com
SUMMARY:🤸🏼 Mobility Class with Maria
DESCRIPTION:🤸🏼Mobility Class \nMobility is more than stretching—it’s strength through range.In this class\, we focus on improving joint control\, stability\, and usable flexibility.A session built to help you move with more freedom\, efficiency\, and confidence 💪
URL:https://tamraghtlife.com/event/%f0%9f%a4%b8%f0%9f%8f%bc-mobility-class-with-maria/2030-05-29/
LOCATION:Mish Mish\, Tamraght\, Morocco
CATEGORIES:☀️ Tamraght Life,🏋🏾‍♀️ Fitness,💆 Wellness
ATTACH;FMTTYPE=image/jpeg:https://tamraghtlife.com/wp-content/uploads/2026/04/TB256054-scaled-e1775976127850.jpg
ORGANIZER;CN="Maria":MAILTO:mariaddurao@gmail.com
END:VEVENT
BEGIN:VEVENT
DTSTART;TZID=Africa/Casablanca:20300605T180000
DTEND;TZID=Africa/Casablanca:20300605T190000
DTSTAMP:20260422T173253
CREATED:20260412T064218Z
LAST-MODIFIED:20260412T064218Z
UID:10084997-1906912800-1906916400@tamraghtlife.com
SUMMARY:🤸🏼 Mobility Class with Maria
DESCRIPTION:🤸🏼Mobility Class \nMobility is more than stretching—it’s strength through range.In this class\, we focus on improving joint control\, stability\, and usable flexibility.A session built to help you move with more freedom\, efficiency\, and confidence 💪
URL:https://tamraghtlife.com/event/%f0%9f%a4%b8%f0%9f%8f%bc-mobility-class-with-maria/2030-06-05/
LOCATION:Mish Mish\, Tamraght\, Morocco
CATEGORIES:☀️ Tamraght Life,🏋🏾‍♀️ Fitness,💆 Wellness
ATTACH;FMTTYPE=image/jpeg:https://tamraghtlife.com/wp-content/uploads/2026/04/TB256054-scaled-e1775976127850.jpg
ORGANIZER;CN="Maria":MAILTO:mariaddurao@gmail.com
END:VEVENT
BEGIN:VEVENT
DTSTART;TZID=Africa/Casablanca:20300612T180000
DTEND;TZID=Africa/Casablanca:20300612T190000
DTSTAMP:20260422T173253
CREATED:20260412T064218Z
LAST-MODIFIED:20260412T064218Z
UID:10084998-1907517600-1907521200@tamraghtlife.com
SUMMARY:🤸🏼 Mobility Class with Maria
DESCRIPTION:🤸🏼Mobility Class \nMobility is more than stretching—it’s strength through range.In this class\, we focus on improving joint control\, stability\, and usable flexibility.A session built to help you move with more freedom\, efficiency\, and confidence 💪
URL:https://tamraghtlife.com/event/%f0%9f%a4%b8%f0%9f%8f%bc-mobility-class-with-maria/2030-06-12/
LOCATION:Mish Mish\, Tamraght\, Morocco
CATEGORIES:☀️ Tamraght Life,🏋🏾‍♀️ Fitness,💆 Wellness
ATTACH;FMTTYPE=image/jpeg:https://tamraghtlife.com/wp-content/uploads/2026/04/TB256054-scaled-e1775976127850.jpg
ORGANIZER;CN="Maria":MAILTO:mariaddurao@gmail.com
END:VEVENT
BEGIN:VEVENT
DTSTART;TZID=Africa/Casablanca:20300619T180000
DTEND;TZID=Africa/Casablanca:20300619T190000
DTSTAMP:20260422T173253
CREATED:20260412T064218Z
LAST-MODIFIED:20260412T064218Z
UID:10084999-1908122400-1908126000@tamraghtlife.com
SUMMARY:🤸🏼 Mobility Class with Maria
DESCRIPTION:🤸🏼Mobility Class \nMobility is more than stretching—it’s strength through range.In this class\, we focus on improving joint control\, stability\, and usable flexibility.A session built to help you move with more freedom\, efficiency\, and confidence 💪
URL:https://tamraghtlife.com/event/%f0%9f%a4%b8%f0%9f%8f%bc-mobility-class-with-maria/2030-06-19/
LOCATION:Mish Mish\, Tamraght\, Morocco
CATEGORIES:☀️ Tamraght Life,🏋🏾‍♀️ Fitness,💆 Wellness
ATTACH;FMTTYPE=image/jpeg:https://tamraghtlife.com/wp-content/uploads/2026/04/TB256054-scaled-e1775976127850.jpg
ORGANIZER;CN="Maria":MAILTO:mariaddurao@gmail.com
END:VEVENT
BEGIN:VEVENT
DTSTART;TZID=Africa/Casablanca:20300626T180000
DTEND;TZID=Africa/Casablanca:20300626T190000
DTSTAMP:20260422T173253
CREATED:20260412T064218Z
LAST-MODIFIED:20260412T064218Z
UID:10085000-1908727200-1908730800@tamraghtlife.com
SUMMARY:🤸🏼 Mobility Class with Maria
DESCRIPTION:🤸🏼Mobility Class \nMobility is more than stretching—it’s strength through range.In this class\, we focus on improving joint control\, stability\, and usable flexibility.A session built to help you move with more freedom\, efficiency\, and confidence 💪
URL:https://tamraghtlife.com/event/%f0%9f%a4%b8%f0%9f%8f%bc-mobility-class-with-maria/2030-06-26/
LOCATION:Mish Mish\, Tamraght\, Morocco
CATEGORIES:☀️ Tamraght Life,🏋🏾‍♀️ Fitness,💆 Wellness
ATTACH;FMTTYPE=image/jpeg:https://tamraghtlife.com/wp-content/uploads/2026/04/TB256054-scaled-e1775976127850.jpg
ORGANIZER;CN="Maria":MAILTO:mariaddurao@gmail.com
END:VEVENT
BEGIN:VEVENT
DTSTART;TZID=Africa/Casablanca:20300703T180000
DTEND;TZID=Africa/Casablanca:20300703T190000
DTSTAMP:20260422T173253
CREATED:20260412T064218Z
LAST-MODIFIED:20260412T064218Z
UID:10085001-1909332000-1909335600@tamraghtlife.com
SUMMARY:🤸🏼 Mobility Class with Maria
DESCRIPTION:🤸🏼Mobility Class \nMobility is more than stretching—it’s strength through range.In this class\, we focus on improving joint control\, stability\, and usable flexibility.A session built to help you move with more freedom\, efficiency\, and confidence 💪
URL:https://tamraghtlife.com/event/%f0%9f%a4%b8%f0%9f%8f%bc-mobility-class-with-maria/2030-07-03/
LOCATION:Mish Mish\, Tamraght\, Morocco
CATEGORIES:☀️ Tamraght Life,🏋🏾‍♀️ Fitness,💆 Wellness
ATTACH;FMTTYPE=image/jpeg:https://tamraghtlife.com/wp-content/uploads/2026/04/TB256054-scaled-e1775976127850.jpg
ORGANIZER;CN="Maria":MAILTO:mariaddurao@gmail.com
END:VEVENT
BEGIN:VEVENT
DTSTART;TZID=Africa/Casablanca:20300710T180000
DTEND;TZID=Africa/Casablanca:20300710T190000
DTSTAMP:20260422T173253
CREATED:20260412T064218Z
LAST-MODIFIED:20260412T064218Z
UID:10085002-1909936800-1909940400@tamraghtlife.com
SUMMARY:🤸🏼 Mobility Class with Maria
DESCRIPTION:🤸🏼Mobility Class \nMobility is more than stretching—it’s strength through range.In this class\, we focus on improving joint control\, stability\, and usable flexibility.A session built to help you move with more freedom\, efficiency\, and confidence 💪
URL:https://tamraghtlife.com/event/%f0%9f%a4%b8%f0%9f%8f%bc-mobility-class-with-maria/2030-07-10/
LOCATION:Mish Mish\, Tamraght\, Morocco
CATEGORIES:☀️ Tamraght Life,🏋🏾‍♀️ Fitness,💆 Wellness
ATTACH;FMTTYPE=image/jpeg:https://tamraghtlife.com/wp-content/uploads/2026/04/TB256054-scaled-e1775976127850.jpg
ORGANIZER;CN="Maria":MAILTO:mariaddurao@gmail.com
END:VEVENT
BEGIN:VEVENT
DTSTART;TZID=Africa/Casablanca:20300717T180000
DTEND;TZID=Africa/Casablanca:20300717T190000
DTSTAMP:20260422T173253
CREATED:20260412T064218Z
LAST-MODIFIED:20260412T064218Z
UID:10085003-1910541600-1910545200@tamraghtlife.com
SUMMARY:🤸🏼 Mobility Class with Maria
DESCRIPTION:🤸🏼Mobility Class \nMobility is more than stretching—it’s strength through range.In this class\, we focus on improving joint control\, stability\, and usable flexibility.A session built to help you move with more freedom\, efficiency\, and confidence 💪
URL:https://tamraghtlife.com/event/%f0%9f%a4%b8%f0%9f%8f%bc-mobility-class-with-maria/2030-07-17/
LOCATION:Mish Mish\, Tamraght\, Morocco
CATEGORIES:☀️ Tamraght Life,🏋🏾‍♀️ Fitness,💆 Wellness
ATTACH;FMTTYPE=image/jpeg:https://tamraghtlife.com/wp-content/uploads/2026/04/TB256054-scaled-e1775976127850.jpg
ORGANIZER;CN="Maria":MAILTO:mariaddurao@gmail.com
END:VEVENT
BEGIN:VEVENT
DTSTART;TZID=Africa/Casablanca:20300724T180000
DTEND;TZID=Africa/Casablanca:20300724T190000
DTSTAMP:20260422T173253
CREATED:20260412T064218Z
LAST-MODIFIED:20260412T064218Z
UID:10085004-1911146400-1911150000@tamraghtlife.com
SUMMARY:🤸🏼 Mobility Class with Maria
DESCRIPTION:🤸🏼Mobility Class \nMobility is more than stretching—it’s strength through range.In this class\, we focus on improving joint control\, stability\, and usable flexibility.A session built to help you move with more freedom\, efficiency\, and confidence 💪
URL:https://tamraghtlife.com/event/%f0%9f%a4%b8%f0%9f%8f%bc-mobility-class-with-maria/2030-07-24/
LOCATION:Mish Mish\, Tamraght\, Morocco
CATEGORIES:☀️ Tamraght Life,🏋🏾‍♀️ Fitness,💆 Wellness
ATTACH;FMTTYPE=image/jpeg:https://tamraghtlife.com/wp-content/uploads/2026/04/TB256054-scaled-e1775976127850.jpg
ORGANIZER;CN="Maria":MAILTO:mariaddurao@gmail.com
END:VEVENT
BEGIN:VEVENT
DTSTART;TZID=Africa/Casablanca:20300731T180000
DTEND;TZID=Africa/Casablanca:20300731T190000
DTSTAMP:20260422T173253
CREATED:20260412T064218Z
LAST-MODIFIED:20260412T064218Z
UID:10085005-1911751200-1911754800@tamraghtlife.com
SUMMARY:🤸🏼 Mobility Class with Maria
DESCRIPTION:🤸🏼Mobility Class \nMobility is more than stretching—it’s strength through range.In this class\, we focus on improving joint control\, stability\, and usable flexibility.A session built to help you move with more freedom\, efficiency\, and confidence 💪
URL:https://tamraghtlife.com/event/%f0%9f%a4%b8%f0%9f%8f%bc-mobility-class-with-maria/2030-07-31/
LOCATION:Mish Mish\, Tamraght\, Morocco
CATEGORIES:☀️ Tamraght Life,🏋🏾‍♀️ Fitness,💆 Wellness
ATTACH;FMTTYPE=image/jpeg:https://tamraghtlife.com/wp-content/uploads/2026/04/TB256054-scaled-e1775976127850.jpg
ORGANIZER;CN="Maria":MAILTO:mariaddurao@gmail.com
END:VEVENT
BEGIN:VEVENT
DTSTART;TZID=Africa/Casablanca:20300807T180000
DTEND;TZID=Africa/Casablanca:20300807T190000
DTSTAMP:20260422T173253
CREATED:20260412T064218Z
LAST-MODIFIED:20260412T064218Z
UID:10085006-1912356000-1912359600@tamraghtlife.com
SUMMARY:🤸🏼 Mobility Class with Maria
DESCRIPTION:🤸🏼Mobility Class \nMobility is more than stretching—it’s strength through range.In this class\, we focus on improving joint control\, stability\, and usable flexibility.A session built to help you move with more freedom\, efficiency\, and confidence 💪
URL:https://tamraghtlife.com/event/%f0%9f%a4%b8%f0%9f%8f%bc-mobility-class-with-maria/2030-08-07/
LOCATION:Mish Mish\, Tamraght\, Morocco
CATEGORIES:☀️ Tamraght Life,🏋🏾‍♀️ Fitness,💆 Wellness
ATTACH;FMTTYPE=image/jpeg:https://tamraghtlife.com/wp-content/uploads/2026/04/TB256054-scaled-e1775976127850.jpg
ORGANIZER;CN="Maria":MAILTO:mariaddurao@gmail.com
END:VEVENT
BEGIN:VEVENT
DTSTART;TZID=Africa/Casablanca:20300814T180000
DTEND;TZID=Africa/Casablanca:20300814T190000
DTSTAMP:20260422T173253
CREATED:20260412T064218Z
LAST-MODIFIED:20260412T064218Z
UID:10085007-1912960800-1912964400@tamraghtlife.com
SUMMARY:🤸🏼 Mobility Class with Maria
DESCRIPTION:🤸🏼Mobility Class \nMobility is more than stretching—it’s strength through range.In this class\, we focus on improving joint control\, stability\, and usable flexibility.A session built to help you move with more freedom\, efficiency\, and confidence 💪
URL:https://tamraghtlife.com/event/%f0%9f%a4%b8%f0%9f%8f%bc-mobility-class-with-maria/2030-08-14/
LOCATION:Mish Mish\, Tamraght\, Morocco
CATEGORIES:☀️ Tamraght Life,🏋🏾‍♀️ Fitness,💆 Wellness
ATTACH;FMTTYPE=image/jpeg:https://tamraghtlife.com/wp-content/uploads/2026/04/TB256054-scaled-e1775976127850.jpg
ORGANIZER;CN="Maria":MAILTO:mariaddurao@gmail.com
END:VEVENT
BEGIN:VEVENT
DTSTART;TZID=Africa/Casablanca:20300821T180000
DTEND;TZID=Africa/Casablanca:20300821T190000
DTSTAMP:20260422T173253
CREATED:20260412T064218Z
LAST-MODIFIED:20260412T064218Z
UID:10085008-1913565600-1913569200@tamraghtlife.com
SUMMARY:🤸🏼 Mobility Class with Maria
DESCRIPTION:🤸🏼Mobility Class \nMobility is more than stretching—it’s strength through range.In this class\, we focus on improving joint control\, stability\, and usable flexibility.A session built to help you move with more freedom\, efficiency\, and confidence 💪
URL:https://tamraghtlife.com/event/%f0%9f%a4%b8%f0%9f%8f%bc-mobility-class-with-maria/2030-08-21/
LOCATION:Mish Mish\, Tamraght\, Morocco
CATEGORIES:☀️ Tamraght Life,🏋🏾‍♀️ Fitness,💆 Wellness
ATTACH;FMTTYPE=image/jpeg:https://tamraghtlife.com/wp-content/uploads/2026/04/TB256054-scaled-e1775976127850.jpg
ORGANIZER;CN="Maria":MAILTO:mariaddurao@gmail.com
END:VEVENT
BEGIN:VEVENT
DTSTART;TZID=Africa/Casablanca:20300828T180000
DTEND;TZID=Africa/Casablanca:20300828T190000
DTSTAMP:20260422T173253
CREATED:20260412T064218Z
LAST-MODIFIED:20260412T064218Z
UID:10085009-1914170400-1914174000@tamraghtlife.com
SUMMARY:🤸🏼 Mobility Class with Maria
DESCRIPTION:🤸🏼Mobility Class \nMobility is more than stretching—it’s strength through range.In this class\, we focus on improving joint control\, stability\, and usable flexibility.A session built to help you move with more freedom\, efficiency\, and confidence 💪
URL:https://tamraghtlife.com/event/%f0%9f%a4%b8%f0%9f%8f%bc-mobility-class-with-maria/2030-08-28/
LOCATION:Mish Mish\, Tamraght\, Morocco
CATEGORIES:☀️ Tamraght Life,🏋🏾‍♀️ Fitness,💆 Wellness
ATTACH;FMTTYPE=image/jpeg:https://tamraghtlife.com/wp-content/uploads/2026/04/TB256054-scaled-e1775976127850.jpg
ORGANIZER;CN="Maria":MAILTO:mariaddurao@gmail.com
END:VEVENT
BEGIN:VEVENT
DTSTART;TZID=Africa/Casablanca:20300904T180000
DTEND;TZID=Africa/Casablanca:20300904T190000
DTSTAMP:20260422T173253
CREATED:20260412T064218Z
LAST-MODIFIED:20260412T064218Z
UID:10085010-1914775200-1914778800@tamraghtlife.com
SUMMARY:🤸🏼 Mobility Class with Maria
DESCRIPTION:🤸🏼Mobility Class \nMobility is more than stretching—it’s strength through range.In this class\, we focus on improving joint control\, stability\, and usable flexibility.A session built to help you move with more freedom\, efficiency\, and confidence 💪
URL:https://tamraghtlife.com/event/%f0%9f%a4%b8%f0%9f%8f%bc-mobility-class-with-maria/2030-09-04/
LOCATION:Mish Mish\, Tamraght\, Morocco
CATEGORIES:☀️ Tamraght Life,🏋🏾‍♀️ Fitness,💆 Wellness
ATTACH;FMTTYPE=image/jpeg:https://tamraghtlife.com/wp-content/uploads/2026/04/TB256054-scaled-e1775976127850.jpg
ORGANIZER;CN="Maria":MAILTO:mariaddurao@gmail.com
END:VEVENT
BEGIN:VEVENT
DTSTART;TZID=Africa/Casablanca:20300911T180000
DTEND;TZID=Africa/Casablanca:20300911T190000
DTSTAMP:20260422T173253
CREATED:20260412T064218Z
LAST-MODIFIED:20260412T064218Z
UID:10085011-1915380000-1915383600@tamraghtlife.com
SUMMARY:🤸🏼 Mobility Class with Maria
DESCRIPTION:🤸🏼Mobility Class \nMobility is more than stretching—it’s strength through range.In this class\, we focus on improving joint control\, stability\, and usable flexibility.A session built to help you move with more freedom\, efficiency\, and confidence 💪
URL:https://tamraghtlife.com/event/%f0%9f%a4%b8%f0%9f%8f%bc-mobility-class-with-maria/2030-09-11/
LOCATION:Mish Mish\, Tamraght\, Morocco
CATEGORIES:☀️ Tamraght Life,🏋🏾‍♀️ Fitness,💆 Wellness
ATTACH;FMTTYPE=image/jpeg:https://tamraghtlife.com/wp-content/uploads/2026/04/TB256054-scaled-e1775976127850.jpg
ORGANIZER;CN="Maria":MAILTO:mariaddurao@gmail.com
END:VEVENT
BEGIN:VEVENT
DTSTART;TZID=Africa/Casablanca:20300918T180000
DTEND;TZID=Africa/Casablanca:20300918T190000
DTSTAMP:20260422T173253
CREATED:20260412T064218Z
LAST-MODIFIED:20260412T064218Z
UID:10085012-1915984800-1915988400@tamraghtlife.com
SUMMARY:🤸🏼 Mobility Class with Maria
DESCRIPTION:🤸🏼Mobility Class \nMobility is more than stretching—it’s strength through range.In this class\, we focus on improving joint control\, stability\, and usable flexibility.A session built to help you move with more freedom\, efficiency\, and confidence 💪
URL:https://tamraghtlife.com/event/%f0%9f%a4%b8%f0%9f%8f%bc-mobility-class-with-maria/2030-09-18/
LOCATION:Mish Mish\, Tamraght\, Morocco
CATEGORIES:☀️ Tamraght Life,🏋🏾‍♀️ Fitness,💆 Wellness
ATTACH;FMTTYPE=image/jpeg:https://tamraghtlife.com/wp-content/uploads/2026/04/TB256054-scaled-e1775976127850.jpg
ORGANIZER;CN="Maria":MAILTO:mariaddurao@gmail.com
END:VEVENT
BEGIN:VEVENT
DTSTART;TZID=Africa/Casablanca:20300925T180000
DTEND;TZID=Africa/Casablanca:20300925T190000
DTSTAMP:20260422T173253
CREATED:20260412T064218Z
LAST-MODIFIED:20260412T064218Z
UID:10085013-1916589600-1916593200@tamraghtlife.com
SUMMARY:🤸🏼 Mobility Class with Maria
DESCRIPTION:🤸🏼Mobility Class \nMobility is more than stretching—it’s strength through range.In this class\, we focus on improving joint control\, stability\, and usable flexibility.A session built to help you move with more freedom\, efficiency\, and confidence 💪
URL:https://tamraghtlife.com/event/%f0%9f%a4%b8%f0%9f%8f%bc-mobility-class-with-maria/2030-09-25/
LOCATION:Mish Mish\, Tamraght\, Morocco
CATEGORIES:☀️ Tamraght Life,🏋🏾‍♀️ Fitness,💆 Wellness
ATTACH;FMTTYPE=image/jpeg:https://tamraghtlife.com/wp-content/uploads/2026/04/TB256054-scaled-e1775976127850.jpg
ORGANIZER;CN="Maria":MAILTO:mariaddurao@gmail.com
END:VEVENT
BEGIN:VEVENT
DTSTART;TZID=Africa/Casablanca:20301002T180000
DTEND;TZID=Africa/Casablanca:20301002T190000
DTSTAMP:20260422T173253
CREATED:20260412T064218Z
LAST-MODIFIED:20260412T064218Z
UID:10085014-1917194400-1917198000@tamraghtlife.com
SUMMARY:🤸🏼 Mobility Class with Maria
DESCRIPTION:🤸🏼Mobility Class \nMobility is more than stretching—it’s strength through range.In this class\, we focus on improving joint control\, stability\, and usable flexibility.A session built to help you move with more freedom\, efficiency\, and confidence 💪
URL:https://tamraghtlife.com/event/%f0%9f%a4%b8%f0%9f%8f%bc-mobility-class-with-maria/2030-10-02/
LOCATION:Mish Mish\, Tamraght\, Morocco
CATEGORIES:☀️ Tamraght Life,🏋🏾‍♀️ Fitness,💆 Wellness
ATTACH;FMTTYPE=image/jpeg:https://tamraghtlife.com/wp-content/uploads/2026/04/TB256054-scaled-e1775976127850.jpg
ORGANIZER;CN="Maria":MAILTO:mariaddurao@gmail.com
END:VEVENT
BEGIN:VEVENT
DTSTART;TZID=Africa/Casablanca:20301009T180000
DTEND;TZID=Africa/Casablanca:20301009T190000
DTSTAMP:20260422T173253
CREATED:20260412T064218Z
LAST-MODIFIED:20260412T064218Z
UID:10085015-1917799200-1917802800@tamraghtlife.com
SUMMARY:🤸🏼 Mobility Class with Maria
DESCRIPTION:🤸🏼Mobility Class \nMobility is more than stretching—it’s strength through range.In this class\, we focus on improving joint control\, stability\, and usable flexibility.A session built to help you move with more freedom\, efficiency\, and confidence 💪
URL:https://tamraghtlife.com/event/%f0%9f%a4%b8%f0%9f%8f%bc-mobility-class-with-maria/2030-10-09/
LOCATION:Mish Mish\, Tamraght\, Morocco
CATEGORIES:☀️ Tamraght Life,🏋🏾‍♀️ Fitness,💆 Wellness
ATTACH;FMTTYPE=image/jpeg:https://tamraghtlife.com/wp-content/uploads/2026/04/TB256054-scaled-e1775976127850.jpg
ORGANIZER;CN="Maria":MAILTO:mariaddurao@gmail.com
END:VEVENT
BEGIN:VEVENT
DTSTART;TZID=Africa/Casablanca:20301016T180000
DTEND;TZID=Africa/Casablanca:20301016T190000
DTSTAMP:20260422T173253
CREATED:20260412T064218Z
LAST-MODIFIED:20260412T064218Z
UID:10085016-1918404000-1918407600@tamraghtlife.com
SUMMARY:🤸🏼 Mobility Class with Maria
DESCRIPTION:🤸🏼Mobility Class \nMobility is more than stretching—it’s strength through range.In this class\, we focus on improving joint control\, stability\, and usable flexibility.A session built to help you move with more freedom\, efficiency\, and confidence 💪
URL:https://tamraghtlife.com/event/%f0%9f%a4%b8%f0%9f%8f%bc-mobility-class-with-maria/2030-10-16/
LOCATION:Mish Mish\, Tamraght\, Morocco
CATEGORIES:☀️ Tamraght Life,🏋🏾‍♀️ Fitness,💆 Wellness
ATTACH;FMTTYPE=image/jpeg:https://tamraghtlife.com/wp-content/uploads/2026/04/TB256054-scaled-e1775976127850.jpg
ORGANIZER;CN="Maria":MAILTO:mariaddurao@gmail.com
END:VEVENT
BEGIN:VEVENT
DTSTART;TZID=Africa/Casablanca:20301023T180000
DTEND;TZID=Africa/Casablanca:20301023T190000
DTSTAMP:20260422T173253
CREATED:20260412T064218Z
LAST-MODIFIED:20260412T064218Z
UID:10085017-1919008800-1919012400@tamraghtlife.com
SUMMARY:🤸🏼 Mobility Class with Maria
DESCRIPTION:🤸🏼Mobility Class \nMobility is more than stretching—it’s strength through range.In this class\, we focus on improving joint control\, stability\, and usable flexibility.A session built to help you move with more freedom\, efficiency\, and confidence 💪
URL:https://tamraghtlife.com/event/%f0%9f%a4%b8%f0%9f%8f%bc-mobility-class-with-maria/2030-10-23/
LOCATION:Mish Mish\, Tamraght\, Morocco
CATEGORIES:☀️ Tamraght Life,🏋🏾‍♀️ Fitness,💆 Wellness
ATTACH;FMTTYPE=image/jpeg:https://tamraghtlife.com/wp-content/uploads/2026/04/TB256054-scaled-e1775976127850.jpg
ORGANIZER;CN="Maria":MAILTO:mariaddurao@gmail.com
END:VEVENT
BEGIN:VEVENT
DTSTART;TZID=Africa/Casablanca:20301030T180000
DTEND;TZID=Africa/Casablanca:20301030T190000
DTSTAMP:20260422T173253
CREATED:20260412T064218Z
LAST-MODIFIED:20260412T064218Z
UID:10085018-1919613600-1919617200@tamraghtlife.com
SUMMARY:🤸🏼 Mobility Class with Maria
DESCRIPTION:🤸🏼Mobility Class \nMobility is more than stretching—it’s strength through range.In this class\, we focus on improving joint control\, stability\, and usable flexibility.A session built to help you move with more freedom\, efficiency\, and confidence 💪
URL:https://tamraghtlife.com/event/%f0%9f%a4%b8%f0%9f%8f%bc-mobility-class-with-maria/2030-10-30/
LOCATION:Mish Mish\, Tamraght\, Morocco
CATEGORIES:☀️ Tamraght Life,🏋🏾‍♀️ Fitness,💆 Wellness
ATTACH;FMTTYPE=image/jpeg:https://tamraghtlife.com/wp-content/uploads/2026/04/TB256054-scaled-e1775976127850.jpg
ORGANIZER;CN="Maria":MAILTO:mariaddurao@gmail.com
END:VEVENT
BEGIN:VEVENT
DTSTART;TZID=Africa/Casablanca:20301106T180000
DTEND;TZID=Africa/Casablanca:20301106T190000
DTSTAMP:20260422T173253
CREATED:20260412T064218Z
LAST-MODIFIED:20260412T064218Z
UID:10085019-1920218400-1920222000@tamraghtlife.com
SUMMARY:🤸🏼 Mobility Class with Maria
DESCRIPTION:🤸🏼Mobility Class \nMobility is more than stretching—it’s strength through range.In this class\, we focus on improving joint control\, stability\, and usable flexibility.A session built to help you move with more freedom\, efficiency\, and confidence 💪
URL:https://tamraghtlife.com/event/%f0%9f%a4%b8%f0%9f%8f%bc-mobility-class-with-maria/2030-11-06/
LOCATION:Mish Mish\, Tamraght\, Morocco
CATEGORIES:☀️ Tamraght Life,🏋🏾‍♀️ Fitness,💆 Wellness
ATTACH;FMTTYPE=image/jpeg:https://tamraghtlife.com/wp-content/uploads/2026/04/TB256054-scaled-e1775976127850.jpg
ORGANIZER;CN="Maria":MAILTO:mariaddurao@gmail.com
END:VEVENT
BEGIN:VEVENT
DTSTART;TZID=Africa/Casablanca:20301113T180000
DTEND;TZID=Africa/Casablanca:20301113T190000
DTSTAMP:20260422T173253
CREATED:20260412T064218Z
LAST-MODIFIED:20260412T064218Z
UID:10085020-1920823200-1920826800@tamraghtlife.com
SUMMARY:🤸🏼 Mobility Class with Maria
DESCRIPTION:🤸🏼Mobility Class \nMobility is more than stretching—it’s strength through range.In this class\, we focus on improving joint control\, stability\, and usable flexibility.A session built to help you move with more freedom\, efficiency\, and confidence 💪
URL:https://tamraghtlife.com/event/%f0%9f%a4%b8%f0%9f%8f%bc-mobility-class-with-maria/2030-11-13/
LOCATION:Mish Mish\, Tamraght\, Morocco
CATEGORIES:☀️ Tamraght Life,🏋🏾‍♀️ Fitness,💆 Wellness
ATTACH;FMTTYPE=image/jpeg:https://tamraghtlife.com/wp-content/uploads/2026/04/TB256054-scaled-e1775976127850.jpg
ORGANIZER;CN="Maria":MAILTO:mariaddurao@gmail.com
END:VEVENT
BEGIN:VEVENT
DTSTART;TZID=Africa/Casablanca:20301120T180000
DTEND;TZID=Africa/Casablanca:20301120T190000
DTSTAMP:20260422T173253
CREATED:20260412T064218Z
LAST-MODIFIED:20260412T064218Z
UID:10085021-1921428000-1921431600@tamraghtlife.com
SUMMARY:🤸🏼 Mobility Class with Maria
DESCRIPTION:🤸🏼Mobility Class \nMobility is more than stretching—it’s strength through range.In this class\, we focus on improving joint control\, stability\, and usable flexibility.A session built to help you move with more freedom\, efficiency\, and confidence 💪
URL:https://tamraghtlife.com/event/%f0%9f%a4%b8%f0%9f%8f%bc-mobility-class-with-maria/2030-11-20/
LOCATION:Mish Mish\, Tamraght\, Morocco
CATEGORIES:☀️ Tamraght Life,🏋🏾‍♀️ Fitness,💆 Wellness
ATTACH;FMTTYPE=image/jpeg:https://tamraghtlife.com/wp-content/uploads/2026/04/TB256054-scaled-e1775976127850.jpg
ORGANIZER;CN="Maria":MAILTO:mariaddurao@gmail.com
END:VEVENT
END:VCALENDAR