BEGIN:VCALENDAR
VERSION:2.0
PRODID:-//tamraghtlife.com - ECPv6.15.20//NONSGML v1.0//EN
CALSCALE:GREGORIAN
METHOD:PUBLISH
X-WR-CALNAME:tamraghtlife.com
X-ORIGINAL-URL:https://tamraghtlife.com
X-WR-CALDESC:Events for tamraghtlife.com
REFRESH-INTERVAL;VALUE=DURATION:PT1H
X-Robots-Tag:noindex
X-PUBLISHED-TTL:PT1H
BEGIN:VTIMEZONE
TZID:Africa/Casablanca
BEGIN:DAYLIGHT
TZOFFSETFROM:+0100
TZOFFSETTO:+0000
TZNAME:+00
DTSTART:20250223T020000
END:DAYLIGHT
BEGIN:STANDARD
TZOFFSETFROM:+0000
TZOFFSETTO:+0100
TZNAME:+01
DTSTART:20250406T020000
END:STANDARD
BEGIN:DAYLIGHT
TZOFFSETFROM:+0100
TZOFFSETTO:+0000
TZNAME:+00
DTSTART:20260215T020000
END:DAYLIGHT
BEGIN:STANDARD
TZOFFSETFROM:+0000
TZOFFSETTO:+0100
TZNAME:+01
DTSTART:20260322T020000
END:STANDARD
BEGIN:DAYLIGHT
TZOFFSETFROM:+0100
TZOFFSETTO:+0000
TZNAME:+00
DTSTART:20270207T020000
END:DAYLIGHT
BEGIN:STANDARD
TZOFFSETFROM:+0000
TZOFFSETTO:+0100
TZNAME:+01
DTSTART:20270314T020000
END:STANDARD
END:VTIMEZONE
BEGIN:VEVENT
DTSTART;TZID=Africa/Casablanca:20260307T210000
DTEND;TZID=Africa/Casablanca:20260307T220000
DTSTAMP:20260421T015359
CREATED:20260305T151331Z
LAST-MODIFIED:20260305T151331Z
UID:10060078-1772917200-1772920800@tamraghtlife.com
SUMMARY:EVENT - MOVIE NIGHT AT NOMADBAY - TAMRAGHT
DESCRIPTION:🎬✨ We’re back with a special movie night ✨🎬\nNomad Movie Night presents Kingdom of the evening\n45 minute film to enjoy\n🕘 Starts at 9 PM\n📅 March 07\, 2026\n💫 Good vibes only\nFREE EVENT\n📍 @nomadbaytamraght
URL:https://tamraghtlife.com/event/event-movie-night-at-nomadbay-tamraght-2/
LOCATION:NomadBay Tamraght\, Tamraght\, Morocco
CATEGORIES:☀️ Tamraght Life,☕ Social,⛦ Moroccan Culture,🫂 Community
ATTACH;FMTTYPE=image/png:https://tamraghtlife.com/wp-content/uploads/2026/03/Screenshot-2026-03-05-at-15.08.45-e1772723536135.png
END:VEVENT
BEGIN:VEVENT
DTSTART;TZID=Africa/Casablanca:20260226T210000
DTEND;TZID=Africa/Casablanca:20260226T230000
DTSTAMP:20260421T015359
CREATED:20260225T124415Z
LAST-MODIFIED:20260225T124415Z
UID:10056769-1772139600-1772146800@tamraghtlife.com
SUMMARY:EVENT - MOVIE NIGHT AT NOMADBAY - TAMRAGHT
DESCRIPTION:🎬✨ In 10 days\, we’re back with a special movie night ✨🎬\nNomad Movie Night presents MAROCK\n🕘 Starts at 9 PM\n📅 February 26\, 2026\n🍿 Popcorn\n☕ Coffee or tea\n💫 Good vibes only\n💰 50 DH\n📍 @nomadbaytamraght
URL:https://tamraghtlife.com/event/event-movie-night-at-nomadbay-tamraght/
LOCATION:NomadBay Tamraght\, Tamraght\, Morocco
CATEGORIES:☀️ Tamraght Life,☕ Social,⛦ Moroccan Culture,🫂 Community
ATTACH;FMTTYPE=image/jpeg:https://tamraghtlife.com/wp-content/uploads/2026/02/TAMRAGHT-LIFE-.jpg
END:VEVENT
END:VCALENDAR