BEGIN:VCALENDAR
VERSION:2.0
PRODID:-//tamraghtlife.com - ECPv6.15.20//NONSGML v1.0//EN
CALSCALE:GREGORIAN
METHOD:PUBLISH
X-WR-CALNAME:tamraghtlife.com
X-ORIGINAL-URL:https://tamraghtlife.com
X-WR-CALDESC:Events for tamraghtlife.com
REFRESH-INTERVAL;VALUE=DURATION:PT1H
X-Robots-Tag:noindex
X-PUBLISHED-TTL:PT1H
BEGIN:VTIMEZONE
TZID:Africa/Casablanca
BEGIN:DAYLIGHT
TZOFFSETFROM:+0100
TZOFFSETTO:+0000
TZNAME:+00
DTSTART:20250223T020000
END:DAYLIGHT
BEGIN:STANDARD
TZOFFSETFROM:+0000
TZOFFSETTO:+0100
TZNAME:+01
DTSTART:20250406T020000
END:STANDARD
BEGIN:DAYLIGHT
TZOFFSETFROM:+0100
TZOFFSETTO:+0000
TZNAME:+00
DTSTART:20260215T020000
END:DAYLIGHT
BEGIN:STANDARD
TZOFFSETFROM:+0000
TZOFFSETTO:+0100
TZNAME:+01
DTSTART:20260322T020000
END:STANDARD
BEGIN:DAYLIGHT
TZOFFSETFROM:+0100
TZOFFSETTO:+0000
TZNAME:+00
DTSTART:20270207T020000
END:DAYLIGHT
BEGIN:STANDARD
TZOFFSETFROM:+0000
TZOFFSETTO:+0100
TZNAME:+01
DTSTART:20270314T020000
END:STANDARD
END:VTIMEZONE
BEGIN:VEVENT
DTSTART;TZID=Africa/Casablanca:20260405T083000
DTEND;TZID=Africa/Casablanca:20260405T094500
DTSTAMP:20260422T111148
CREATED:20260327T083756Z
LAST-MODIFIED:20260404T221345Z
UID:10076066-1775377800-1775382300@tamraghtlife.com
SUMMARY:🧘‍♂️🌸 Slow Sunday flow & tea with Meg
DESCRIPTION:Slow Sunday morning…\n60 minute flow\, beginning with calm dynamic movements\, pranayama (breath control)\, mindfulness guidance & closing with more restorative holds.\nCosy\, soft & focused. Aim is to take time being present\, observing & connecting through gentle shapes 🌿 Option to stay for a post class tea \n🌸 Single Class\n€14 – Book online now\nOnline price includes secure processing fee \n140 MAD – message to book spot +212 766 642 934 \nMuch metta!\nMeg \n✨ Class bundles available via TAMRAGHT LIFE DISCOUNTS\n✨ Private 1:1 & small group sessions available with YOGA ON REQUEST
URL:https://tamraghtlife.com/event/%f0%9f%a7%98%e2%99%82%ef%b8%8f%f0%9f%8c%b8-slow-sunday-flow-tea-with-meg/
LOCATION:Yoga Teaspot\, Mid/upper Tamraght\, Tamraght\, 80000\, Morocco
CATEGORIES:☀️ Tamraght Life,❤️ Mindful Tamraght,🧘 Yoga
ATTACH;FMTTYPE=image/png:https://tamraghtlife.com/wp-content/uploads/2025/10/YTS-4-1.png
ORGANIZER;CN="Yoga Teaspot":MAILTO:info@yogateaspot.com
END:VEVENT
BEGIN:VEVENT
DTSTART;TZID=Africa/Casablanca:20260322T093000
DTEND;TZID=Africa/Casablanca:20260322T104500
DTSTAMP:20260422T111148
CREATED:20260227T203032Z
LAST-MODIFIED:20260319T084435Z
UID:10056825-1774171800-1774176300@tamraghtlife.com
SUMMARY:🧘‍♂️🌸 Slow Sunday flow & tea with Meg
DESCRIPTION:Slow Sunday morning…\n60 minute flow\, beginning with calm dynamic movements\, pranayama (breath control)\, mindfulness guidance & closing with more restorative holds.\nCosy\, soft & focused. Aim is to take time being present\, observing & connecting through gentle shapes \n🌿 Option to stay for a post class tea \n🌸 Single Class\n140 MAD or €14 – Book online now\nOnline price includes secure processing fee \nPrefer to pay in dirhams?\nMessage +212 766 642 934 for a local prepayment option 😊 \n✨ Class bundles available via TAMRAGHT LIFE DISCOUNTS\n✨ Private 1:1 & small group sessions available with YOGA ON REQUEST \nMuch metta! \nMeg
URL:https://tamraghtlife.com/event/class-slow-sunday-flow-with-meg-tamraght/
LOCATION:Yoga Teaspot\, Mid/upper Tamraght\, Tamraght\, 80000\, Morocco
CATEGORIES:☀️ Tamraght Life,❤️ Mindful Tamraght,🧘 Yoga
ATTACH;FMTTYPE=image/png:https://tamraghtlife.com/wp-content/uploads/2025/10/YTS-4-1.png
ORGANIZER;CN="Yoga Teaspot":MAILTO:info@yogateaspot.com
END:VEVENT
END:VCALENDAR