BEGIN:VCALENDAR
VERSION:2.0
PRODID:-//tamraghtlife.com - ECPv6.15.20//NONSGML v1.0//EN
CALSCALE:GREGORIAN
METHOD:PUBLISH
X-WR-CALNAME:tamraghtlife.com
X-ORIGINAL-URL:https://tamraghtlife.com
X-WR-CALDESC:Events for tamraghtlife.com
REFRESH-INTERVAL;VALUE=DURATION:PT1H
X-Robots-Tag:noindex
X-PUBLISHED-TTL:PT1H
BEGIN:VTIMEZONE
TZID:Africa/Casablanca
BEGIN:DAYLIGHT
TZOFFSETFROM:+0100
TZOFFSETTO:+0000
TZNAME:+00
DTSTART:20250223T020000
END:DAYLIGHT
BEGIN:STANDARD
TZOFFSETFROM:+0000
TZOFFSETTO:+0100
TZNAME:+01
DTSTART:20250406T020000
END:STANDARD
BEGIN:DAYLIGHT
TZOFFSETFROM:+0100
TZOFFSETTO:+0000
TZNAME:+00
DTSTART:20260215T020000
END:DAYLIGHT
BEGIN:STANDARD
TZOFFSETFROM:+0000
TZOFFSETTO:+0100
TZNAME:+01
DTSTART:20260322T020000
END:STANDARD
BEGIN:DAYLIGHT
TZOFFSETFROM:+0100
TZOFFSETTO:+0000
TZNAME:+00
DTSTART:20270207T020000
END:DAYLIGHT
BEGIN:STANDARD
TZOFFSETFROM:+0000
TZOFFSETTO:+0100
TZNAME:+01
DTSTART:20270314T020000
END:STANDARD
END:VTIMEZONE
BEGIN:VEVENT
DTSTART;TZID=Africa/Casablanca:20260404T160000
DTEND;TZID=Africa/Casablanca:20260404T180000
DTSTAMP:20260421T020317
CREATED:20260403T201142Z
LAST-MODIFIED:20260403T201142Z
UID:10081373-1775318400-1775325600@tamraghtlife.com
SUMMARY:🎨 💜 Amazigh painting workshop
DESCRIPTION:Looking for a creative and relaxing experience? 🎨✨\nJoin us for an Amazigh Art Painting Workshop and discover the beauty of Amazigh patterns in a simple and fun way. \nNo experience is needed\, we will guide you step by step to create your own artwork and enjoy the moment. \n📅 Date: Saturday\, April 4\n⏰ Time: 16:00 – 18:00\n📍 Location: @nomadbaytamraght\n💰 Price: 150 MAD \nAll materials are included\, just bring your good energy and creativity 💜🩷✨ \nDon’t miss this unique experience — come alone or with friends and enjoy a special artistic moment. \nDM us to reserve your spot.
URL:https://tamraghtlife.com/event/%f0%9f%8e%a8-%f0%9f%92%9c-amazigh-painting-workshop/
LOCATION:NomadBay Tamraght\, Tamraght\, Morocco
CATEGORIES:☀️ Tamraght Life,☕ Social,❤️ Mindful Tamraght,⛦ Moroccan Culture,🎨 Creative
ATTACH;FMTTYPE=image/png:https://tamraghtlife.com/wp-content/uploads/2026/04/Screenshot-2026-04-03-at-21.10.00.png
END:VEVENT
BEGIN:VEVENT
DTSTART;TZID=Africa/Casablanca:20260309T200000
DTEND;TZID=Africa/Casablanca:20260309T220000
DTSTAMP:20260421T020317
CREATED:20260304T195328Z
LAST-MODIFIED:20260309T183138Z
UID:10059552-1773086400-1773093600@tamraghtlife.com
SUMMARY:Meet Up - Killer Pool & Cards at Nomadbay - Tamraght
DESCRIPTION:Killer Pool & Cards Night at Nomadbay \nJoin us for a relaxed evening at Nomadbay for some fun around the pool table! \nWe’ll be playing Killer Pool. It’s a fun group game where everyone can join in.\nEach player starts with 3 lives & on your turn the aim is simple: pot any ball.\nMiss your shot and you lose a life.\nLose all 3 lives and you’re out… until only one player remains (the champion!) \nDepending on time we may play multiple rounds with plenty of chances to win. \nThere will also be card games available throughout the evening including\nClassic playing cards\, UNO Liar’s\, Dobble & throw the Burrito!\nSo you can jump in and play whatever you like. \nCome solo or bring friends 🙂\nIt’s all about meeting people & enjoying a social evening in Tamraght. \n📅 Monday\, 9 March⏰ 20:00 – 22:00📍 Nomadbay\, Tamraght \n🎟 50 MAD entry*Ticket includes up to 35 MAD from the drink menu \nLimited spaces available. Book ahead online to secure your spot. \nOnline booking: €5 (includes payment processing fee)RSVP – Pay at the door: 50 MAD cash \nPrepaid tickets receive priority entry
URL:https://tamraghtlife.com/event/meet-up-killer-pool-cards-at-nomadbay-tamraght/
LOCATION:NomadBay Tamraght\, Tamraght\, Morocco
CATEGORIES:☀️ Tamraght Life,☕ Social,🫂 Community
ATTACH;FMTTYPE=image/png:https://tamraghtlife.com/wp-content/uploads/2026/03/Untitled-25-e1772664542205.png
END:VEVENT
BEGIN:VEVENT
DTSTART;TZID=Africa/Casablanca:20260307T210000
DTEND;TZID=Africa/Casablanca:20260307T220000
DTSTAMP:20260421T020317
CREATED:20260305T151331Z
LAST-MODIFIED:20260305T151331Z
UID:10060078-1772917200-1772920800@tamraghtlife.com
SUMMARY:EVENT - MOVIE NIGHT AT NOMADBAY - TAMRAGHT
DESCRIPTION:🎬✨ We’re back with a special movie night ✨🎬\nNomad Movie Night presents Kingdom of the evening\n45 minute film to enjoy\n🕘 Starts at 9 PM\n📅 March 07\, 2026\n💫 Good vibes only\nFREE EVENT\n📍 @nomadbaytamraght
URL:https://tamraghtlife.com/event/event-movie-night-at-nomadbay-tamraght-2/
LOCATION:NomadBay Tamraght\, Tamraght\, Morocco
CATEGORIES:☀️ Tamraght Life,☕ Social,⛦ Moroccan Culture,🫂 Community
ATTACH;FMTTYPE=image/png:https://tamraghtlife.com/wp-content/uploads/2026/03/Screenshot-2026-03-05-at-15.08.45-e1772723536135.png
END:VEVENT
BEGIN:VEVENT
DTSTART;TZID=Africa/Casablanca:20260226T210000
DTEND;TZID=Africa/Casablanca:20260226T230000
DTSTAMP:20260421T020317
CREATED:20260225T124415Z
LAST-MODIFIED:20260225T124415Z
UID:10056769-1772139600-1772146800@tamraghtlife.com
SUMMARY:EVENT - MOVIE NIGHT AT NOMADBAY - TAMRAGHT
DESCRIPTION:🎬✨ In 10 days\, we’re back with a special movie night ✨🎬\nNomad Movie Night presents MAROCK\n🕘 Starts at 9 PM\n📅 February 26\, 2026\n🍿 Popcorn\n☕ Coffee or tea\n💫 Good vibes only\n💰 50 DH\n📍 @nomadbaytamraght
URL:https://tamraghtlife.com/event/event-movie-night-at-nomadbay-tamraght/
LOCATION:NomadBay Tamraght\, Tamraght\, Morocco
CATEGORIES:☀️ Tamraght Life,☕ Social,⛦ Moroccan Culture,🫂 Community
ATTACH;FMTTYPE=image/jpeg:https://tamraghtlife.com/wp-content/uploads/2026/02/TAMRAGHT-LIFE-.jpg
END:VEVENT
BEGIN:VEVENT
DTSTART;TZID=Africa/Casablanca:20260215T160000
DTEND;TZID=Africa/Casablanca:20260215T180000
DTSTAMP:20260421T020317
CREATED:20260213T132805Z
LAST-MODIFIED:20260213T132929Z
UID:10047889-1771171200-1771178400@tamraghtlife.com
SUMMARY:WORKSHOP - INCENSE CREATION & INTUITIVE WRITING (DONATION BASED) - TAMRAGHT
DESCRIPTION:contact organiser @nomadbaytamraght for more details & to book \nDOnation based – give what you can
URL:https://tamraghtlife.com/event/workshop-incense-creation-intuitive-writing-tamraght/
LOCATION:NomadBay Tamraght\, Tamraght\, Morocco
CATEGORIES:☀️ Tamraght Life,❤️ Mindful Tamraght,🎨 Creative,🫂 Community
ATTACH;FMTTYPE=image/png:https://tamraghtlife.com/wp-content/uploads/2026/02/Untitled-8-5.png
END:VEVENT
BEGIN:VEVENT
DTSTART;TZID=Africa/Casablanca:20260214T160000
DTEND;TZID=Africa/Casablanca:20260214T180000
DTSTAMP:20260421T020317
CREATED:20260213T132517Z
LAST-MODIFIED:20260213T133031Z
UID:10047888-1771084800-1771092000@tamraghtlife.com
SUMMARY:WORKSHOP - JEWELRY CREATION - TAMRAGHT
DESCRIPTION:contact organiser @nomadbaytamraght for more details & to book
URL:https://tamraghtlife.com/event/workshop-jewelry-creation-tamraght/
LOCATION:NomadBay Tamraght\, Tamraght\, Morocco
CATEGORIES:☀️ Tamraght Life,❤️ Mindful Tamraght,🎨 Creative
ATTACH;FMTTYPE=image/png:https://tamraghtlife.com/wp-content/uploads/2026/02/Untitled-8-5.png
END:VEVENT
END:VCALENDAR