BEGIN:VCALENDAR
VERSION:2.0
PRODID:-//tamraghtlife.com - ECPv6.15.20//NONSGML v1.0//EN
CALSCALE:GREGORIAN
METHOD:PUBLISH
X-ORIGINAL-URL:https://tamraghtlife.com
X-WR-CALDESC:Events for tamraghtlife.com
REFRESH-INTERVAL;VALUE=DURATION:PT1H
X-Robots-Tag:noindex
X-PUBLISHED-TTL:PT1H
BEGIN:VTIMEZONE
TZID:Africa/Casablanca
BEGIN:DAYLIGHT
TZOFFSETFROM:+0100
TZOFFSETTO:+0000
TZNAME:+00
DTSTART:20270207T020000
END:DAYLIGHT
BEGIN:STANDARD
TZOFFSETFROM:+0000
TZOFFSETTO:+0100
TZNAME:+01
DTSTART:20270314T020000
END:STANDARD
BEGIN:DAYLIGHT
TZOFFSETFROM:+0100
TZOFFSETTO:+0000
TZNAME:+00
DTSTART:20280123T020000
END:DAYLIGHT
BEGIN:STANDARD
TZOFFSETFROM:+0000
TZOFFSETTO:+0100
TZNAME:+01
DTSTART:20280305T020000
END:STANDARD
BEGIN:DAYLIGHT
TZOFFSETFROM:+0100
TZOFFSETTO:+0000
TZNAME:+00
DTSTART:20290114T020000
END:DAYLIGHT
BEGIN:STANDARD
TZOFFSETFROM:+0000
TZOFFSETTO:+0100
TZNAME:+01
DTSTART:20290218T020000
END:STANDARD
BEGIN:DAYLIGHT
TZOFFSETFROM:+0100
TZOFFSETTO:+0000
TZNAME:+00
DTSTART:20291230T020000
END:DAYLIGHT
END:VTIMEZONE
BEGIN:VEVENT
DTSTART;TZID=Africa/Casablanca:20280118T180000
DTEND;TZID=Africa/Casablanca:20280118T183000
DTSTAMP:20260424T165103
CREATED:20260320T161845Z
LAST-MODIFIED:20260422T102157Z
UID:10088696-1831831200-1831833000@tamraghtlife.com
SUMMARY:🧘‍♂️ 🌊 Flow to Restore with Ruth
DESCRIPTION:Book with Ruth or Ocean Tribe
URL:https://tamraghtlife.com/event/class-flow-to-restore-with-ruth/2028-01-18/
LOCATION:Ocean Tribe\, Imouran Beach\, Tamraght\, 80023\, Morocco
CATEGORIES:☀️ Tamraght Life,❤️ Mindful Tamraght,🧘 Yoga
ATTACH;FMTTYPE=image/png:https://tamraghtlife.com/wp-content/uploads/2026/01/Design-sans-titre-2.png
END:VEVENT
BEGIN:VEVENT
DTSTART;TZID=Africa/Casablanca:20280120T180000
DTEND;TZID=Africa/Casablanca:20280120T183000
DTSTAMP:20260424T165103
CREATED:20260320T161845Z
LAST-MODIFIED:20260422T102157Z
UID:10088697-1832004000-1832005800@tamraghtlife.com
SUMMARY:🧘‍♂️ 🌊 Flow to Restore with Ruth
DESCRIPTION:Book with Ruth or Ocean Tribe
URL:https://tamraghtlife.com/event/class-flow-to-restore-with-ruth/2028-01-20/
LOCATION:Ocean Tribe\, Imouran Beach\, Tamraght\, 80023\, Morocco
CATEGORIES:☀️ Tamraght Life,❤️ Mindful Tamraght,🧘 Yoga
ATTACH;FMTTYPE=image/png:https://tamraghtlife.com/wp-content/uploads/2026/01/Design-sans-titre-2.png
END:VEVENT
BEGIN:VEVENT
DTSTART;TZID=Africa/Casablanca:20280125T180000
DTEND;TZID=Africa/Casablanca:20280125T183000
DTSTAMP:20260424T165103
CREATED:20260320T161845Z
LAST-MODIFIED:20260422T102157Z
UID:10088698-1832436000-1832437800@tamraghtlife.com
SUMMARY:🧘‍♂️ 🌊 Flow to Restore with Ruth
DESCRIPTION:Book with Ruth or Ocean Tribe
URL:https://tamraghtlife.com/event/class-flow-to-restore-with-ruth/2028-01-25/
LOCATION:Ocean Tribe\, Imouran Beach\, Tamraght\, 80023\, Morocco
CATEGORIES:☀️ Tamraght Life,❤️ Mindful Tamraght,🧘 Yoga
ATTACH;FMTTYPE=image/png:https://tamraghtlife.com/wp-content/uploads/2026/01/Design-sans-titre-2.png
END:VEVENT
BEGIN:VEVENT
DTSTART;TZID=Africa/Casablanca:20280127T180000
DTEND;TZID=Africa/Casablanca:20280127T183000
DTSTAMP:20260424T165103
CREATED:20260320T161845Z
LAST-MODIFIED:20260422T102157Z
UID:10088699-1832608800-1832610600@tamraghtlife.com
SUMMARY:🧘‍♂️ 🌊 Flow to Restore with Ruth
DESCRIPTION:Book with Ruth or Ocean Tribe
URL:https://tamraghtlife.com/event/class-flow-to-restore-with-ruth/2028-01-27/
LOCATION:Ocean Tribe\, Imouran Beach\, Tamraght\, 80023\, Morocco
CATEGORIES:☀️ Tamraght Life,❤️ Mindful Tamraght,🧘 Yoga
ATTACH;FMTTYPE=image/png:https://tamraghtlife.com/wp-content/uploads/2026/01/Design-sans-titre-2.png
END:VEVENT
BEGIN:VEVENT
DTSTART;TZID=Africa/Casablanca:20280201T180000
DTEND;TZID=Africa/Casablanca:20280201T183000
DTSTAMP:20260424T165103
CREATED:20260320T161845Z
LAST-MODIFIED:20260422T102157Z
UID:10088700-1833040800-1833042600@tamraghtlife.com
SUMMARY:🧘‍♂️ 🌊 Flow to Restore with Ruth
DESCRIPTION:Book with Ruth or Ocean Tribe
URL:https://tamraghtlife.com/event/class-flow-to-restore-with-ruth/2028-02-01/
LOCATION:Ocean Tribe\, Imouran Beach\, Tamraght\, 80023\, Morocco
CATEGORIES:☀️ Tamraght Life,❤️ Mindful Tamraght,🧘 Yoga
ATTACH;FMTTYPE=image/png:https://tamraghtlife.com/wp-content/uploads/2026/01/Design-sans-titre-2.png
END:VEVENT
BEGIN:VEVENT
DTSTART;TZID=Africa/Casablanca:20280203T180000
DTEND;TZID=Africa/Casablanca:20280203T183000
DTSTAMP:20260424T165103
CREATED:20260320T161845Z
LAST-MODIFIED:20260422T102157Z
UID:10088701-1833213600-1833215400@tamraghtlife.com
SUMMARY:🧘‍♂️ 🌊 Flow to Restore with Ruth
DESCRIPTION:Book with Ruth or Ocean Tribe
URL:https://tamraghtlife.com/event/class-flow-to-restore-with-ruth/2028-02-03/
LOCATION:Ocean Tribe\, Imouran Beach\, Tamraght\, 80023\, Morocco
CATEGORIES:☀️ Tamraght Life,❤️ Mindful Tamraght,🧘 Yoga
ATTACH;FMTTYPE=image/png:https://tamraghtlife.com/wp-content/uploads/2026/01/Design-sans-titre-2.png
END:VEVENT
BEGIN:VEVENT
DTSTART;TZID=Africa/Casablanca:20280208T180000
DTEND;TZID=Africa/Casablanca:20280208T183000
DTSTAMP:20260424T165103
CREATED:20260320T161845Z
LAST-MODIFIED:20260422T102157Z
UID:10088702-1833645600-1833647400@tamraghtlife.com
SUMMARY:🧘‍♂️ 🌊 Flow to Restore with Ruth
DESCRIPTION:Book with Ruth or Ocean Tribe
URL:https://tamraghtlife.com/event/class-flow-to-restore-with-ruth/2028-02-08/
LOCATION:Ocean Tribe\, Imouran Beach\, Tamraght\, 80023\, Morocco
CATEGORIES:☀️ Tamraght Life,❤️ Mindful Tamraght,🧘 Yoga
ATTACH;FMTTYPE=image/png:https://tamraghtlife.com/wp-content/uploads/2026/01/Design-sans-titre-2.png
END:VEVENT
BEGIN:VEVENT
DTSTART;TZID=Africa/Casablanca:20280210T180000
DTEND;TZID=Africa/Casablanca:20280210T183000
DTSTAMP:20260424T165103
CREATED:20260320T161845Z
LAST-MODIFIED:20260422T102157Z
UID:10088703-1833818400-1833820200@tamraghtlife.com
SUMMARY:🧘‍♂️ 🌊 Flow to Restore with Ruth
DESCRIPTION:Book with Ruth or Ocean Tribe
URL:https://tamraghtlife.com/event/class-flow-to-restore-with-ruth/2028-02-10/
LOCATION:Ocean Tribe\, Imouran Beach\, Tamraght\, 80023\, Morocco
CATEGORIES:☀️ Tamraght Life,❤️ Mindful Tamraght,🧘 Yoga
ATTACH;FMTTYPE=image/png:https://tamraghtlife.com/wp-content/uploads/2026/01/Design-sans-titre-2.png
END:VEVENT
BEGIN:VEVENT
DTSTART;TZID=Africa/Casablanca:20280215T180000
DTEND;TZID=Africa/Casablanca:20280215T183000
DTSTAMP:20260424T165103
CREATED:20260320T161845Z
LAST-MODIFIED:20260422T102157Z
UID:10088704-1834250400-1834252200@tamraghtlife.com
SUMMARY:🧘‍♂️ 🌊 Flow to Restore with Ruth
DESCRIPTION:Book with Ruth or Ocean Tribe
URL:https://tamraghtlife.com/event/class-flow-to-restore-with-ruth/2028-02-15/
LOCATION:Ocean Tribe\, Imouran Beach\, Tamraght\, 80023\, Morocco
CATEGORIES:☀️ Tamraght Life,❤️ Mindful Tamraght,🧘 Yoga
ATTACH;FMTTYPE=image/png:https://tamraghtlife.com/wp-content/uploads/2026/01/Design-sans-titre-2.png
END:VEVENT
BEGIN:VEVENT
DTSTART;TZID=Africa/Casablanca:20280217T180000
DTEND;TZID=Africa/Casablanca:20280217T183000
DTSTAMP:20260424T165103
CREATED:20260320T161845Z
LAST-MODIFIED:20260422T102157Z
UID:10088705-1834423200-1834425000@tamraghtlife.com
SUMMARY:🧘‍♂️ 🌊 Flow to Restore with Ruth
DESCRIPTION:Book with Ruth or Ocean Tribe
URL:https://tamraghtlife.com/event/class-flow-to-restore-with-ruth/2028-02-17/
LOCATION:Ocean Tribe\, Imouran Beach\, Tamraght\, 80023\, Morocco
CATEGORIES:☀️ Tamraght Life,❤️ Mindful Tamraght,🧘 Yoga
ATTACH;FMTTYPE=image/png:https://tamraghtlife.com/wp-content/uploads/2026/01/Design-sans-titre-2.png
END:VEVENT
BEGIN:VEVENT
DTSTART;TZID=Africa/Casablanca:20280222T180000
DTEND;TZID=Africa/Casablanca:20280222T183000
DTSTAMP:20260424T165103
CREATED:20260320T161845Z
LAST-MODIFIED:20260422T102157Z
UID:10088706-1834855200-1834857000@tamraghtlife.com
SUMMARY:🧘‍♂️ 🌊 Flow to Restore with Ruth
DESCRIPTION:Book with Ruth or Ocean Tribe
URL:https://tamraghtlife.com/event/class-flow-to-restore-with-ruth/2028-02-22/
LOCATION:Ocean Tribe\, Imouran Beach\, Tamraght\, 80023\, Morocco
CATEGORIES:☀️ Tamraght Life,❤️ Mindful Tamraght,🧘 Yoga
ATTACH;FMTTYPE=image/png:https://tamraghtlife.com/wp-content/uploads/2026/01/Design-sans-titre-2.png
END:VEVENT
BEGIN:VEVENT
DTSTART;TZID=Africa/Casablanca:20280224T180000
DTEND;TZID=Africa/Casablanca:20280224T183000
DTSTAMP:20260424T165103
CREATED:20260320T161845Z
LAST-MODIFIED:20260422T102157Z
UID:10088707-1835028000-1835029800@tamraghtlife.com
SUMMARY:🧘‍♂️ 🌊 Flow to Restore with Ruth
DESCRIPTION:Book with Ruth or Ocean Tribe
URL:https://tamraghtlife.com/event/class-flow-to-restore-with-ruth/2028-02-24/
LOCATION:Ocean Tribe\, Imouran Beach\, Tamraght\, 80023\, Morocco
CATEGORIES:☀️ Tamraght Life,❤️ Mindful Tamraght,🧘 Yoga
ATTACH;FMTTYPE=image/png:https://tamraghtlife.com/wp-content/uploads/2026/01/Design-sans-titre-2.png
END:VEVENT
BEGIN:VEVENT
DTSTART;TZID=Africa/Casablanca:20280229T180000
DTEND;TZID=Africa/Casablanca:20280229T183000
DTSTAMP:20260424T165103
CREATED:20260320T161845Z
LAST-MODIFIED:20260422T102157Z
UID:10088708-1835460000-1835461800@tamraghtlife.com
SUMMARY:🧘‍♂️ 🌊 Flow to Restore with Ruth
DESCRIPTION:Book with Ruth or Ocean Tribe
URL:https://tamraghtlife.com/event/class-flow-to-restore-with-ruth/2028-02-29/
LOCATION:Ocean Tribe\, Imouran Beach\, Tamraght\, 80023\, Morocco
CATEGORIES:☀️ Tamraght Life,❤️ Mindful Tamraght,🧘 Yoga
ATTACH;FMTTYPE=image/png:https://tamraghtlife.com/wp-content/uploads/2026/01/Design-sans-titre-2.png
END:VEVENT
BEGIN:VEVENT
DTSTART;TZID=Africa/Casablanca:20280302T180000
DTEND;TZID=Africa/Casablanca:20280302T183000
DTSTAMP:20260424T165103
CREATED:20260320T161845Z
LAST-MODIFIED:20260422T102157Z
UID:10088709-1835632800-1835634600@tamraghtlife.com
SUMMARY:🧘‍♂️ 🌊 Flow to Restore with Ruth
DESCRIPTION:Book with Ruth or Ocean Tribe
URL:https://tamraghtlife.com/event/class-flow-to-restore-with-ruth/2028-03-02/
LOCATION:Ocean Tribe\, Imouran Beach\, Tamraght\, 80023\, Morocco
CATEGORIES:☀️ Tamraght Life,❤️ Mindful Tamraght,🧘 Yoga
ATTACH;FMTTYPE=image/png:https://tamraghtlife.com/wp-content/uploads/2026/01/Design-sans-titre-2.png
END:VEVENT
BEGIN:VEVENT
DTSTART;TZID=Africa/Casablanca:20280307T180000
DTEND;TZID=Africa/Casablanca:20280307T183000
DTSTAMP:20260424T165103
CREATED:20260320T161845Z
LAST-MODIFIED:20260422T102157Z
UID:10088710-1836064800-1836066600@tamraghtlife.com
SUMMARY:🧘‍♂️ 🌊 Flow to Restore with Ruth
DESCRIPTION:Book with Ruth or Ocean Tribe
URL:https://tamraghtlife.com/event/class-flow-to-restore-with-ruth/2028-03-07/
LOCATION:Ocean Tribe\, Imouran Beach\, Tamraght\, 80023\, Morocco
CATEGORIES:☀️ Tamraght Life,❤️ Mindful Tamraght,🧘 Yoga
ATTACH;FMTTYPE=image/png:https://tamraghtlife.com/wp-content/uploads/2026/01/Design-sans-titre-2.png
END:VEVENT
BEGIN:VEVENT
DTSTART;TZID=Africa/Casablanca:20280309T180000
DTEND;TZID=Africa/Casablanca:20280309T183000
DTSTAMP:20260424T165103
CREATED:20260320T161845Z
LAST-MODIFIED:20260422T102157Z
UID:10088711-1836237600-1836239400@tamraghtlife.com
SUMMARY:🧘‍♂️ 🌊 Flow to Restore with Ruth
DESCRIPTION:Book with Ruth or Ocean Tribe
URL:https://tamraghtlife.com/event/class-flow-to-restore-with-ruth/2028-03-09/
LOCATION:Ocean Tribe\, Imouran Beach\, Tamraght\, 80023\, Morocco
CATEGORIES:☀️ Tamraght Life,❤️ Mindful Tamraght,🧘 Yoga
ATTACH;FMTTYPE=image/png:https://tamraghtlife.com/wp-content/uploads/2026/01/Design-sans-titre-2.png
END:VEVENT
BEGIN:VEVENT
DTSTART;TZID=Africa/Casablanca:20280314T180000
DTEND;TZID=Africa/Casablanca:20280314T183000
DTSTAMP:20260424T165103
CREATED:20260320T161845Z
LAST-MODIFIED:20260422T102157Z
UID:10088712-1836669600-1836671400@tamraghtlife.com
SUMMARY:🧘‍♂️ 🌊 Flow to Restore with Ruth
DESCRIPTION:Book with Ruth or Ocean Tribe
URL:https://tamraghtlife.com/event/class-flow-to-restore-with-ruth/2028-03-14/
LOCATION:Ocean Tribe\, Imouran Beach\, Tamraght\, 80023\, Morocco
CATEGORIES:☀️ Tamraght Life,❤️ Mindful Tamraght,🧘 Yoga
ATTACH;FMTTYPE=image/png:https://tamraghtlife.com/wp-content/uploads/2026/01/Design-sans-titre-2.png
END:VEVENT
BEGIN:VEVENT
DTSTART;TZID=Africa/Casablanca:20280316T180000
DTEND;TZID=Africa/Casablanca:20280316T183000
DTSTAMP:20260424T165103
CREATED:20260320T161845Z
LAST-MODIFIED:20260422T102157Z
UID:10088713-1836842400-1836844200@tamraghtlife.com
SUMMARY:🧘‍♂️ 🌊 Flow to Restore with Ruth
DESCRIPTION:Book with Ruth or Ocean Tribe
URL:https://tamraghtlife.com/event/class-flow-to-restore-with-ruth/2028-03-16/
LOCATION:Ocean Tribe\, Imouran Beach\, Tamraght\, 80023\, Morocco
CATEGORIES:☀️ Tamraght Life,❤️ Mindful Tamraght,🧘 Yoga
ATTACH;FMTTYPE=image/png:https://tamraghtlife.com/wp-content/uploads/2026/01/Design-sans-titre-2.png
END:VEVENT
BEGIN:VEVENT
DTSTART;TZID=Africa/Casablanca:20280321T180000
DTEND;TZID=Africa/Casablanca:20280321T183000
DTSTAMP:20260424T165103
CREATED:20260320T161845Z
LAST-MODIFIED:20260422T102157Z
UID:10088714-1837274400-1837276200@tamraghtlife.com
SUMMARY:🧘‍♂️ 🌊 Flow to Restore with Ruth
DESCRIPTION:Book with Ruth or Ocean Tribe
URL:https://tamraghtlife.com/event/class-flow-to-restore-with-ruth/2028-03-21/
LOCATION:Ocean Tribe\, Imouran Beach\, Tamraght\, 80023\, Morocco
CATEGORIES:☀️ Tamraght Life,❤️ Mindful Tamraght,🧘 Yoga
ATTACH;FMTTYPE=image/png:https://tamraghtlife.com/wp-content/uploads/2026/01/Design-sans-titre-2.png
END:VEVENT
BEGIN:VEVENT
DTSTART;TZID=Africa/Casablanca:20280323T180000
DTEND;TZID=Africa/Casablanca:20280323T183000
DTSTAMP:20260424T165103
CREATED:20260320T161845Z
LAST-MODIFIED:20260422T102157Z
UID:10088715-1837447200-1837449000@tamraghtlife.com
SUMMARY:🧘‍♂️ 🌊 Flow to Restore with Ruth
DESCRIPTION:Book with Ruth or Ocean Tribe
URL:https://tamraghtlife.com/event/class-flow-to-restore-with-ruth/2028-03-23/
LOCATION:Ocean Tribe\, Imouran Beach\, Tamraght\, 80023\, Morocco
CATEGORIES:☀️ Tamraght Life,❤️ Mindful Tamraght,🧘 Yoga
ATTACH;FMTTYPE=image/png:https://tamraghtlife.com/wp-content/uploads/2026/01/Design-sans-titre-2.png
END:VEVENT
BEGIN:VEVENT
DTSTART;TZID=Africa/Casablanca:20280328T180000
DTEND;TZID=Africa/Casablanca:20280328T183000
DTSTAMP:20260424T165103
CREATED:20260320T161845Z
LAST-MODIFIED:20260422T102157Z
UID:10088716-1837879200-1837881000@tamraghtlife.com
SUMMARY:🧘‍♂️ 🌊 Flow to Restore with Ruth
DESCRIPTION:Book with Ruth or Ocean Tribe
URL:https://tamraghtlife.com/event/class-flow-to-restore-with-ruth/2028-03-28/
LOCATION:Ocean Tribe\, Imouran Beach\, Tamraght\, 80023\, Morocco
CATEGORIES:☀️ Tamraght Life,❤️ Mindful Tamraght,🧘 Yoga
ATTACH;FMTTYPE=image/png:https://tamraghtlife.com/wp-content/uploads/2026/01/Design-sans-titre-2.png
END:VEVENT
BEGIN:VEVENT
DTSTART;TZID=Africa/Casablanca:20280330T180000
DTEND;TZID=Africa/Casablanca:20280330T183000
DTSTAMP:20260424T165103
CREATED:20260320T161845Z
LAST-MODIFIED:20260422T102157Z
UID:10088717-1838052000-1838053800@tamraghtlife.com
SUMMARY:🧘‍♂️ 🌊 Flow to Restore with Ruth
DESCRIPTION:Book with Ruth or Ocean Tribe
URL:https://tamraghtlife.com/event/class-flow-to-restore-with-ruth/2028-03-30/
LOCATION:Ocean Tribe\, Imouran Beach\, Tamraght\, 80023\, Morocco
CATEGORIES:☀️ Tamraght Life,❤️ Mindful Tamraght,🧘 Yoga
ATTACH;FMTTYPE=image/png:https://tamraghtlife.com/wp-content/uploads/2026/01/Design-sans-titre-2.png
END:VEVENT
BEGIN:VEVENT
DTSTART;TZID=Africa/Casablanca:20280404T180000
DTEND;TZID=Africa/Casablanca:20280404T183000
DTSTAMP:20260424T165103
CREATED:20260320T161845Z
LAST-MODIFIED:20260422T102157Z
UID:10088718-1838484000-1838485800@tamraghtlife.com
SUMMARY:🧘‍♂️ 🌊 Flow to Restore with Ruth
DESCRIPTION:Book with Ruth or Ocean Tribe
URL:https://tamraghtlife.com/event/class-flow-to-restore-with-ruth/2028-04-04/
LOCATION:Ocean Tribe\, Imouran Beach\, Tamraght\, 80023\, Morocco
CATEGORIES:☀️ Tamraght Life,❤️ Mindful Tamraght,🧘 Yoga
ATTACH;FMTTYPE=image/png:https://tamraghtlife.com/wp-content/uploads/2026/01/Design-sans-titre-2.png
END:VEVENT
BEGIN:VEVENT
DTSTART;TZID=Africa/Casablanca:20280406T180000
DTEND;TZID=Africa/Casablanca:20280406T183000
DTSTAMP:20260424T165103
CREATED:20260320T161845Z
LAST-MODIFIED:20260422T102157Z
UID:10088719-1838656800-1838658600@tamraghtlife.com
SUMMARY:🧘‍♂️ 🌊 Flow to Restore with Ruth
DESCRIPTION:Book with Ruth or Ocean Tribe
URL:https://tamraghtlife.com/event/class-flow-to-restore-with-ruth/2028-04-06/
LOCATION:Ocean Tribe\, Imouran Beach\, Tamraght\, 80023\, Morocco
CATEGORIES:☀️ Tamraght Life,❤️ Mindful Tamraght,🧘 Yoga
ATTACH;FMTTYPE=image/png:https://tamraghtlife.com/wp-content/uploads/2026/01/Design-sans-titre-2.png
END:VEVENT
BEGIN:VEVENT
DTSTART;TZID=Africa/Casablanca:20280411T180000
DTEND;TZID=Africa/Casablanca:20280411T183000
DTSTAMP:20260424T165103
CREATED:20260320T161845Z
LAST-MODIFIED:20260422T102157Z
UID:10088720-1839088800-1839090600@tamraghtlife.com
SUMMARY:🧘‍♂️ 🌊 Flow to Restore with Ruth
DESCRIPTION:Book with Ruth or Ocean Tribe
URL:https://tamraghtlife.com/event/class-flow-to-restore-with-ruth/2028-04-11/
LOCATION:Ocean Tribe\, Imouran Beach\, Tamraght\, 80023\, Morocco
CATEGORIES:☀️ Tamraght Life,❤️ Mindful Tamraght,🧘 Yoga
ATTACH;FMTTYPE=image/png:https://tamraghtlife.com/wp-content/uploads/2026/01/Design-sans-titre-2.png
END:VEVENT
BEGIN:VEVENT
DTSTART;TZID=Africa/Casablanca:20280413T180000
DTEND;TZID=Africa/Casablanca:20280413T183000
DTSTAMP:20260424T165103
CREATED:20260320T161845Z
LAST-MODIFIED:20260422T102157Z
UID:10088721-1839261600-1839263400@tamraghtlife.com
SUMMARY:🧘‍♂️ 🌊 Flow to Restore with Ruth
DESCRIPTION:Book with Ruth or Ocean Tribe
URL:https://tamraghtlife.com/event/class-flow-to-restore-with-ruth/2028-04-13/
LOCATION:Ocean Tribe\, Imouran Beach\, Tamraght\, 80023\, Morocco
CATEGORIES:☀️ Tamraght Life,❤️ Mindful Tamraght,🧘 Yoga
ATTACH;FMTTYPE=image/png:https://tamraghtlife.com/wp-content/uploads/2026/01/Design-sans-titre-2.png
END:VEVENT
BEGIN:VEVENT
DTSTART;TZID=Africa/Casablanca:20280418T180000
DTEND;TZID=Africa/Casablanca:20280418T183000
DTSTAMP:20260424T165103
CREATED:20260320T161845Z
LAST-MODIFIED:20260422T102157Z
UID:10088722-1839693600-1839695400@tamraghtlife.com
SUMMARY:🧘‍♂️ 🌊 Flow to Restore with Ruth
DESCRIPTION:Book with Ruth or Ocean Tribe
URL:https://tamraghtlife.com/event/class-flow-to-restore-with-ruth/2028-04-18/
LOCATION:Ocean Tribe\, Imouran Beach\, Tamraght\, 80023\, Morocco
CATEGORIES:☀️ Tamraght Life,❤️ Mindful Tamraght,🧘 Yoga
ATTACH;FMTTYPE=image/png:https://tamraghtlife.com/wp-content/uploads/2026/01/Design-sans-titre-2.png
END:VEVENT
BEGIN:VEVENT
DTSTART;TZID=Africa/Casablanca:20280420T180000
DTEND;TZID=Africa/Casablanca:20280420T183000
DTSTAMP:20260424T165103
CREATED:20260320T161845Z
LAST-MODIFIED:20260422T102157Z
UID:10088723-1839866400-1839868200@tamraghtlife.com
SUMMARY:🧘‍♂️ 🌊 Flow to Restore with Ruth
DESCRIPTION:Book with Ruth or Ocean Tribe
URL:https://tamraghtlife.com/event/class-flow-to-restore-with-ruth/2028-04-20/
LOCATION:Ocean Tribe\, Imouran Beach\, Tamraght\, 80023\, Morocco
CATEGORIES:☀️ Tamraght Life,❤️ Mindful Tamraght,🧘 Yoga
ATTACH;FMTTYPE=image/png:https://tamraghtlife.com/wp-content/uploads/2026/01/Design-sans-titre-2.png
END:VEVENT
BEGIN:VEVENT
DTSTART;TZID=Africa/Casablanca:20280425T180000
DTEND;TZID=Africa/Casablanca:20280425T183000
DTSTAMP:20260424T165103
CREATED:20260320T161845Z
LAST-MODIFIED:20260422T102157Z
UID:10088724-1840298400-1840300200@tamraghtlife.com
SUMMARY:🧘‍♂️ 🌊 Flow to Restore with Ruth
DESCRIPTION:Book with Ruth or Ocean Tribe
URL:https://tamraghtlife.com/event/class-flow-to-restore-with-ruth/2028-04-25/
LOCATION:Ocean Tribe\, Imouran Beach\, Tamraght\, 80023\, Morocco
CATEGORIES:☀️ Tamraght Life,❤️ Mindful Tamraght,🧘 Yoga
ATTACH;FMTTYPE=image/png:https://tamraghtlife.com/wp-content/uploads/2026/01/Design-sans-titre-2.png
END:VEVENT
BEGIN:VEVENT
DTSTART;TZID=Africa/Casablanca:20280427T180000
DTEND;TZID=Africa/Casablanca:20280427T183000
DTSTAMP:20260424T165103
CREATED:20260320T161845Z
LAST-MODIFIED:20260422T102157Z
UID:10088725-1840471200-1840473000@tamraghtlife.com
SUMMARY:🧘‍♂️ 🌊 Flow to Restore with Ruth
DESCRIPTION:Book with Ruth or Ocean Tribe
URL:https://tamraghtlife.com/event/class-flow-to-restore-with-ruth/2028-04-27/
LOCATION:Ocean Tribe\, Imouran Beach\, Tamraght\, 80023\, Morocco
CATEGORIES:☀️ Tamraght Life,❤️ Mindful Tamraght,🧘 Yoga
ATTACH;FMTTYPE=image/png:https://tamraghtlife.com/wp-content/uploads/2026/01/Design-sans-titre-2.png
END:VEVENT
END:VCALENDAR