BEGIN:VCALENDAR
VERSION:2.0
PRODID:-//tamraghtlife.com - ECPv6.15.20//NONSGML v1.0//EN
CALSCALE:GREGORIAN
METHOD:PUBLISH
X-ORIGINAL-URL:https://tamraghtlife.com
X-WR-CALDESC:Events for tamraghtlife.com
REFRESH-INTERVAL;VALUE=DURATION:PT1H
X-Robots-Tag:noindex
X-PUBLISHED-TTL:PT1H
BEGIN:VTIMEZONE
TZID:Africa/Casablanca
BEGIN:DAYLIGHT
TZOFFSETFROM:+0100
TZOFFSETTO:+0000
TZNAME:+00
DTSTART:20270207T020000
END:DAYLIGHT
BEGIN:STANDARD
TZOFFSETFROM:+0000
TZOFFSETTO:+0100
TZNAME:+01
DTSTART:20270314T020000
END:STANDARD
BEGIN:DAYLIGHT
TZOFFSETFROM:+0100
TZOFFSETTO:+0000
TZNAME:+00
DTSTART:20280123T020000
END:DAYLIGHT
BEGIN:STANDARD
TZOFFSETFROM:+0000
TZOFFSETTO:+0100
TZNAME:+01
DTSTART:20280305T020000
END:STANDARD
BEGIN:DAYLIGHT
TZOFFSETFROM:+0100
TZOFFSETTO:+0000
TZNAME:+00
DTSTART:20290114T020000
END:DAYLIGHT
BEGIN:STANDARD
TZOFFSETFROM:+0000
TZOFFSETTO:+0100
TZNAME:+01
DTSTART:20290218T020000
END:STANDARD
BEGIN:DAYLIGHT
TZOFFSETFROM:+0100
TZOFFSETTO:+0000
TZNAME:+00
DTSTART:20291230T020000
END:DAYLIGHT
END:VTIMEZONE
BEGIN:VEVENT
DTSTART;TZID=Africa/Casablanca:20280502T180000
DTEND;TZID=Africa/Casablanca:20280502T183000
DTSTAMP:20260424T181812
CREATED:20260320T161845Z
LAST-MODIFIED:20260422T102157Z
UID:10088726-1840903200-1840905000@tamraghtlife.com
SUMMARY:🧘‍♂️ 🌊 Flow to Restore with Ruth
DESCRIPTION:Book with Ruth or Ocean Tribe
URL:https://tamraghtlife.com/event/class-flow-to-restore-with-ruth/2028-05-02/
LOCATION:Ocean Tribe\, Imouran Beach\, Tamraght\, 80023\, Morocco
CATEGORIES:☀️ Tamraght Life,❤️ Mindful Tamraght,🧘 Yoga
ATTACH;FMTTYPE=image/png:https://tamraghtlife.com/wp-content/uploads/2026/01/Design-sans-titre-2.png
END:VEVENT
BEGIN:VEVENT
DTSTART;TZID=Africa/Casablanca:20280504T180000
DTEND;TZID=Africa/Casablanca:20280504T183000
DTSTAMP:20260424T181812
CREATED:20260320T161845Z
LAST-MODIFIED:20260422T102157Z
UID:10088727-1841076000-1841077800@tamraghtlife.com
SUMMARY:🧘‍♂️ 🌊 Flow to Restore with Ruth
DESCRIPTION:Book with Ruth or Ocean Tribe
URL:https://tamraghtlife.com/event/class-flow-to-restore-with-ruth/2028-05-04/
LOCATION:Ocean Tribe\, Imouran Beach\, Tamraght\, 80023\, Morocco
CATEGORIES:☀️ Tamraght Life,❤️ Mindful Tamraght,🧘 Yoga
ATTACH;FMTTYPE=image/png:https://tamraghtlife.com/wp-content/uploads/2026/01/Design-sans-titre-2.png
END:VEVENT
BEGIN:VEVENT
DTSTART;TZID=Africa/Casablanca:20280509T180000
DTEND;TZID=Africa/Casablanca:20280509T183000
DTSTAMP:20260424T181812
CREATED:20260320T161845Z
LAST-MODIFIED:20260422T102157Z
UID:10088728-1841508000-1841509800@tamraghtlife.com
SUMMARY:🧘‍♂️ 🌊 Flow to Restore with Ruth
DESCRIPTION:Book with Ruth or Ocean Tribe
URL:https://tamraghtlife.com/event/class-flow-to-restore-with-ruth/2028-05-09/
LOCATION:Ocean Tribe\, Imouran Beach\, Tamraght\, 80023\, Morocco
CATEGORIES:☀️ Tamraght Life,❤️ Mindful Tamraght,🧘 Yoga
ATTACH;FMTTYPE=image/png:https://tamraghtlife.com/wp-content/uploads/2026/01/Design-sans-titre-2.png
END:VEVENT
BEGIN:VEVENT
DTSTART;TZID=Africa/Casablanca:20280511T180000
DTEND;TZID=Africa/Casablanca:20280511T183000
DTSTAMP:20260424T181812
CREATED:20260320T161845Z
LAST-MODIFIED:20260422T102157Z
UID:10088729-1841680800-1841682600@tamraghtlife.com
SUMMARY:🧘‍♂️ 🌊 Flow to Restore with Ruth
DESCRIPTION:Book with Ruth or Ocean Tribe
URL:https://tamraghtlife.com/event/class-flow-to-restore-with-ruth/2028-05-11/
LOCATION:Ocean Tribe\, Imouran Beach\, Tamraght\, 80023\, Morocco
CATEGORIES:☀️ Tamraght Life,❤️ Mindful Tamraght,🧘 Yoga
ATTACH;FMTTYPE=image/png:https://tamraghtlife.com/wp-content/uploads/2026/01/Design-sans-titre-2.png
END:VEVENT
BEGIN:VEVENT
DTSTART;TZID=Africa/Casablanca:20280516T180000
DTEND;TZID=Africa/Casablanca:20280516T183000
DTSTAMP:20260424T181812
CREATED:20260320T161845Z
LAST-MODIFIED:20260422T102157Z
UID:10088730-1842112800-1842114600@tamraghtlife.com
SUMMARY:🧘‍♂️ 🌊 Flow to Restore with Ruth
DESCRIPTION:Book with Ruth or Ocean Tribe
URL:https://tamraghtlife.com/event/class-flow-to-restore-with-ruth/2028-05-16/
LOCATION:Ocean Tribe\, Imouran Beach\, Tamraght\, 80023\, Morocco
CATEGORIES:☀️ Tamraght Life,❤️ Mindful Tamraght,🧘 Yoga
ATTACH;FMTTYPE=image/png:https://tamraghtlife.com/wp-content/uploads/2026/01/Design-sans-titre-2.png
END:VEVENT
BEGIN:VEVENT
DTSTART;TZID=Africa/Casablanca:20280518T180000
DTEND;TZID=Africa/Casablanca:20280518T183000
DTSTAMP:20260424T181812
CREATED:20260320T161845Z
LAST-MODIFIED:20260422T102157Z
UID:10088731-1842285600-1842287400@tamraghtlife.com
SUMMARY:🧘‍♂️ 🌊 Flow to Restore with Ruth
DESCRIPTION:Book with Ruth or Ocean Tribe
URL:https://tamraghtlife.com/event/class-flow-to-restore-with-ruth/2028-05-18/
LOCATION:Ocean Tribe\, Imouran Beach\, Tamraght\, 80023\, Morocco
CATEGORIES:☀️ Tamraght Life,❤️ Mindful Tamraght,🧘 Yoga
ATTACH;FMTTYPE=image/png:https://tamraghtlife.com/wp-content/uploads/2026/01/Design-sans-titre-2.png
END:VEVENT
BEGIN:VEVENT
DTSTART;TZID=Africa/Casablanca:20280523T180000
DTEND;TZID=Africa/Casablanca:20280523T183000
DTSTAMP:20260424T181812
CREATED:20260320T161845Z
LAST-MODIFIED:20260422T102157Z
UID:10088732-1842717600-1842719400@tamraghtlife.com
SUMMARY:🧘‍♂️ 🌊 Flow to Restore with Ruth
DESCRIPTION:Book with Ruth or Ocean Tribe
URL:https://tamraghtlife.com/event/class-flow-to-restore-with-ruth/2028-05-23/
LOCATION:Ocean Tribe\, Imouran Beach\, Tamraght\, 80023\, Morocco
CATEGORIES:☀️ Tamraght Life,❤️ Mindful Tamraght,🧘 Yoga
ATTACH;FMTTYPE=image/png:https://tamraghtlife.com/wp-content/uploads/2026/01/Design-sans-titre-2.png
END:VEVENT
BEGIN:VEVENT
DTSTART;TZID=Africa/Casablanca:20280525T180000
DTEND;TZID=Africa/Casablanca:20280525T183000
DTSTAMP:20260424T181812
CREATED:20260320T161845Z
LAST-MODIFIED:20260422T102157Z
UID:10088733-1842890400-1842892200@tamraghtlife.com
SUMMARY:🧘‍♂️ 🌊 Flow to Restore with Ruth
DESCRIPTION:Book with Ruth or Ocean Tribe
URL:https://tamraghtlife.com/event/class-flow-to-restore-with-ruth/2028-05-25/
LOCATION:Ocean Tribe\, Imouran Beach\, Tamraght\, 80023\, Morocco
CATEGORIES:☀️ Tamraght Life,❤️ Mindful Tamraght,🧘 Yoga
ATTACH;FMTTYPE=image/png:https://tamraghtlife.com/wp-content/uploads/2026/01/Design-sans-titre-2.png
END:VEVENT
BEGIN:VEVENT
DTSTART;TZID=Africa/Casablanca:20280530T180000
DTEND;TZID=Africa/Casablanca:20280530T183000
DTSTAMP:20260424T181812
CREATED:20260320T161845Z
LAST-MODIFIED:20260422T102157Z
UID:10088734-1843322400-1843324200@tamraghtlife.com
SUMMARY:🧘‍♂️ 🌊 Flow to Restore with Ruth
DESCRIPTION:Book with Ruth or Ocean Tribe
URL:https://tamraghtlife.com/event/class-flow-to-restore-with-ruth/2028-05-30/
LOCATION:Ocean Tribe\, Imouran Beach\, Tamraght\, 80023\, Morocco
CATEGORIES:☀️ Tamraght Life,❤️ Mindful Tamraght,🧘 Yoga
ATTACH;FMTTYPE=image/png:https://tamraghtlife.com/wp-content/uploads/2026/01/Design-sans-titre-2.png
END:VEVENT
BEGIN:VEVENT
DTSTART;TZID=Africa/Casablanca:20280601T180000
DTEND;TZID=Africa/Casablanca:20280601T183000
DTSTAMP:20260424T181812
CREATED:20260320T161845Z
LAST-MODIFIED:20260422T102157Z
UID:10088735-1843495200-1843497000@tamraghtlife.com
SUMMARY:🧘‍♂️ 🌊 Flow to Restore with Ruth
DESCRIPTION:Book with Ruth or Ocean Tribe
URL:https://tamraghtlife.com/event/class-flow-to-restore-with-ruth/2028-06-01/
LOCATION:Ocean Tribe\, Imouran Beach\, Tamraght\, 80023\, Morocco
CATEGORIES:☀️ Tamraght Life,❤️ Mindful Tamraght,🧘 Yoga
ATTACH;FMTTYPE=image/png:https://tamraghtlife.com/wp-content/uploads/2026/01/Design-sans-titre-2.png
END:VEVENT
BEGIN:VEVENT
DTSTART;TZID=Africa/Casablanca:20280606T180000
DTEND;TZID=Africa/Casablanca:20280606T183000
DTSTAMP:20260424T181812
CREATED:20260320T161845Z
LAST-MODIFIED:20260422T102157Z
UID:10088736-1843927200-1843929000@tamraghtlife.com
SUMMARY:🧘‍♂️ 🌊 Flow to Restore with Ruth
DESCRIPTION:Book with Ruth or Ocean Tribe
URL:https://tamraghtlife.com/event/class-flow-to-restore-with-ruth/2028-06-06/
LOCATION:Ocean Tribe\, Imouran Beach\, Tamraght\, 80023\, Morocco
CATEGORIES:☀️ Tamraght Life,❤️ Mindful Tamraght,🧘 Yoga
ATTACH;FMTTYPE=image/png:https://tamraghtlife.com/wp-content/uploads/2026/01/Design-sans-titre-2.png
END:VEVENT
BEGIN:VEVENT
DTSTART;TZID=Africa/Casablanca:20280608T180000
DTEND;TZID=Africa/Casablanca:20280608T183000
DTSTAMP:20260424T181812
CREATED:20260320T161845Z
LAST-MODIFIED:20260422T102157Z
UID:10088737-1844100000-1844101800@tamraghtlife.com
SUMMARY:🧘‍♂️ 🌊 Flow to Restore with Ruth
DESCRIPTION:Book with Ruth or Ocean Tribe
URL:https://tamraghtlife.com/event/class-flow-to-restore-with-ruth/2028-06-08/
LOCATION:Ocean Tribe\, Imouran Beach\, Tamraght\, 80023\, Morocco
CATEGORIES:☀️ Tamraght Life,❤️ Mindful Tamraght,🧘 Yoga
ATTACH;FMTTYPE=image/png:https://tamraghtlife.com/wp-content/uploads/2026/01/Design-sans-titre-2.png
END:VEVENT
BEGIN:VEVENT
DTSTART;TZID=Africa/Casablanca:20280613T180000
DTEND;TZID=Africa/Casablanca:20280613T183000
DTSTAMP:20260424T181812
CREATED:20260320T161845Z
LAST-MODIFIED:20260422T102157Z
UID:10088738-1844532000-1844533800@tamraghtlife.com
SUMMARY:🧘‍♂️ 🌊 Flow to Restore with Ruth
DESCRIPTION:Book with Ruth or Ocean Tribe
URL:https://tamraghtlife.com/event/class-flow-to-restore-with-ruth/2028-06-13/
LOCATION:Ocean Tribe\, Imouran Beach\, Tamraght\, 80023\, Morocco
CATEGORIES:☀️ Tamraght Life,❤️ Mindful Tamraght,🧘 Yoga
ATTACH;FMTTYPE=image/png:https://tamraghtlife.com/wp-content/uploads/2026/01/Design-sans-titre-2.png
END:VEVENT
BEGIN:VEVENT
DTSTART;TZID=Africa/Casablanca:20280615T180000
DTEND;TZID=Africa/Casablanca:20280615T183000
DTSTAMP:20260424T181812
CREATED:20260320T161845Z
LAST-MODIFIED:20260422T102157Z
UID:10088739-1844704800-1844706600@tamraghtlife.com
SUMMARY:🧘‍♂️ 🌊 Flow to Restore with Ruth
DESCRIPTION:Book with Ruth or Ocean Tribe
URL:https://tamraghtlife.com/event/class-flow-to-restore-with-ruth/2028-06-15/
LOCATION:Ocean Tribe\, Imouran Beach\, Tamraght\, 80023\, Morocco
CATEGORIES:☀️ Tamraght Life,❤️ Mindful Tamraght,🧘 Yoga
ATTACH;FMTTYPE=image/png:https://tamraghtlife.com/wp-content/uploads/2026/01/Design-sans-titre-2.png
END:VEVENT
BEGIN:VEVENT
DTSTART;TZID=Africa/Casablanca:20280620T180000
DTEND;TZID=Africa/Casablanca:20280620T183000
DTSTAMP:20260424T181812
CREATED:20260320T161845Z
LAST-MODIFIED:20260422T102157Z
UID:10088740-1845136800-1845138600@tamraghtlife.com
SUMMARY:🧘‍♂️ 🌊 Flow to Restore with Ruth
DESCRIPTION:Book with Ruth or Ocean Tribe
URL:https://tamraghtlife.com/event/class-flow-to-restore-with-ruth/2028-06-20/
LOCATION:Ocean Tribe\, Imouran Beach\, Tamraght\, 80023\, Morocco
CATEGORIES:☀️ Tamraght Life,❤️ Mindful Tamraght,🧘 Yoga
ATTACH;FMTTYPE=image/png:https://tamraghtlife.com/wp-content/uploads/2026/01/Design-sans-titre-2.png
END:VEVENT
BEGIN:VEVENT
DTSTART;TZID=Africa/Casablanca:20280622T180000
DTEND;TZID=Africa/Casablanca:20280622T183000
DTSTAMP:20260424T181812
CREATED:20260320T161845Z
LAST-MODIFIED:20260422T102157Z
UID:10088741-1845309600-1845311400@tamraghtlife.com
SUMMARY:🧘‍♂️ 🌊 Flow to Restore with Ruth
DESCRIPTION:Book with Ruth or Ocean Tribe
URL:https://tamraghtlife.com/event/class-flow-to-restore-with-ruth/2028-06-22/
LOCATION:Ocean Tribe\, Imouran Beach\, Tamraght\, 80023\, Morocco
CATEGORIES:☀️ Tamraght Life,❤️ Mindful Tamraght,🧘 Yoga
ATTACH;FMTTYPE=image/png:https://tamraghtlife.com/wp-content/uploads/2026/01/Design-sans-titre-2.png
END:VEVENT
BEGIN:VEVENT
DTSTART;TZID=Africa/Casablanca:20280627T180000
DTEND;TZID=Africa/Casablanca:20280627T183000
DTSTAMP:20260424T181812
CREATED:20260320T161845Z
LAST-MODIFIED:20260422T102157Z
UID:10088742-1845741600-1845743400@tamraghtlife.com
SUMMARY:🧘‍♂️ 🌊 Flow to Restore with Ruth
DESCRIPTION:Book with Ruth or Ocean Tribe
URL:https://tamraghtlife.com/event/class-flow-to-restore-with-ruth/2028-06-27/
LOCATION:Ocean Tribe\, Imouran Beach\, Tamraght\, 80023\, Morocco
CATEGORIES:☀️ Tamraght Life,❤️ Mindful Tamraght,🧘 Yoga
ATTACH;FMTTYPE=image/png:https://tamraghtlife.com/wp-content/uploads/2026/01/Design-sans-titre-2.png
END:VEVENT
BEGIN:VEVENT
DTSTART;TZID=Africa/Casablanca:20280629T180000
DTEND;TZID=Africa/Casablanca:20280629T183000
DTSTAMP:20260424T181812
CREATED:20260320T161845Z
LAST-MODIFIED:20260422T102157Z
UID:10088743-1845914400-1845916200@tamraghtlife.com
SUMMARY:🧘‍♂️ 🌊 Flow to Restore with Ruth
DESCRIPTION:Book with Ruth or Ocean Tribe
URL:https://tamraghtlife.com/event/class-flow-to-restore-with-ruth/2028-06-29/
LOCATION:Ocean Tribe\, Imouran Beach\, Tamraght\, 80023\, Morocco
CATEGORIES:☀️ Tamraght Life,❤️ Mindful Tamraght,🧘 Yoga
ATTACH;FMTTYPE=image/png:https://tamraghtlife.com/wp-content/uploads/2026/01/Design-sans-titre-2.png
END:VEVENT
BEGIN:VEVENT
DTSTART;TZID=Africa/Casablanca:20280704T180000
DTEND;TZID=Africa/Casablanca:20280704T183000
DTSTAMP:20260424T181812
CREATED:20260320T161845Z
LAST-MODIFIED:20260422T102157Z
UID:10088744-1846346400-1846348200@tamraghtlife.com
SUMMARY:🧘‍♂️ 🌊 Flow to Restore with Ruth
DESCRIPTION:Book with Ruth or Ocean Tribe
URL:https://tamraghtlife.com/event/class-flow-to-restore-with-ruth/2028-07-04/
LOCATION:Ocean Tribe\, Imouran Beach\, Tamraght\, 80023\, Morocco
CATEGORIES:☀️ Tamraght Life,❤️ Mindful Tamraght,🧘 Yoga
ATTACH;FMTTYPE=image/png:https://tamraghtlife.com/wp-content/uploads/2026/01/Design-sans-titre-2.png
END:VEVENT
BEGIN:VEVENT
DTSTART;TZID=Africa/Casablanca:20280706T180000
DTEND;TZID=Africa/Casablanca:20280706T183000
DTSTAMP:20260424T181812
CREATED:20260320T161845Z
LAST-MODIFIED:20260422T102157Z
UID:10088745-1846519200-1846521000@tamraghtlife.com
SUMMARY:🧘‍♂️ 🌊 Flow to Restore with Ruth
DESCRIPTION:Book with Ruth or Ocean Tribe
URL:https://tamraghtlife.com/event/class-flow-to-restore-with-ruth/2028-07-06/
LOCATION:Ocean Tribe\, Imouran Beach\, Tamraght\, 80023\, Morocco
CATEGORIES:☀️ Tamraght Life,❤️ Mindful Tamraght,🧘 Yoga
ATTACH;FMTTYPE=image/png:https://tamraghtlife.com/wp-content/uploads/2026/01/Design-sans-titre-2.png
END:VEVENT
BEGIN:VEVENT
DTSTART;TZID=Africa/Casablanca:20280711T180000
DTEND;TZID=Africa/Casablanca:20280711T183000
DTSTAMP:20260424T181812
CREATED:20260320T161845Z
LAST-MODIFIED:20260422T102157Z
UID:10088746-1846951200-1846953000@tamraghtlife.com
SUMMARY:🧘‍♂️ 🌊 Flow to Restore with Ruth
DESCRIPTION:Book with Ruth or Ocean Tribe
URL:https://tamraghtlife.com/event/class-flow-to-restore-with-ruth/2028-07-11/
LOCATION:Ocean Tribe\, Imouran Beach\, Tamraght\, 80023\, Morocco
CATEGORIES:☀️ Tamraght Life,❤️ Mindful Tamraght,🧘 Yoga
ATTACH;FMTTYPE=image/png:https://tamraghtlife.com/wp-content/uploads/2026/01/Design-sans-titre-2.png
END:VEVENT
BEGIN:VEVENT
DTSTART;TZID=Africa/Casablanca:20280713T180000
DTEND;TZID=Africa/Casablanca:20280713T183000
DTSTAMP:20260424T181812
CREATED:20260320T161845Z
LAST-MODIFIED:20260422T102157Z
UID:10088747-1847124000-1847125800@tamraghtlife.com
SUMMARY:🧘‍♂️ 🌊 Flow to Restore with Ruth
DESCRIPTION:Book with Ruth or Ocean Tribe
URL:https://tamraghtlife.com/event/class-flow-to-restore-with-ruth/2028-07-13/
LOCATION:Ocean Tribe\, Imouran Beach\, Tamraght\, 80023\, Morocco
CATEGORIES:☀️ Tamraght Life,❤️ Mindful Tamraght,🧘 Yoga
ATTACH;FMTTYPE=image/png:https://tamraghtlife.com/wp-content/uploads/2026/01/Design-sans-titre-2.png
END:VEVENT
BEGIN:VEVENT
DTSTART;TZID=Africa/Casablanca:20280718T180000
DTEND;TZID=Africa/Casablanca:20280718T183000
DTSTAMP:20260424T181812
CREATED:20260320T161845Z
LAST-MODIFIED:20260422T102157Z
UID:10088748-1847556000-1847557800@tamraghtlife.com
SUMMARY:🧘‍♂️ 🌊 Flow to Restore with Ruth
DESCRIPTION:Book with Ruth or Ocean Tribe
URL:https://tamraghtlife.com/event/class-flow-to-restore-with-ruth/2028-07-18/
LOCATION:Ocean Tribe\, Imouran Beach\, Tamraght\, 80023\, Morocco
CATEGORIES:☀️ Tamraght Life,❤️ Mindful Tamraght,🧘 Yoga
ATTACH;FMTTYPE=image/png:https://tamraghtlife.com/wp-content/uploads/2026/01/Design-sans-titre-2.png
END:VEVENT
BEGIN:VEVENT
DTSTART;TZID=Africa/Casablanca:20280720T180000
DTEND;TZID=Africa/Casablanca:20280720T183000
DTSTAMP:20260424T181812
CREATED:20260320T161845Z
LAST-MODIFIED:20260422T102157Z
UID:10088749-1847728800-1847730600@tamraghtlife.com
SUMMARY:🧘‍♂️ 🌊 Flow to Restore with Ruth
DESCRIPTION:Book with Ruth or Ocean Tribe
URL:https://tamraghtlife.com/event/class-flow-to-restore-with-ruth/2028-07-20/
LOCATION:Ocean Tribe\, Imouran Beach\, Tamraght\, 80023\, Morocco
CATEGORIES:☀️ Tamraght Life,❤️ Mindful Tamraght,🧘 Yoga
ATTACH;FMTTYPE=image/png:https://tamraghtlife.com/wp-content/uploads/2026/01/Design-sans-titre-2.png
END:VEVENT
BEGIN:VEVENT
DTSTART;TZID=Africa/Casablanca:20280725T180000
DTEND;TZID=Africa/Casablanca:20280725T183000
DTSTAMP:20260424T181812
CREATED:20260320T161845Z
LAST-MODIFIED:20260422T102157Z
UID:10088750-1848160800-1848162600@tamraghtlife.com
SUMMARY:🧘‍♂️ 🌊 Flow to Restore with Ruth
DESCRIPTION:Book with Ruth or Ocean Tribe
URL:https://tamraghtlife.com/event/class-flow-to-restore-with-ruth/2028-07-25/
LOCATION:Ocean Tribe\, Imouran Beach\, Tamraght\, 80023\, Morocco
CATEGORIES:☀️ Tamraght Life,❤️ Mindful Tamraght,🧘 Yoga
ATTACH;FMTTYPE=image/png:https://tamraghtlife.com/wp-content/uploads/2026/01/Design-sans-titre-2.png
END:VEVENT
BEGIN:VEVENT
DTSTART;TZID=Africa/Casablanca:20280727T180000
DTEND;TZID=Africa/Casablanca:20280727T183000
DTSTAMP:20260424T181812
CREATED:20260320T161845Z
LAST-MODIFIED:20260422T102157Z
UID:10088751-1848333600-1848335400@tamraghtlife.com
SUMMARY:🧘‍♂️ 🌊 Flow to Restore with Ruth
DESCRIPTION:Book with Ruth or Ocean Tribe
URL:https://tamraghtlife.com/event/class-flow-to-restore-with-ruth/2028-07-27/
LOCATION:Ocean Tribe\, Imouran Beach\, Tamraght\, 80023\, Morocco
CATEGORIES:☀️ Tamraght Life,❤️ Mindful Tamraght,🧘 Yoga
ATTACH;FMTTYPE=image/png:https://tamraghtlife.com/wp-content/uploads/2026/01/Design-sans-titre-2.png
END:VEVENT
BEGIN:VEVENT
DTSTART;TZID=Africa/Casablanca:20280801T180000
DTEND;TZID=Africa/Casablanca:20280801T183000
DTSTAMP:20260424T181812
CREATED:20260320T161845Z
LAST-MODIFIED:20260422T102157Z
UID:10088752-1848765600-1848767400@tamraghtlife.com
SUMMARY:🧘‍♂️ 🌊 Flow to Restore with Ruth
DESCRIPTION:Book with Ruth or Ocean Tribe
URL:https://tamraghtlife.com/event/class-flow-to-restore-with-ruth/2028-08-01/
LOCATION:Ocean Tribe\, Imouran Beach\, Tamraght\, 80023\, Morocco
CATEGORIES:☀️ Tamraght Life,❤️ Mindful Tamraght,🧘 Yoga
ATTACH;FMTTYPE=image/png:https://tamraghtlife.com/wp-content/uploads/2026/01/Design-sans-titre-2.png
END:VEVENT
BEGIN:VEVENT
DTSTART;TZID=Africa/Casablanca:20280803T180000
DTEND;TZID=Africa/Casablanca:20280803T183000
DTSTAMP:20260424T181812
CREATED:20260320T161845Z
LAST-MODIFIED:20260422T102157Z
UID:10088753-1848938400-1848940200@tamraghtlife.com
SUMMARY:🧘‍♂️ 🌊 Flow to Restore with Ruth
DESCRIPTION:Book with Ruth or Ocean Tribe
URL:https://tamraghtlife.com/event/class-flow-to-restore-with-ruth/2028-08-03/
LOCATION:Ocean Tribe\, Imouran Beach\, Tamraght\, 80023\, Morocco
CATEGORIES:☀️ Tamraght Life,❤️ Mindful Tamraght,🧘 Yoga
ATTACH;FMTTYPE=image/png:https://tamraghtlife.com/wp-content/uploads/2026/01/Design-sans-titre-2.png
END:VEVENT
BEGIN:VEVENT
DTSTART;TZID=Africa/Casablanca:20280808T180000
DTEND;TZID=Africa/Casablanca:20280808T183000
DTSTAMP:20260424T181812
CREATED:20260320T161845Z
LAST-MODIFIED:20260422T102157Z
UID:10088754-1849370400-1849372200@tamraghtlife.com
SUMMARY:🧘‍♂️ 🌊 Flow to Restore with Ruth
DESCRIPTION:Book with Ruth or Ocean Tribe
URL:https://tamraghtlife.com/event/class-flow-to-restore-with-ruth/2028-08-08/
LOCATION:Ocean Tribe\, Imouran Beach\, Tamraght\, 80023\, Morocco
CATEGORIES:☀️ Tamraght Life,❤️ Mindful Tamraght,🧘 Yoga
ATTACH;FMTTYPE=image/png:https://tamraghtlife.com/wp-content/uploads/2026/01/Design-sans-titre-2.png
END:VEVENT
BEGIN:VEVENT
DTSTART;TZID=Africa/Casablanca:20280810T180000
DTEND;TZID=Africa/Casablanca:20280810T183000
DTSTAMP:20260424T181812
CREATED:20260320T161845Z
LAST-MODIFIED:20260422T102157Z
UID:10088755-1849543200-1849545000@tamraghtlife.com
SUMMARY:🧘‍♂️ 🌊 Flow to Restore with Ruth
DESCRIPTION:Book with Ruth or Ocean Tribe
URL:https://tamraghtlife.com/event/class-flow-to-restore-with-ruth/2028-08-10/
LOCATION:Ocean Tribe\, Imouran Beach\, Tamraght\, 80023\, Morocco
CATEGORIES:☀️ Tamraght Life,❤️ Mindful Tamraght,🧘 Yoga
ATTACH;FMTTYPE=image/png:https://tamraghtlife.com/wp-content/uploads/2026/01/Design-sans-titre-2.png
END:VEVENT
END:VCALENDAR