BEGIN:VCALENDAR
VERSION:2.0
PRODID:-//tamraghtlife.com - ECPv6.15.20//NONSGML v1.0//EN
CALSCALE:GREGORIAN
METHOD:PUBLISH
X-WR-CALNAME:tamraghtlife.com
X-ORIGINAL-URL:https://tamraghtlife.com
X-WR-CALDESC:Events for tamraghtlife.com
REFRESH-INTERVAL;VALUE=DURATION:PT1H
X-Robots-Tag:noindex
X-PUBLISHED-TTL:PT1H
BEGIN:VTIMEZONE
TZID:Africa/Casablanca
BEGIN:DAYLIGHT
TZOFFSETFROM:+0100
TZOFFSETTO:+0000
TZNAME:+00
DTSTART:20240310T020000
END:DAYLIGHT
BEGIN:STANDARD
TZOFFSETFROM:+0000
TZOFFSETTO:+0100
TZNAME:+01
DTSTART:20240414T020000
END:STANDARD
BEGIN:DAYLIGHT
TZOFFSETFROM:+0100
TZOFFSETTO:+0000
TZNAME:+00
DTSTART:20250223T020000
END:DAYLIGHT
BEGIN:STANDARD
TZOFFSETFROM:+0000
TZOFFSETTO:+0100
TZNAME:+01
DTSTART:20250406T020000
END:STANDARD
BEGIN:DAYLIGHT
TZOFFSETFROM:+0100
TZOFFSETTO:+0000
TZNAME:+00
DTSTART:20260215T020000
END:DAYLIGHT
BEGIN:STANDARD
TZOFFSETFROM:+0000
TZOFFSETTO:+0100
TZNAME:+01
DTSTART:20260322T020000
END:STANDARD
END:VTIMEZONE
BEGIN:VEVENT
DTSTART;TZID=Africa/Casablanca:20251122T100000
DTEND;TZID=Africa/Casablanca:20251122T160000
DTSTAMP:20260424T153755
CREATED:20251119T113045Z
LAST-MODIFIED:20251119T114820Z
UID:10009534-1763805600-1763827200@tamraghtlife.com
SUMMARY:ACTIVITY - Brunch Club - Tamraght
DESCRIPTION:TAMRAGHT BRUNCH CLUB – First edition \nJoin us for a slow and inspiring morning combining yoga\, brunch and art in a cozy and creative atmosphere. \nStart the day with a rejuvenating yoga session led by Colette\, followed by a delicious homemade brunch prepared by Keltoum from Red Clay Café. Then\, let your creativity flow with a free art experience guided by Borja. \n✨ A mindful morning to nourish body\, mind and soul.\n💛 Limited to 10 participants – booking and prepayment required.\n💰 400 MAD per person\n📍 Location: Intimate House\, Tamraght
URL:https://tamraghtlife.com/event/activity-brunch-club-tamraght/
LOCATION:Intimate House\, Tamraght\, Tamraght
CATEGORIES:☀️ Tamraght Life,☕ Social,❤️ Mindful Tamraght,🎨 Creative,🤝 Network,🧘 Yoga,🫂 Community
ATTACH;FMTTYPE=image/png:https://tamraghtlife.com/wp-content/uploads/2025/11/Design-sans-titre.png
ORGANIZER;CN="Colette Amaal":MAILTO:colette.yoga.amal@gmail.com
END:VEVENT
END:VCALENDAR