BEGIN:VCALENDAR
VERSION:2.0
PRODID:-//tamraghtlife.com - ECPv6.15.20//NONSGML v1.0//EN
CALSCALE:GREGORIAN
METHOD:PUBLISH
X-WR-CALNAME:tamraghtlife.com
X-ORIGINAL-URL:https://tamraghtlife.com
X-WR-CALDESC:Events for tamraghtlife.com
REFRESH-INTERVAL;VALUE=DURATION:PT1H
X-Robots-Tag:noindex
X-PUBLISHED-TTL:PT1H
BEGIN:VTIMEZONE
TZID:Africa/Casablanca
BEGIN:DAYLIGHT
TZOFFSETFROM:+0100
TZOFFSETTO:+0000
TZNAME:+00
DTSTART:20250223T020000
END:DAYLIGHT
BEGIN:STANDARD
TZOFFSETFROM:+0000
TZOFFSETTO:+0100
TZNAME:+01
DTSTART:20250406T020000
END:STANDARD
BEGIN:DAYLIGHT
TZOFFSETFROM:+0100
TZOFFSETTO:+0000
TZNAME:+00
DTSTART:20260215T020000
END:DAYLIGHT
BEGIN:STANDARD
TZOFFSETFROM:+0000
TZOFFSETTO:+0100
TZNAME:+01
DTSTART:20260322T020000
END:STANDARD
BEGIN:DAYLIGHT
TZOFFSETFROM:+0100
TZOFFSETTO:+0000
TZNAME:+00
DTSTART:20270207T020000
END:DAYLIGHT
BEGIN:STANDARD
TZOFFSETFROM:+0000
TZOFFSETTO:+0100
TZNAME:+01
DTSTART:20270314T020000
END:STANDARD
END:VTIMEZONE
BEGIN:VEVENT
DTSTART;TZID=Africa/Casablanca:20260718T110000
DTEND;TZID=Africa/Casablanca:20260718T120000
DTSTAMP:20260422T173641
CREATED:20260327T081142Z
LAST-MODIFIED:20260422T101643Z
UID:10088267-1784372400-1784376000@tamraghtlife.com
SUMMARY:🧘‍♂️ 🌼 Hatha Flow with Petra
DESCRIPTION:Class 150mad\nPlease contact Kalananda directly for more details\, check availability & book
URL:https://tamraghtlife.com/event/%f0%9f%a7%98%e2%99%82%ef%b8%8f-%f0%9f%8c%bc-black-lotus-yoga-with-petra/2026-07-18/
LOCATION:Kalananda Yoga Studio\, Oued Tamraght rive droite\, Tamraght
CATEGORIES:☀️ Tamraght Life,❤️ Mindful Tamraght,🧘 Yoga
ATTACH;FMTTYPE=image/png:https://tamraghtlife.com/wp-content/uploads/2025/12/Untitled-2-13.png
END:VEVENT
BEGIN:VEVENT
DTSTART;TZID=Africa/Casablanca:20260718T180000
DTEND;TZID=Africa/Casablanca:20260718T190000
DTSTAMP:20260422T173641
CREATED:20260406T070755Z
LAST-MODIFIED:20260413T142000Z
UID:10085853-1784397600-1784401200@tamraghtlife.com
SUMMARY:🧘‍♂️ 🌼 Pilates with Sara
DESCRIPTION:Class 150mad\nPlease contact Kalananda directly for more details\, check availability & book
URL:https://tamraghtlife.com/event/%f0%9f%a7%98%e2%99%82%ef%b8%8f-%f0%9f%8c%bc-pilates-with-sara-2/2026-07-18/
LOCATION:Kalananda Yoga Studio\, Oued Tamraght rive droite\, Tamraght
CATEGORIES:☀️ Tamraght Life,❤️ Mindful Tamraght,🧘 Yoga
ATTACH;FMTTYPE=image/png:https://tamraghtlife.com/wp-content/uploads/2025/12/Untitled-2-13.png
END:VEVENT
BEGIN:VEVENT
DTSTART;TZID=Africa/Casablanca:20260719T110000
DTEND;TZID=Africa/Casablanca:20260719T120000
DTSTAMP:20260422T173641
CREATED:20260106T134054Z
LAST-MODIFIED:20260323T083524Z
UID:10026096-1784458800-1784462400@tamraghtlife.com
SUMMARY:🧘‍♂️ 🌼 Ashtanga Yoga with Petra
DESCRIPTION:Please contact Kalananda directly for more details\, check availability & book
URL:https://tamraghtlife.com/event/class-ashtanga-yoga-with-ata-tamraght-awrir/2026-07-19/
LOCATION:Kalananda Yoga Studio\, Oued Tamraght rive droite\, Tamraght
CATEGORIES:☀️ Tamraght Life,❤️ Mindful Tamraght,🧘 Yoga
ATTACH;FMTTYPE=image/png:https://tamraghtlife.com/wp-content/uploads/2025/12/Untitled-2-13.png
END:VEVENT
BEGIN:VEVENT
DTSTART;TZID=Africa/Casablanca:20260720T120000
DTEND;TZID=Africa/Casablanca:20260720T130000
DTSTAMP:20260422T173641
CREATED:20260204T175502Z
LAST-MODIFIED:20260319T090051Z
UID:10041717-1784548800-1784552400@tamraghtlife.com
SUMMARY:🧘‍♂️ 🌼 Mobility Flow with Stephy
DESCRIPTION:Please contact Kalananda directly for more details\, check availability & book
URL:https://tamraghtlife.com/event/class-mobility-flow-with-stephy-tamraght-awrir/2026-07-20/
LOCATION:Kalananda Yoga Studio\, Oued Tamraght rive droite\, Tamraght
CATEGORIES:☀️ Tamraght Life,❤️ Mindful Tamraght,🧘 Yoga
ATTACH;FMTTYPE=image/png:https://tamraghtlife.com/wp-content/uploads/2025/12/Untitled-2-13.png
END:VEVENT
BEGIN:VEVENT
DTSTART;TZID=Africa/Casablanca:20260720T180000
DTEND;TZID=Africa/Casablanca:20260720T190000
DTSTAMP:20260422T173641
CREATED:20260406T070755Z
LAST-MODIFIED:20260413T142000Z
UID:10086115-1784570400-1784574000@tamraghtlife.com
SUMMARY:🧘‍♂️ 🌼 Pilates with Sara
DESCRIPTION:Class 150mad\nPlease contact Kalananda directly for more details\, check availability & book
URL:https://tamraghtlife.com/event/%f0%9f%a7%98%e2%99%82%ef%b8%8f-%f0%9f%8c%bc-pilates-with-sara-2/2026-07-20/
LOCATION:Kalananda Yoga Studio\, Oued Tamraght rive droite\, Tamraght
CATEGORIES:☀️ Tamraght Life,❤️ Mindful Tamraght,🧘 Yoga
ATTACH;FMTTYPE=image/png:https://tamraghtlife.com/wp-content/uploads/2025/12/Untitled-2-13.png
END:VEVENT
BEGIN:VEVENT
DTSTART;TZID=Africa/Casablanca:20260721T100000
DTEND;TZID=Africa/Casablanca:20260721T110000
DTSTAMP:20260422T173641
CREATED:20260329T170213Z
LAST-MODIFIED:20260329T170213Z
UID:10079499-1784628000-1784631600@tamraghtlife.com
SUMMARY:🧘‍♂️🌼 Slow grounding flow with Taylor
DESCRIPTION:Class 150mad\nPlease contact Kalananda directly for more details\, check availability & book
URL:https://tamraghtlife.com/event/%f0%9f%a7%98%e2%99%82%ef%b8%8f%f0%9f%8c%bc-slow-grounding-flow-with-taylor/2026-07-21/
LOCATION:Kalananda Yoga Studio\, Oued Tamraght rive droite\, Tamraght
CATEGORIES:☀️ Tamraght Life,❤️ Mindful Tamraght,🧘 Yoga
ATTACH;FMTTYPE=image/png:https://tamraghtlife.com/wp-content/uploads/2025/12/Untitled-2-13.png
END:VEVENT
BEGIN:VEVENT
DTSTART;TZID=Africa/Casablanca:20260722T113000
DTEND;TZID=Africa/Casablanca:20260722T123000
DTSTAMP:20260422T173641
CREATED:20260119T084932Z
LAST-MODIFIED:20260413T142144Z
UID:10035072-1784719800-1784723400@tamraghtlife.com
SUMMARY:🧘‍♂️🌼 Slow flow\, breath & meditation with Leah
DESCRIPTION:Price 150mad\nPlease contact Kalananda directly for more details\, check availability & book
URL:https://tamraghtlife.com/event/class-slow-flow-guided-meditation-with-leah-tamraght-awrir/2026-07-22/
LOCATION:Kalananda Yoga Studio\, Oued Tamraght rive droite\, Tamraght
CATEGORIES:☀️ Tamraght Life,❤️ Mindful Tamraght,🧘 Yoga
ATTACH;FMTTYPE=image/png:https://tamraghtlife.com/wp-content/uploads/2025/12/Untitled-2-13.png
END:VEVENT
BEGIN:VEVENT
DTSTART;TZID=Africa/Casablanca:20260723T100000
DTEND;TZID=Africa/Casablanca:20260723T110000
DTSTAMP:20260422T173641
CREATED:20260329T171059Z
LAST-MODIFIED:20260329T171327Z
UID:10080801-1784800800-1784804400@tamraghtlife.com
SUMMARY:🧘‍♂️🌼 Hatha Yoga with Taylor
DESCRIPTION:Class 150mad\nPlease contact Kalananda directly for more details\, check availability & book
URL:https://tamraghtlife.com/event/class-hatha-yoga-with-stephy-tamraght-awrir-2/2026-07-23/
LOCATION:Kalananda Yoga Studio\, Oued Tamraght rive droite\, Tamraght
CATEGORIES:☀️ Tamraght Life,❤️ Mindful Tamraght,🧘 Yoga
ATTACH;FMTTYPE=image/png:https://tamraghtlife.com/wp-content/uploads/2025/12/Untitled-2-13.png
END:VEVENT
BEGIN:VEVENT
DTSTART;TZID=Africa/Casablanca:20260723T120000
DTEND;TZID=Africa/Casablanca:20260723T130000
DTSTAMP:20260422T173641
CREATED:20260329T170441Z
LAST-MODIFIED:20260329T170442Z
UID:10080019-1784808000-1784811600@tamraghtlife.com
SUMMARY:🧘‍♂️ 🌼 Vinyasa Yoga with Petra
DESCRIPTION:Class 150mad\nPlease contact Kalananda directly for more details\, check availability & book
URL:https://tamraghtlife.com/event/%f0%9f%a7%98%e2%99%82%ef%b8%8f-%f0%9f%8c%bc-vinyasa-yoga-with-petra-2/2026-07-23/
LOCATION:Kalananda Yoga Studio\, Oued Tamraght rive droite\, Tamraght
CATEGORIES:☀️ Tamraght Life,❤️ Mindful Tamraght,🧘 Yoga
ATTACH;FMTTYPE=image/png:https://tamraghtlife.com/wp-content/uploads/2025/12/Untitled-2-13.png
END:VEVENT
BEGIN:VEVENT
DTSTART;TZID=Africa/Casablanca:20260723T183000
DTEND;TZID=Africa/Casablanca:20260723T193000
DTSTAMP:20260422T173641
CREATED:20260121T142550Z
LAST-MODIFIED:20260413T142518Z
UID:10086389-1784831400-1784835000@tamraghtlife.com
SUMMARY:🧘‍♂️ 🌼 Yin & Sound Healing with Glenna
DESCRIPTION:Class 150mad\nPlease contact Kalananda directly for more details\, check availability & book
URL:https://tamraghtlife.com/event/class-yin-sound-bath-with-glenna-tamraght-awrir-2/2026-07-23/
LOCATION:Kalananda Yoga Studio\, Oued Tamraght rive droite\, Tamraght
CATEGORIES:☀️ Tamraght Life,❤️ Mindful Tamraght,🧘 Yoga
ATTACH;FMTTYPE=image/png:https://tamraghtlife.com/wp-content/uploads/2025/12/Untitled-2-13.png
END:VEVENT
BEGIN:VEVENT
DTSTART;TZID=Africa/Casablanca:20260724T100000
DTEND;TZID=Africa/Casablanca:20260724T110000
DTSTAMP:20260422T173641
CREATED:20260204T181346Z
LAST-MODIFIED:20260319T080333Z
UID:10047557-1784887200-1784890800@tamraghtlife.com
SUMMARY:🧘‍♂️ 🌼 Vinyasa Yoga with Francoise
DESCRIPTION:Class 150mad\nPlease contact Kalananda directly for more details\, check availability & book
URL:https://tamraghtlife.com/event/class-vinyasa-yoga-with-francoise-tamraght-awrir-3/2026-07-24/
LOCATION:Kalananda Yoga Studio\, Oued Tamraght rive droite\, Tamraght
CATEGORIES:☀️ Tamraght Life,❤️ Mindful Tamraght,🧘 Yoga
ATTACH;FMTTYPE=image/png:https://tamraghtlife.com/wp-content/uploads/2025/12/Untitled-2-13.png
END:VEVENT
BEGIN:VEVENT
DTSTART;TZID=Africa/Casablanca:20260724T180000
DTEND;TZID=Africa/Casablanca:20260724T190000
DTSTAMP:20260422T173641
CREATED:20260406T070245Z
LAST-MODIFIED:20260422T101515Z
UID:10088003-1784916000-1784919600@tamraghtlife.com
SUMMARY:🧘‍♂️ 🌼 Yin Yoga with Taylor
DESCRIPTION:Class 150mad\nPlease contact Kalananda directly for more details\, check availability & book
URL:https://tamraghtlife.com/event/%f0%9f%a7%98%e2%99%82%ef%b8%8f-%f0%9f%8c%bc-prana-presence-flow-with-taylor-2-2/2026-07-24/
LOCATION:Kalananda Yoga Studio\, Oued Tamraght rive droite\, Tamraght
CATEGORIES:☀️ Tamraght Life,❤️ Mindful Tamraght,🧘 Yoga
ATTACH;FMTTYPE=image/png:https://tamraghtlife.com/wp-content/uploads/2025/12/Untitled-2-13.png
END:VEVENT
BEGIN:VEVENT
DTSTART;TZID=Africa/Casablanca:20260725T110000
DTEND;TZID=Africa/Casablanca:20260725T120000
DTSTAMP:20260422T173641
CREATED:20260327T081142Z
LAST-MODIFIED:20260422T101643Z
UID:10088268-1784977200-1784980800@tamraghtlife.com
SUMMARY:🧘‍♂️ 🌼 Hatha Flow with Petra
DESCRIPTION:Class 150mad\nPlease contact Kalananda directly for more details\, check availability & book
URL:https://tamraghtlife.com/event/%f0%9f%a7%98%e2%99%82%ef%b8%8f-%f0%9f%8c%bc-black-lotus-yoga-with-petra/2026-07-25/
LOCATION:Kalananda Yoga Studio\, Oued Tamraght rive droite\, Tamraght
CATEGORIES:☀️ Tamraght Life,❤️ Mindful Tamraght,🧘 Yoga
ATTACH;FMTTYPE=image/png:https://tamraghtlife.com/wp-content/uploads/2025/12/Untitled-2-13.png
END:VEVENT
BEGIN:VEVENT
DTSTART;TZID=Africa/Casablanca:20260725T180000
DTEND;TZID=Africa/Casablanca:20260725T190000
DTSTAMP:20260422T173641
CREATED:20260406T070755Z
LAST-MODIFIED:20260413T142000Z
UID:10085854-1785002400-1785006000@tamraghtlife.com
SUMMARY:🧘‍♂️ 🌼 Pilates with Sara
DESCRIPTION:Class 150mad\nPlease contact Kalananda directly for more details\, check availability & book
URL:https://tamraghtlife.com/event/%f0%9f%a7%98%e2%99%82%ef%b8%8f-%f0%9f%8c%bc-pilates-with-sara-2/2026-07-25/
LOCATION:Kalananda Yoga Studio\, Oued Tamraght rive droite\, Tamraght
CATEGORIES:☀️ Tamraght Life,❤️ Mindful Tamraght,🧘 Yoga
ATTACH;FMTTYPE=image/png:https://tamraghtlife.com/wp-content/uploads/2025/12/Untitled-2-13.png
END:VEVENT
BEGIN:VEVENT
DTSTART;TZID=Africa/Casablanca:20260726T110000
DTEND;TZID=Africa/Casablanca:20260726T120000
DTSTAMP:20260422T173641
CREATED:20260106T134054Z
LAST-MODIFIED:20260323T083524Z
UID:10026097-1785063600-1785067200@tamraghtlife.com
SUMMARY:🧘‍♂️ 🌼 Ashtanga Yoga with Petra
DESCRIPTION:Please contact Kalananda directly for more details\, check availability & book
URL:https://tamraghtlife.com/event/class-ashtanga-yoga-with-ata-tamraght-awrir/2026-07-26/
LOCATION:Kalananda Yoga Studio\, Oued Tamraght rive droite\, Tamraght
CATEGORIES:☀️ Tamraght Life,❤️ Mindful Tamraght,🧘 Yoga
ATTACH;FMTTYPE=image/png:https://tamraghtlife.com/wp-content/uploads/2025/12/Untitled-2-13.png
END:VEVENT
BEGIN:VEVENT
DTSTART;TZID=Africa/Casablanca:20260727T120000
DTEND;TZID=Africa/Casablanca:20260727T130000
DTSTAMP:20260422T173641
CREATED:20260204T175502Z
LAST-MODIFIED:20260319T090051Z
UID:10041718-1785153600-1785157200@tamraghtlife.com
SUMMARY:🧘‍♂️ 🌼 Mobility Flow with Stephy
DESCRIPTION:Please contact Kalananda directly for more details\, check availability & book
URL:https://tamraghtlife.com/event/class-mobility-flow-with-stephy-tamraght-awrir/2026-07-27/
LOCATION:Kalananda Yoga Studio\, Oued Tamraght rive droite\, Tamraght
CATEGORIES:☀️ Tamraght Life,❤️ Mindful Tamraght,🧘 Yoga
ATTACH;FMTTYPE=image/png:https://tamraghtlife.com/wp-content/uploads/2025/12/Untitled-2-13.png
END:VEVENT
BEGIN:VEVENT
DTSTART;TZID=Africa/Casablanca:20260727T180000
DTEND;TZID=Africa/Casablanca:20260727T190000
DTSTAMP:20260422T173641
CREATED:20260406T070755Z
LAST-MODIFIED:20260413T142000Z
UID:10086116-1785175200-1785178800@tamraghtlife.com
SUMMARY:🧘‍♂️ 🌼 Pilates with Sara
DESCRIPTION:Class 150mad\nPlease contact Kalananda directly for more details\, check availability & book
URL:https://tamraghtlife.com/event/%f0%9f%a7%98%e2%99%82%ef%b8%8f-%f0%9f%8c%bc-pilates-with-sara-2/2026-07-27/
LOCATION:Kalananda Yoga Studio\, Oued Tamraght rive droite\, Tamraght
CATEGORIES:☀️ Tamraght Life,❤️ Mindful Tamraght,🧘 Yoga
ATTACH;FMTTYPE=image/png:https://tamraghtlife.com/wp-content/uploads/2025/12/Untitled-2-13.png
END:VEVENT
BEGIN:VEVENT
DTSTART;TZID=Africa/Casablanca:20260728T100000
DTEND;TZID=Africa/Casablanca:20260728T110000
DTSTAMP:20260422T173641
CREATED:20260329T170213Z
LAST-MODIFIED:20260329T170213Z
UID:10079500-1785232800-1785236400@tamraghtlife.com
SUMMARY:🧘‍♂️🌼 Slow grounding flow with Taylor
DESCRIPTION:Class 150mad\nPlease contact Kalananda directly for more details\, check availability & book
URL:https://tamraghtlife.com/event/%f0%9f%a7%98%e2%99%82%ef%b8%8f%f0%9f%8c%bc-slow-grounding-flow-with-taylor/2026-07-28/
LOCATION:Kalananda Yoga Studio\, Oued Tamraght rive droite\, Tamraght
CATEGORIES:☀️ Tamraght Life,❤️ Mindful Tamraght,🧘 Yoga
ATTACH;FMTTYPE=image/png:https://tamraghtlife.com/wp-content/uploads/2025/12/Untitled-2-13.png
END:VEVENT
BEGIN:VEVENT
DTSTART;TZID=Africa/Casablanca:20260729T113000
DTEND;TZID=Africa/Casablanca:20260729T123000
DTSTAMP:20260422T173641
CREATED:20260119T084932Z
LAST-MODIFIED:20260413T142144Z
UID:10035073-1785324600-1785328200@tamraghtlife.com
SUMMARY:🧘‍♂️🌼 Slow flow\, breath & meditation with Leah
DESCRIPTION:Price 150mad\nPlease contact Kalananda directly for more details\, check availability & book
URL:https://tamraghtlife.com/event/class-slow-flow-guided-meditation-with-leah-tamraght-awrir/2026-07-29/
LOCATION:Kalananda Yoga Studio\, Oued Tamraght rive droite\, Tamraght
CATEGORIES:☀️ Tamraght Life,❤️ Mindful Tamraght,🧘 Yoga
ATTACH;FMTTYPE=image/png:https://tamraghtlife.com/wp-content/uploads/2025/12/Untitled-2-13.png
END:VEVENT
BEGIN:VEVENT
DTSTART;TZID=Africa/Casablanca:20260730T100000
DTEND;TZID=Africa/Casablanca:20260730T110000
DTSTAMP:20260422T173641
CREATED:20260329T171059Z
LAST-MODIFIED:20260329T171327Z
UID:10080802-1785405600-1785409200@tamraghtlife.com
SUMMARY:🧘‍♂️🌼 Hatha Yoga with Taylor
DESCRIPTION:Class 150mad\nPlease contact Kalananda directly for more details\, check availability & book
URL:https://tamraghtlife.com/event/class-hatha-yoga-with-stephy-tamraght-awrir-2/2026-07-30/
LOCATION:Kalananda Yoga Studio\, Oued Tamraght rive droite\, Tamraght
CATEGORIES:☀️ Tamraght Life,❤️ Mindful Tamraght,🧘 Yoga
ATTACH;FMTTYPE=image/png:https://tamraghtlife.com/wp-content/uploads/2025/12/Untitled-2-13.png
END:VEVENT
BEGIN:VEVENT
DTSTART;TZID=Africa/Casablanca:20260730T120000
DTEND;TZID=Africa/Casablanca:20260730T130000
DTSTAMP:20260422T173641
CREATED:20260329T170441Z
LAST-MODIFIED:20260329T170442Z
UID:10080020-1785412800-1785416400@tamraghtlife.com
SUMMARY:🧘‍♂️ 🌼 Vinyasa Yoga with Petra
DESCRIPTION:Class 150mad\nPlease contact Kalananda directly for more details\, check availability & book
URL:https://tamraghtlife.com/event/%f0%9f%a7%98%e2%99%82%ef%b8%8f-%f0%9f%8c%bc-vinyasa-yoga-with-petra-2/2026-07-30/
LOCATION:Kalananda Yoga Studio\, Oued Tamraght rive droite\, Tamraght
CATEGORIES:☀️ Tamraght Life,❤️ Mindful Tamraght,🧘 Yoga
ATTACH;FMTTYPE=image/png:https://tamraghtlife.com/wp-content/uploads/2025/12/Untitled-2-13.png
END:VEVENT
BEGIN:VEVENT
DTSTART;TZID=Africa/Casablanca:20260730T183000
DTEND;TZID=Africa/Casablanca:20260730T193000
DTSTAMP:20260422T173641
CREATED:20260121T142550Z
LAST-MODIFIED:20260413T142518Z
UID:10086390-1785436200-1785439800@tamraghtlife.com
SUMMARY:🧘‍♂️ 🌼 Yin & Sound Healing with Glenna
DESCRIPTION:Class 150mad\nPlease contact Kalananda directly for more details\, check availability & book
URL:https://tamraghtlife.com/event/class-yin-sound-bath-with-glenna-tamraght-awrir-2/2026-07-30/
LOCATION:Kalananda Yoga Studio\, Oued Tamraght rive droite\, Tamraght
CATEGORIES:☀️ Tamraght Life,❤️ Mindful Tamraght,🧘 Yoga
ATTACH;FMTTYPE=image/png:https://tamraghtlife.com/wp-content/uploads/2025/12/Untitled-2-13.png
END:VEVENT
BEGIN:VEVENT
DTSTART;TZID=Africa/Casablanca:20260731T100000
DTEND;TZID=Africa/Casablanca:20260731T110000
DTSTAMP:20260422T173641
CREATED:20260204T181346Z
LAST-MODIFIED:20260319T080333Z
UID:10047558-1785492000-1785495600@tamraghtlife.com
SUMMARY:🧘‍♂️ 🌼 Vinyasa Yoga with Francoise
DESCRIPTION:Class 150mad\nPlease contact Kalananda directly for more details\, check availability & book
URL:https://tamraghtlife.com/event/class-vinyasa-yoga-with-francoise-tamraght-awrir-3/2026-07-31/
LOCATION:Kalananda Yoga Studio\, Oued Tamraght rive droite\, Tamraght
CATEGORIES:☀️ Tamraght Life,❤️ Mindful Tamraght,🧘 Yoga
ATTACH;FMTTYPE=image/png:https://tamraghtlife.com/wp-content/uploads/2025/12/Untitled-2-13.png
END:VEVENT
BEGIN:VEVENT
DTSTART;TZID=Africa/Casablanca:20260731T180000
DTEND;TZID=Africa/Casablanca:20260731T190000
DTSTAMP:20260422T173641
CREATED:20260406T070245Z
LAST-MODIFIED:20260422T101515Z
UID:10088004-1785520800-1785524400@tamraghtlife.com
SUMMARY:🧘‍♂️ 🌼 Yin Yoga with Taylor
DESCRIPTION:Class 150mad\nPlease contact Kalananda directly for more details\, check availability & book
URL:https://tamraghtlife.com/event/%f0%9f%a7%98%e2%99%82%ef%b8%8f-%f0%9f%8c%bc-prana-presence-flow-with-taylor-2-2/2026-07-31/
LOCATION:Kalananda Yoga Studio\, Oued Tamraght rive droite\, Tamraght
CATEGORIES:☀️ Tamraght Life,❤️ Mindful Tamraght,🧘 Yoga
ATTACH;FMTTYPE=image/png:https://tamraghtlife.com/wp-content/uploads/2025/12/Untitled-2-13.png
END:VEVENT
BEGIN:VEVENT
DTSTART;TZID=Africa/Casablanca:20260801T110000
DTEND;TZID=Africa/Casablanca:20260801T120000
DTSTAMP:20260422T173641
CREATED:20260327T081142Z
LAST-MODIFIED:20260422T101643Z
UID:10088269-1785582000-1785585600@tamraghtlife.com
SUMMARY:🧘‍♂️ 🌼 Hatha Flow with Petra
DESCRIPTION:Class 150mad\nPlease contact Kalananda directly for more details\, check availability & book
URL:https://tamraghtlife.com/event/%f0%9f%a7%98%e2%99%82%ef%b8%8f-%f0%9f%8c%bc-black-lotus-yoga-with-petra/2026-08-01/
LOCATION:Kalananda Yoga Studio\, Oued Tamraght rive droite\, Tamraght
CATEGORIES:☀️ Tamraght Life,❤️ Mindful Tamraght,🧘 Yoga
ATTACH;FMTTYPE=image/png:https://tamraghtlife.com/wp-content/uploads/2025/12/Untitled-2-13.png
END:VEVENT
BEGIN:VEVENT
DTSTART;TZID=Africa/Casablanca:20260801T180000
DTEND;TZID=Africa/Casablanca:20260801T190000
DTSTAMP:20260422T173641
CREATED:20260406T070755Z
LAST-MODIFIED:20260413T142000Z
UID:10085855-1785607200-1785610800@tamraghtlife.com
SUMMARY:🧘‍♂️ 🌼 Pilates with Sara
DESCRIPTION:Class 150mad\nPlease contact Kalananda directly for more details\, check availability & book
URL:https://tamraghtlife.com/event/%f0%9f%a7%98%e2%99%82%ef%b8%8f-%f0%9f%8c%bc-pilates-with-sara-2/2026-08-01/
LOCATION:Kalananda Yoga Studio\, Oued Tamraght rive droite\, Tamraght
CATEGORIES:☀️ Tamraght Life,❤️ Mindful Tamraght,🧘 Yoga
ATTACH;FMTTYPE=image/png:https://tamraghtlife.com/wp-content/uploads/2025/12/Untitled-2-13.png
END:VEVENT
BEGIN:VEVENT
DTSTART;TZID=Africa/Casablanca:20260802T110000
DTEND;TZID=Africa/Casablanca:20260802T120000
DTSTAMP:20260422T173641
CREATED:20260106T134054Z
LAST-MODIFIED:20260323T083524Z
UID:10026098-1785668400-1785672000@tamraghtlife.com
SUMMARY:🧘‍♂️ 🌼 Ashtanga Yoga with Petra
DESCRIPTION:Please contact Kalananda directly for more details\, check availability & book
URL:https://tamraghtlife.com/event/class-ashtanga-yoga-with-ata-tamraght-awrir/2026-08-02/
LOCATION:Kalananda Yoga Studio\, Oued Tamraght rive droite\, Tamraght
CATEGORIES:☀️ Tamraght Life,❤️ Mindful Tamraght,🧘 Yoga
ATTACH;FMTTYPE=image/png:https://tamraghtlife.com/wp-content/uploads/2025/12/Untitled-2-13.png
END:VEVENT
BEGIN:VEVENT
DTSTART;TZID=Africa/Casablanca:20260803T120000
DTEND;TZID=Africa/Casablanca:20260803T130000
DTSTAMP:20260422T173641
CREATED:20260204T175502Z
LAST-MODIFIED:20260319T090051Z
UID:10041719-1785758400-1785762000@tamraghtlife.com
SUMMARY:🧘‍♂️ 🌼 Mobility Flow with Stephy
DESCRIPTION:Please contact Kalananda directly for more details\, check availability & book
URL:https://tamraghtlife.com/event/class-mobility-flow-with-stephy-tamraght-awrir/2026-08-03/
LOCATION:Kalananda Yoga Studio\, Oued Tamraght rive droite\, Tamraght
CATEGORIES:☀️ Tamraght Life,❤️ Mindful Tamraght,🧘 Yoga
ATTACH;FMTTYPE=image/png:https://tamraghtlife.com/wp-content/uploads/2025/12/Untitled-2-13.png
END:VEVENT
BEGIN:VEVENT
DTSTART;TZID=Africa/Casablanca:20260803T180000
DTEND;TZID=Africa/Casablanca:20260803T190000
DTSTAMP:20260422T173641
CREATED:20260406T070755Z
LAST-MODIFIED:20260413T142000Z
UID:10086117-1785780000-1785783600@tamraghtlife.com
SUMMARY:🧘‍♂️ 🌼 Pilates with Sara
DESCRIPTION:Class 150mad\nPlease contact Kalananda directly for more details\, check availability & book
URL:https://tamraghtlife.com/event/%f0%9f%a7%98%e2%99%82%ef%b8%8f-%f0%9f%8c%bc-pilates-with-sara-2/2026-08-03/
LOCATION:Kalananda Yoga Studio\, Oued Tamraght rive droite\, Tamraght
CATEGORIES:☀️ Tamraght Life,❤️ Mindful Tamraght,🧘 Yoga
ATTACH;FMTTYPE=image/png:https://tamraghtlife.com/wp-content/uploads/2025/12/Untitled-2-13.png
END:VEVENT
BEGIN:VEVENT
DTSTART;TZID=Africa/Casablanca:20260804T100000
DTEND;TZID=Africa/Casablanca:20260804T110000
DTSTAMP:20260422T173641
CREATED:20260329T170213Z
LAST-MODIFIED:20260329T170213Z
UID:10079501-1785837600-1785841200@tamraghtlife.com
SUMMARY:🧘‍♂️🌼 Slow grounding flow with Taylor
DESCRIPTION:Class 150mad\nPlease contact Kalananda directly for more details\, check availability & book
URL:https://tamraghtlife.com/event/%f0%9f%a7%98%e2%99%82%ef%b8%8f%f0%9f%8c%bc-slow-grounding-flow-with-taylor/2026-08-04/
LOCATION:Kalananda Yoga Studio\, Oued Tamraght rive droite\, Tamraght
CATEGORIES:☀️ Tamraght Life,❤️ Mindful Tamraght,🧘 Yoga
ATTACH;FMTTYPE=image/png:https://tamraghtlife.com/wp-content/uploads/2025/12/Untitled-2-13.png
END:VEVENT
END:VCALENDAR